BEGIN:VCALENDAR
VERSION:2.0
PRODID:-//Fayetteville Technical Community College - ECPv6.15.9//NONSGML v1.0//EN
CALSCALE:GREGORIAN
METHOD:PUBLISH
X-ORIGINAL-URL:https://www.faytechcc.edu
X-WR-CALDESC:Events for Fayetteville Technical Community College
REFRESH-INTERVAL;VALUE=DURATION:PT1H
X-Robots-Tag:noindex
X-PUBLISHED-TTL:PT1H
BEGIN:VTIMEZONE
TZID:America/New_York
BEGIN:DAYLIGHT
TZOFFSETFROM:-0500
TZOFFSETTO:-0400
TZNAME:EDT
DTSTART:20250309T070000
END:DAYLIGHT
BEGIN:STANDARD
TZOFFSETFROM:-0400
TZOFFSETTO:-0500
TZNAME:EST
DTSTART:20251102T060000
END:STANDARD
BEGIN:DAYLIGHT
TZOFFSETFROM:-0500
TZOFFSETTO:-0400
TZNAME:EDT
DTSTART:20260308T070000
END:DAYLIGHT
BEGIN:STANDARD
TZOFFSETFROM:-0400
TZOFFSETTO:-0500
TZNAME:EST
DTSTART:20261101T060000
END:STANDARD
BEGIN:DAYLIGHT
TZOFFSETFROM:-0500
TZOFFSETTO:-0400
TZNAME:EDT
DTSTART:20270314T070000
END:DAYLIGHT
BEGIN:STANDARD
TZOFFSETFROM:-0400
TZOFFSETTO:-0500
TZNAME:EST
DTSTART:20271107T060000
END:STANDARD
END:VTIMEZONE
BEGIN:VEVENT
DTSTART;TZID=America/New_York:20260422T110000
DTEND;TZID=America/New_York:20260422T140000
DTSTAMP:20260421T055621
CREATED:20260205T145634Z
LAST-MODIFIED:20260205T145825Z
UID:10004971-1776855600-1776866400@www.faytechcc.edu
SUMMARY:Cape Fear Valley Health Nursing Stop and Talk
DESCRIPTION:Click on the image above to view PDF version.
URL:https://www.faytechcc.edu/event/cape-fear-valley-health-nursing-stop-and-talk/2026-04-22/
LOCATION:Nursing Education & Simulation Center\, 2340 Hull Rd\, Fayetteville\, NC\, 28303\, United States
CATEGORIES:Career Development Center
END:VEVENT
BEGIN:VEVENT
DTSTART;TZID=America/New_York:20260430T110000
DTEND;TZID=America/New_York:20260430T140000
DTSTAMP:20260421T055621
CREATED:20260205T145634Z
LAST-MODIFIED:20260205T145825Z
UID:10004972-1777546800-1777557600@www.faytechcc.edu
SUMMARY:Cape Fear Valley Health Nursing Stop and Talk
DESCRIPTION:Click on the image above to view PDF version.
URL:https://www.faytechcc.edu/event/cape-fear-valley-health-nursing-stop-and-talk/2026-04-30/
LOCATION:Nursing Education & Simulation Center\, 2340 Hull Rd\, Fayetteville\, NC\, 28303\, United States
CATEGORIES:Career Development Center
END:VEVENT
END:VCALENDAR