BEGIN:VCALENDAR
VERSION:2.0
PRODID:-//Fayetteville Technical Community College - ECPv6.15.9//NONSGML v1.0//EN
CALSCALE:GREGORIAN
METHOD:PUBLISH
X-ORIGINAL-URL:https://www.faytechcc.edu
X-WR-CALDESC:Events for Fayetteville Technical Community College
REFRESH-INTERVAL;VALUE=DURATION:PT1H
X-Robots-Tag:noindex
X-PUBLISHED-TTL:PT1H
BEGIN:VTIMEZONE
TZID:America/New_York
BEGIN:DAYLIGHT
TZOFFSETFROM:-0500
TZOFFSETTO:-0400
TZNAME:EDT
DTSTART:20230312T070000
END:DAYLIGHT
BEGIN:STANDARD
TZOFFSETFROM:-0400
TZOFFSETTO:-0500
TZNAME:EST
DTSTART:20231105T060000
END:STANDARD
BEGIN:DAYLIGHT
TZOFFSETFROM:-0500
TZOFFSETTO:-0400
TZNAME:EDT
DTSTART:20240310T070000
END:DAYLIGHT
BEGIN:STANDARD
TZOFFSETFROM:-0400
TZOFFSETTO:-0500
TZNAME:EST
DTSTART:20241103T060000
END:STANDARD
BEGIN:DAYLIGHT
TZOFFSETFROM:-0500
TZOFFSETTO:-0400
TZNAME:EDT
DTSTART:20250309T070000
END:DAYLIGHT
BEGIN:STANDARD
TZOFFSETFROM:-0400
TZOFFSETTO:-0500
TZNAME:EST
DTSTART:20251102T060000
END:STANDARD
BEGIN:DAYLIGHT
TZOFFSETFROM:-0500
TZOFFSETTO:-0400
TZNAME:EDT
DTSTART:20260308T070000
END:DAYLIGHT
BEGIN:STANDARD
TZOFFSETFROM:-0400
TZOFFSETTO:-0500
TZNAME:EST
DTSTART:20261101T060000
END:STANDARD
END:VTIMEZONE
BEGIN:VEVENT
DTSTART;TZID=America/New_York:20251120T090000
DTEND;TZID=America/New_York:20251120T170000
DTSTAMP:20260421T204549
CREATED:20251023T200716Z
LAST-MODIFIED:20251023T200716Z
UID:10003845-1763629200-1763658000@www.faytechcc.edu
SUMMARY:Fall In for Spring 2026 - Register Before the Holidays!
DESCRIPTION:
URL:https://www.faytechcc.edu/event/fall-in-for-spring-2026-register-before-the-holidays/
LOCATION:Liberty Training & Education Center\, 4520 Knox St.\, Fort Liberty\, NC\, 28307\, United States
ORGANIZER;CN="FTCC Military/Veterans Programs":MAILTO:vso@faytechcc.edu
END:VEVENT
BEGIN:VEVENT
DTSTART;TZID=America/New_York:20250127T090000
DTEND;TZID=America/New_York:20250127T130000
DTSTAMP:20260421T204549
CREATED:20250114T140200Z
LAST-MODIFIED:20250114T145123Z
UID:10002385-1737968400-1737982800@www.faytechcc.edu
SUMMARY:Resume Refresh Pop Up Workshop
DESCRIPTION: 
URL:https://www.faytechcc.edu/event/resume-refresh-pop-up-workshop-3/
LOCATION:Liberty Training & Education Center\, 4520 Knox St.\, Fort Liberty\, NC\, 28307\, United States
CATEGORIES:Career Development Center
END:VEVENT
BEGIN:VEVENT
DTSTART;TZID=America/New_York:20241205T090000
DTEND;TZID=America/New_York:20241205T160000
DTSTAMP:20260421T204549
CREATED:20241119T165819Z
LAST-MODIFIED:20241119T165819Z
UID:10002272-1733389200-1733414400@www.faytechcc.edu
SUMMARY:"Spring" into Class Registration
DESCRIPTION:Join Us for One-Stop Enrollment Assistance! \nGet hands-on help with becoming a student and registering for classes — all in one day! Let us guide you through the process step by step. \nWe look forward to seeing you there! \nEvent Details:\n📅 December 5\, 2024\n⏰ 9:00 AM – 4:00 PM\n📍 Liberty Training & Education Center\, 4520 Knox St.\, Bldg 1-3571\, F Wing
URL:https://www.faytechcc.edu/event/spring-into-class-registration/
LOCATION:Liberty Training & Education Center\, 4520 Knox St.\, Fort Liberty\, NC\, 28307\, United States
ORGANIZER;CN="Military/Veterans Services":MAILTO:keyesw@faytechcc.edu
END:VEVENT
BEGIN:VEVENT
DTSTART;TZID=America/New_York:20241125T090000
DTEND;TZID=America/New_York:20241125T130000
DTSTAMP:20260421T204549
CREATED:20241118T142550Z
LAST-MODIFIED:20241118T143154Z
UID:10002269-1732525200-1732539600@www.faytechcc.edu
SUMMARY:Resume Refresh Pop Up Workshop
DESCRIPTION:
URL:https://www.faytechcc.edu/event/resume-refresh-pop-up-workshop-2/
LOCATION:Liberty Training & Education Center\, 4520 Knox St.\, Fort Liberty\, NC\, 28307\, United States
CATEGORIES:Career Development Center
END:VEVENT
BEGIN:VEVENT
DTSTART;TZID=America/New_York:20241125T090000
DTEND;TZID=America/New_York:20241125T090000
DTSTAMP:20260421T204549
CREATED:20241119T165010Z
LAST-MODIFIED:20241119T165010Z
UID:10002271-1732525200-1732525200@www.faytechcc.edu
SUMMARY:2nd Annual Thanksgiving Breakfast
DESCRIPTION:You Are Cordially Invited\nto the Fort Liberty Education Center Thanksgiving Breakfast \nWe warmly welcome all armed forces members\, veterans\, spouses\, and dependent students to join us as we come together to give thanks and show our appreciation for the service and sacrifices of our military community. \nEvent Details:\n📅 November 25\, 2024\n⏰ 9:00 AM\n📍 Liberty Training & Education Center (LTEC)\, 4520 Knox Street\, Bldg 1-3571\, Wing F \nThis is a time to connect\, reflect\, and celebrate the strength and unity of our military family. We look forward to sharing this special occasion with you.
URL:https://www.faytechcc.edu/event/2nd-annual-thanksgiving-breakfast/
LOCATION:Liberty Training & Education Center\, 4520 Knox St.\, Fort Liberty\, NC\, 28307\, United States
ORGANIZER;CN="Liberty Training & Education Center":MAILTO:keyesw@faytechcc.edu
END:VEVENT
BEGIN:VEVENT
DTSTART;TZID=America/New_York:20240930T090000
DTEND;TZID=America/New_York:20240930T130000
DTSTAMP:20260421T204549
CREATED:20240911T131435Z
LAST-MODIFIED:20240911T131628Z
UID:10002014-1727686800-1727701200@www.faytechcc.edu
SUMMARY:Resume Refresh Pop-Up Workshop
DESCRIPTION:
URL:https://www.faytechcc.edu/event/resume-refresh-pop-up-workshop/
LOCATION:Liberty Training & Education Center\, 4520 Knox St.\, Fort Liberty\, NC\, 28307\, United States
CATEGORIES:Career Development Center
END:VEVENT
BEGIN:VEVENT
DTSTART;TZID=America/New_York:20240826T090000
DTEND;TZID=America/New_York:20240826T130000
DTSTAMP:20260421T204549
CREATED:20240814T170517Z
LAST-MODIFIED:20240814T170517Z
UID:10001833-1724662800-1724677200@www.faytechcc.edu
SUMMARY:Resume Workshop at Ft. Liberty
DESCRIPTION:FTCC’s office at Fort Liberty and the FTCC Career Development Center are hosting a Resume Refresh Pop-Up Workshop from 9am-1pm on Monday\, Aug. 26\, at the Liberty Training & Education Center at 4520 Knox St.\, Bldg. 1-3571\, Wing F\, Fort Liberty. \nRefresh your resume. Learn about proper interview attire and undergo interview prep. And learn about employment resources. The workshop is free.
URL:https://www.faytechcc.edu/event/resume-workshop-at-ft-liberty/
LOCATION:Liberty Training & Education Center\, 4520 Knox St.\, Fort Liberty\, NC\, 28307\, United States
CATEGORIES:All American Veterans Center,Career Development Center
END:VEVENT
BEGIN:VEVENT
DTSTART;TZID=America/New_York:20240717T133000
DTEND;TZID=America/New_York:20240717T143000
DTSTAMP:20260421T204549
CREATED:20240702T194346Z
LAST-MODIFIED:20240702T195259Z
UID:10001791-1721223000-1721226600@www.faytechcc.edu
SUMMARY:Free Basic Law Enforcement Training Informational Workshop
DESCRIPTION:If you are interested in Basic Law Enforcement Training (BLET)\, please join us on Wednesday\, July 17th from 1:30 to 2:30 PM at the Fort Liberty Training & Education Center. Please see the informational flyer below for additional information:
URL:https://www.faytechcc.edu/event/free-basic-law-enforcement-training-informational-workshop/
LOCATION:Liberty Training & Education Center\, 4520 Knox St.\, Fort Liberty\, NC\, 28307\, United States
ORGANIZER;CN="FTCC Basic Law Enforcement Training (BLET)":MAILTO:vesty@faytechcc.edu
END:VEVENT
BEGIN:VEVENT
DTSTART;TZID=America/New_York:20240417T133000
DTEND;TZID=America/New_York:20240417T143000
DTSTAMP:20260421T204549
CREATED:20240411T143920Z
LAST-MODIFIED:20240411T143920Z
UID:10001688-1713360600-1713364200@www.faytechcc.edu
SUMMARY:Free Basic Law Enforcement Training (BLET) Informational Workshop
DESCRIPTION:If you are interested in Basic Law Enforcement Training\, there will be a free informational workshop on April 17th from 1:30 pm to 2:30 pm.
URL:https://www.faytechcc.edu/event/free-basic-law-enforcement-training-blet-informational-workshop/
LOCATION:Liberty Training & Education Center\, 4520 Knox St.\, Fort Liberty\, NC\, 28307\, United States
ORGANIZER;CN="FTCC Basic Law Enforcement Training (BLET)":MAILTO:vesty@faytechcc.edu
END:VEVENT
END:VCALENDAR