BEGIN:VCALENDAR
VERSION:2.0
PRODID:-//Fayetteville Technical Community College - ECPv6.15.9//NONSGML v1.0//EN
CALSCALE:GREGORIAN
METHOD:PUBLISH
X-ORIGINAL-URL:https://www.faytechcc.edu
X-WR-CALDESC:Events for Fayetteville Technical Community College
REFRESH-INTERVAL;VALUE=DURATION:PT1H
X-Robots-Tag:noindex
X-PUBLISHED-TTL:PT1H
BEGIN:VTIMEZONE
TZID:America/New_York
BEGIN:DAYLIGHT
TZOFFSETFROM:-0500
TZOFFSETTO:-0400
TZNAME:EDT
DTSTART:20230312T070000
END:DAYLIGHT
BEGIN:STANDARD
TZOFFSETFROM:-0400
TZOFFSETTO:-0500
TZNAME:EST
DTSTART:20231105T060000
END:STANDARD
BEGIN:DAYLIGHT
TZOFFSETFROM:-0500
TZOFFSETTO:-0400
TZNAME:EDT
DTSTART:20240310T070000
END:DAYLIGHT
BEGIN:STANDARD
TZOFFSETFROM:-0400
TZOFFSETTO:-0500
TZNAME:EST
DTSTART:20241103T060000
END:STANDARD
BEGIN:DAYLIGHT
TZOFFSETFROM:-0500
TZOFFSETTO:-0400
TZNAME:EDT
DTSTART:20250309T070000
END:DAYLIGHT
BEGIN:STANDARD
TZOFFSETFROM:-0400
TZOFFSETTO:-0500
TZNAME:EST
DTSTART:20251102T060000
END:STANDARD
BEGIN:DAYLIGHT
TZOFFSETFROM:-0500
TZOFFSETTO:-0400
TZNAME:EDT
DTSTART:20260308T070000
END:DAYLIGHT
BEGIN:STANDARD
TZOFFSETFROM:-0400
TZOFFSETTO:-0500
TZNAME:EST
DTSTART:20261101T060000
END:STANDARD
BEGIN:DAYLIGHT
TZOFFSETFROM:-0500
TZOFFSETTO:-0400
TZNAME:EDT
DTSTART:20270314T070000
END:DAYLIGHT
BEGIN:STANDARD
TZOFFSETFROM:-0400
TZOFFSETTO:-0500
TZNAME:EST
DTSTART:20271107T060000
END:STANDARD
END:VTIMEZONE
BEGIN:VEVENT
DTSTART;TZID=America/New_York:20260417T100000
DTEND;TZID=America/New_York:20260417T100000
DTSTAMP:20260422T153934
CREATED:20260410T115325Z
LAST-MODIFIED:20260410T115325Z
UID:10007154-1776420000-1776420000@www.faytechcc.edu
SUMMARY:CPHS Spring Buddies
DESCRIPTION:Building Connections: CPHS Spring Buddies Program \nJoin us for the CPHS Spring Buddies Program\, a special initiative designed to foster mentorship\, friendship\, and community between our students. This program pairs participants for a day of collaborative activities and social engagement\, helping to build a more inclusive and supportive campus environment. Whether you’re returning or joining for the first time\, come help us bloom this spring through the power of connection! \n📅 Date: Friday\, April 17\, 2026\n⏰ Time: 10:00 AM \n📍 Location: Horace Sisk Gym
URL:https://www.faytechcc.edu/event/cphs-spring-buddies/
LOCATION:Horace Sisk Gymnasium\, Room 801\, 2208 Hull Rd.\, Fayetteville\, NC\, 28303\, United States
CATEGORIES:Cumberland Polytechnic High School,Student Activities
ORGANIZER;CN="Cumberland Polytechnic High School":MAILTO:adamsv@faytechcc.edu
END:VEVENT
BEGIN:VEVENT
DTSTART;TZID=America/New_York:20260416T100000
DTEND;TZID=America/New_York:20260416T100000
DTSTAMP:20260422T153934
CREATED:20260410T114333Z
LAST-MODIFIED:20260410T114333Z
UID:10007153-1776333600-1776333600@www.faytechcc.edu
SUMMARY:Cape Fear HS Academy Graduation
DESCRIPTION:Honor the Graduates! 🎓 \nIt’s time to celebrate! Please join us in recognizing the Cape Fear HS Academy Class of 2026. Let’s come together to cheer on our graduates as they walk across the stage and celebrate their incredible accomplishments. \n📅 Date: April 16\, 2026\n⏰ Time: 10:00 AM\n📍 Location: Horace Sisk Gym
URL:https://www.faytechcc.edu/event/cape-fear-hs-academy-graduation/
LOCATION:Horace Sisk Gymnasium\, Room 801\, 2208 Hull Rd.\, Fayetteville\, NC\, 28303\, United States
CATEGORIES:Community Event,High School Connections
END:VEVENT
BEGIN:VEVENT
DTSTART;TZID=America/New_York:20260413T080000
DTEND;TZID=America/New_York:20260413T170000
DTSTAMP:20260422T153934
CREATED:20260413T124914Z
LAST-MODIFIED:20260413T124914Z
UID:10007165-1776067200-1776099600@www.faytechcc.edu
SUMMARY:FFA Regional Rally
DESCRIPTION:The North Carolina FFA holds regional rallies that feature skills and leadership competitions to prepare high school FFA members for the annual North Carolina FFA State Convention. FTCC hosts the South Central Region Rally. \n📅 Date: April 14\, 2026\n⏰ Time: 08:00 AM – 03:00 PM\n📍 Location: Horace Sisk Gym* \n* Competitions will happen in various locations on campus.
URL:https://www.faytechcc.edu/event/ffa-regional-rally/
LOCATION:Horace Sisk Gymnasium\, Room 801\, 2208 Hull Rd.\, Fayetteville\, NC\, 28303\, United States
CATEGORIES:Community Event
ORGANIZER;CN="Engineering & Applied Technology Department":MAILTO:gibsonp@faytechcc.edu
END:VEVENT
BEGIN:VEVENT
DTSTART;TZID=America/New_York:20241028T110000
DTEND;TZID=America/New_York:20241028T140000
DTSTAMP:20260422T153934
CREATED:20241009T115622Z
LAST-MODIFIED:20241025T160656Z
UID:10002060-1730113200-1730124000@www.faytechcc.edu
SUMMARY:Advising Week Kick Off
DESCRIPTION:Advising Week kicks off today (Monday\, Oct. 28) with free food\, music\, games and more. Join us in the Horace Sisk gym between 11:00 AM and 2:00 PM!
URL:https://www.faytechcc.edu/event/advising-week-kick-off/
LOCATION:Horace Sisk Gymnasium\, Room 801\, 2208 Hull Rd.\, Fayetteville\, NC\, 28303\, United States
ORGANIZER;CN="Academic Advising":MAILTO:dejesusa@faytechcc.edu
END:VEVENT
END:VCALENDAR