BEGIN:VCALENDAR
VERSION:2.0
PRODID:-//Fayetteville Technical Community College - ECPv6.15.9//NONSGML v1.0//EN
CALSCALE:GREGORIAN
METHOD:PUBLISH
X-ORIGINAL-URL:https://www.faytechcc.edu
X-WR-CALDESC:Events for Fayetteville Technical Community College
REFRESH-INTERVAL;VALUE=DURATION:PT1H
X-Robots-Tag:noindex
X-PUBLISHED-TTL:PT1H
BEGIN:VTIMEZONE
TZID:America/New_York
BEGIN:DAYLIGHT
TZOFFSETFROM:-0500
TZOFFSETTO:-0400
TZNAME:EDT
DTSTART:20230312T070000
END:DAYLIGHT
BEGIN:STANDARD
TZOFFSETFROM:-0400
TZOFFSETTO:-0500
TZNAME:EST
DTSTART:20231105T060000
END:STANDARD
BEGIN:DAYLIGHT
TZOFFSETFROM:-0500
TZOFFSETTO:-0400
TZNAME:EDT
DTSTART:20240310T070000
END:DAYLIGHT
BEGIN:STANDARD
TZOFFSETFROM:-0400
TZOFFSETTO:-0500
TZNAME:EST
DTSTART:20241103T060000
END:STANDARD
BEGIN:DAYLIGHT
TZOFFSETFROM:-0500
TZOFFSETTO:-0400
TZNAME:EDT
DTSTART:20250309T070000
END:DAYLIGHT
BEGIN:STANDARD
TZOFFSETFROM:-0400
TZOFFSETTO:-0500
TZNAME:EST
DTSTART:20251102T060000
END:STANDARD
END:VTIMEZONE
BEGIN:VEVENT
DTSTART;TZID=America/New_York:20240828T090000
DTEND;TZID=America/New_York:20240828T180000
DTSTAMP:20260419T051428
CREATED:20240809T210150Z
LAST-MODIFIED:20240809T210150Z
UID:10001821-1724835600-1724868000@www.faytechcc.edu
SUMMARY:CFV Recruitment Office Open House
DESCRIPTION:Cape Fear Valley Health will hold an open house at its recruitment office in the Health Technologies Center on Aug. 27 and Aug. 28 from 9am-6pm. \nThe recruitment office is in Room 146 of HTC.  \nThe open house is open to all students. Cape Fear Valley Health recruiters and hiring managers will be at the open house and stationed around the Fayetteville campus to talk with students and answer questions about employment and scholarship opportunities. Students can also learn about CFVH’s professional development resources. \nStudents who visit the office will receive a gift and a meal voucher. \nCFVH recruiters are on the FTCC campus every weekday\, often holding recruitment and professional development sessions with classes. The hours of the recruitment office vary as a result but the office will hold regular “Walk-In Wednesday” hours every Wednesday from 1-3pm. Students may come by then to discuss employment\, scholarships or professional development or receive application assistance for careers and scholarships. 
URL:https://www.faytechcc.edu/event/cfv-recruitment-office-open-house/2024-08-28/
LOCATION:Health Technologies Center-Room 146
CATEGORIES:Students
ORGANIZER;CN="Cape Fear Valley Health Campus Recruiting Office":MAILTO:esimpson@capefearvalley.com
END:VEVENT
BEGIN:VEVENT
DTSTART;TZID=America/New_York:20240827T090000
DTEND;TZID=America/New_York:20240827T180000
DTSTAMP:20260419T051428
CREATED:20240809T210150Z
LAST-MODIFIED:20240809T210150Z
UID:10001820-1724749200-1724781600@www.faytechcc.edu
SUMMARY:CFV Recruitment Office Open House
DESCRIPTION:Cape Fear Valley Health will hold an open house at its recruitment office in the Health Technologies Center on Aug. 27 and Aug. 28 from 9am-6pm. \nThe recruitment office is in Room 146 of HTC.  \nThe open house is open to all students. Cape Fear Valley Health recruiters and hiring managers will be at the open house and stationed around the Fayetteville campus to talk with students and answer questions about employment and scholarship opportunities. Students can also learn about CFVH’s professional development resources. \nStudents who visit the office will receive a gift and a meal voucher. \nCFVH recruiters are on the FTCC campus every weekday\, often holding recruitment and professional development sessions with classes. The hours of the recruitment office vary as a result but the office will hold regular “Walk-In Wednesday” hours every Wednesday from 1-3pm. Students may come by then to discuss employment\, scholarships or professional development or receive application assistance for careers and scholarships. 
URL:https://www.faytechcc.edu/event/cfv-recruitment-office-open-house/2024-08-27/
LOCATION:Health Technologies Center-Room 146
CATEGORIES:Students
ORGANIZER;CN="Cape Fear Valley Health Campus Recruiting Office":MAILTO:esimpson@capefearvalley.com
END:VEVENT
END:VCALENDAR