BEGIN:VCALENDAR
VERSION:2.0
PRODID:-//Fayetteville Technical Community College - ECPv6.15.9//NONSGML v1.0//EN
CALSCALE:GREGORIAN
METHOD:PUBLISH
X-ORIGINAL-URL:https://www.faytechcc.edu
X-WR-CALDESC:Events for Fayetteville Technical Community College
REFRESH-INTERVAL;VALUE=DURATION:PT1H
X-Robots-Tag:noindex
X-PUBLISHED-TTL:PT1H
BEGIN:VTIMEZONE
TZID:America/New_York
BEGIN:DAYLIGHT
TZOFFSETFROM:-0500
TZOFFSETTO:-0400
TZNAME:EDT
DTSTART:20240310T070000
END:DAYLIGHT
BEGIN:STANDARD
TZOFFSETFROM:-0400
TZOFFSETTO:-0500
TZNAME:EST
DTSTART:20241103T060000
END:STANDARD
BEGIN:DAYLIGHT
TZOFFSETFROM:-0500
TZOFFSETTO:-0400
TZNAME:EDT
DTSTART:20250309T070000
END:DAYLIGHT
BEGIN:STANDARD
TZOFFSETFROM:-0400
TZOFFSETTO:-0500
TZNAME:EST
DTSTART:20251102T060000
END:STANDARD
BEGIN:DAYLIGHT
TZOFFSETFROM:-0500
TZOFFSETTO:-0400
TZNAME:EDT
DTSTART:20260308T070000
END:DAYLIGHT
BEGIN:STANDARD
TZOFFSETFROM:-0400
TZOFFSETTO:-0500
TZNAME:EST
DTSTART:20261101T060000
END:STANDARD
BEGIN:DAYLIGHT
TZOFFSETFROM:-0500
TZOFFSETTO:-0400
TZNAME:EDT
DTSTART:20270314T070000
END:DAYLIGHT
BEGIN:STANDARD
TZOFFSETFROM:-0400
TZOFFSETTO:-0500
TZNAME:EST
DTSTART:20271107T060000
END:STANDARD
END:VTIMEZONE
BEGIN:VEVENT
DTSTART;TZID=America/New_York:20260312T183000
DTEND;TZID=America/New_York:20260312T200000
DTSTAMP:20260423T213744
CREATED:20260116T190423Z
LAST-MODIFIED:20260116T190423Z
UID:10004691-1773340200-1773345600@www.faytechcc.edu
SUMMARY:Ice House Entrepreneurial Mindset Course Series 3 -Week 5
DESCRIPTION:This is the last week of the five-week immersive program designed to help you develop the mindset and habits of successful entrepreneurs through real-world thinking and practical business-building tools. \n📅 Date: Thursday\, March 12\n⏰ Time: 6:30 pm – 8:30 PM\n📍 Location: General Classroom Building (GCB)\, room 224 \nThis class meets every Thursday for five weeks starting on February 12\, 2026. \n 
URL:https://www.faytechcc.edu/event/ice-house-entrepreneurial-mindset-course-series-3-week-5/
LOCATION:General Classroom Building – Room 224\, 2817 Fort Bragg Rd.\, Fayetteville\, NC\, 28303\, United States
CATEGORIES:Entrepreneurship and Small Business
ORGANIZER;CN="FTCC Small Business Center":MAILTO:ftccsbc@faytechcc.edu
END:VEVENT
BEGIN:VEVENT
DTSTART;TZID=America/New_York:20260305T183000
DTEND;TZID=America/New_York:20260305T200000
DTSTAMP:20260423T213744
CREATED:20260116T190323Z
LAST-MODIFIED:20260116T190323Z
UID:10004690-1772735400-1772740800@www.faytechcc.edu
SUMMARY:Ice House Entrepreneurial Mindset Course Series 3 -Week 4
DESCRIPTION:This is week four of the five-week immersive program designed to help you develop the mindset and habits of successful entrepreneurs through real-world thinking and practical business-building tools. \n📅 Date: Thursday\, March 5\n⏰ Time: 6:30 pm – 8:30 PM\n📍 Location: General Classroom Building (GCB)\, room 224 \nThis class meets every Thursday for five weeks starting on February 12\, 2026. \n 
URL:https://www.faytechcc.edu/event/ice-house-entrepreneurial-mindset-course-series-3-week-4/
LOCATION:General Classroom Building – Room 224\, 2817 Fort Bragg Rd.\, Fayetteville\, NC\, 28303\, United States
CATEGORIES:Entrepreneurship and Small Business
ORGANIZER;CN="FTCC Small Business Center":MAILTO:ftccsbc@faytechcc.edu
END:VEVENT
BEGIN:VEVENT
DTSTART;TZID=America/New_York:20260226T183000
DTEND;TZID=America/New_York:20260226T200000
DTSTAMP:20260423T213744
CREATED:20260116T190223Z
LAST-MODIFIED:20260116T190223Z
UID:10004689-1772130600-1772136000@www.faytechcc.edu
SUMMARY:Ice House Entrepreneurial Mindset Course Series 3 -Week 3
DESCRIPTION:This is week three of the five-week immersive program designed to help you develop the mindset and habits of successful entrepreneurs through real-world thinking and practical business-building tools. \n📅 Date: Thursday\, February 26\n⏰ Time: 6:30 pm – 8:30 PM\n📍 Location: General Classroom Building (GCB)\, room 224 \nThis class meets every Thursday for five weeks starting on February 12\, 2026. \n 
URL:https://www.faytechcc.edu/event/ice-house-entrepreneurial-mindset-course-series-3-week-3/
LOCATION:General Classroom Building – Room 224\, 2817 Fort Bragg Rd.\, Fayetteville\, NC\, 28303\, United States
CATEGORIES:Entrepreneurship and Small Business
ORGANIZER;CN="FTCC Small Business Center":MAILTO:ftccsbc@faytechcc.edu
END:VEVENT
BEGIN:VEVENT
DTSTART;TZID=America/New_York:20260219T183000
DTEND;TZID=America/New_York:20260219T200000
DTSTAMP:20260423T213744
CREATED:20260116T190139Z
LAST-MODIFIED:20260116T190139Z
UID:10004688-1771525800-1771531200@www.faytechcc.edu
SUMMARY:Ice House Entrepreneurial Mindset Course Series 3 -Week 2
DESCRIPTION:This is week two of the five-week immersive program designed to help you develop the mindset and habits of successful entrepreneurs through real-world thinking and practical business-building tools. \n📅 Date: Thursday\, February 19\n⏰ Time: 6:30 pm – 8:30 PM\n📍 Location: General Classroom Building (GCB)\, room 224 \nThis class meets every Thursday for five weeks starting on February 12\, 2026. \n 
URL:https://www.faytechcc.edu/event/ice-house-entrepreneurial-mindset-course-series-3-week-2/
LOCATION:General Classroom Building – Room 224\, 2817 Fort Bragg Rd.\, Fayetteville\, NC\, 28303\, United States
CATEGORIES:Entrepreneurship and Small Business
ORGANIZER;CN="FTCC Small Business Center":MAILTO:ftccsbc@faytechcc.edu
END:VEVENT
BEGIN:VEVENT
DTSTART;TZID=America/New_York:20260212T183000
DTEND;TZID=America/New_York:20260212T200000
DTSTAMP:20260423T213744
CREATED:20260116T190029Z
LAST-MODIFIED:20260116T190029Z
UID:10004687-1770921000-1770926400@www.faytechcc.edu
SUMMARY:Ice House Entrepreneurial Mindset Course Series 3 -Week 1
DESCRIPTION:Join this five-week immersive program designed to help you develop the mindset and habits of successful entrepreneurs through real-world thinking and practical business-building tools. \n📅 Date: Thursday\, February 12\n⏰ Time: 6:30 pm – 8:30 PM\n📍 Location: General Classroom Building (GCB)\, room 224 \nThis class meets every Thursday for five weeks starting on February 12\, 2026. \n 
URL:https://www.faytechcc.edu/event/ice-house-entrepreneurial-mindset-course-series-3-week-1/
LOCATION:General Classroom Building – Room 224\, 2817 Fort Bragg Rd.\, Fayetteville\, NC\, 28303\, United States
CATEGORIES:Entrepreneurship and Small Business
ORGANIZER;CN="FTCC Small Business Center":MAILTO:ftccsbc@faytechcc.edu
END:VEVENT
BEGIN:VEVENT
DTSTART;TZID=America/New_York:20250529T183000
DTEND;TZID=America/New_York:20250529T200000
DTSTAMP:20260423T213744
CREATED:20250408T194057Z
LAST-MODIFIED:20250408T194057Z
UID:10002978-1748543400-1748548800@www.faytechcc.edu
SUMMARY:Ice House Entrepreneurship Mindset Program
DESCRIPTION:🚀 Ice House Entrepreneurship Mindset Program\nJoin this 5-week immersive program designed to help you develop the mindset and habits of successful entrepreneurs through real-world thinking and practical business-building tools. \n📅 Date: Every Thursday in May\, starting May 1\, 2025\n⏰ Time: 6:30 PM – 8:00 PM\n💻 Location: General Classroom Building (GCB)\, Room 224 \n✅ Free to attend – just register to join!
URL:https://www.faytechcc.edu/event/ice-house-entrepreneurship-mindset-program/2025-05-29/
LOCATION:General Classroom Building – Room 224\, 2817 Fort Bragg Rd.\, Fayetteville\, NC\, 28303\, United States
ORGANIZER;CN="FTCC Small Business Center":MAILTO:ftccsbc@faytechcc.edu
END:VEVENT
BEGIN:VEVENT
DTSTART;TZID=America/New_York:20250522T183000
DTEND;TZID=America/New_York:20250522T200000
DTSTAMP:20260423T213744
CREATED:20250408T194057Z
LAST-MODIFIED:20250408T194057Z
UID:10002977-1747938600-1747944000@www.faytechcc.edu
SUMMARY:Ice House Entrepreneurship Mindset Program
DESCRIPTION:🚀 Ice House Entrepreneurship Mindset Program\nJoin this 5-week immersive program designed to help you develop the mindset and habits of successful entrepreneurs through real-world thinking and practical business-building tools. \n📅 Date: Every Thursday in May\, starting May 1\, 2025\n⏰ Time: 6:30 PM – 8:00 PM\n💻 Location: General Classroom Building (GCB)\, Room 224 \n✅ Free to attend – just register to join!
URL:https://www.faytechcc.edu/event/ice-house-entrepreneurship-mindset-program/2025-05-22/
LOCATION:General Classroom Building – Room 224\, 2817 Fort Bragg Rd.\, Fayetteville\, NC\, 28303\, United States
ORGANIZER;CN="FTCC Small Business Center":MAILTO:ftccsbc@faytechcc.edu
END:VEVENT
BEGIN:VEVENT
DTSTART;TZID=America/New_York:20250515T183000
DTEND;TZID=America/New_York:20250515T200000
DTSTAMP:20260423T213744
CREATED:20250408T194057Z
LAST-MODIFIED:20250408T194057Z
UID:10002976-1747333800-1747339200@www.faytechcc.edu
SUMMARY:Ice House Entrepreneurship Mindset Program
DESCRIPTION:🚀 Ice House Entrepreneurship Mindset Program\nJoin this 5-week immersive program designed to help you develop the mindset and habits of successful entrepreneurs through real-world thinking and practical business-building tools. \n📅 Date: Every Thursday in May\, starting May 1\, 2025\n⏰ Time: 6:30 PM – 8:00 PM\n💻 Location: General Classroom Building (GCB)\, Room 224 \n✅ Free to attend – just register to join!
URL:https://www.faytechcc.edu/event/ice-house-entrepreneurship-mindset-program/2025-05-15/
LOCATION:General Classroom Building – Room 224\, 2817 Fort Bragg Rd.\, Fayetteville\, NC\, 28303\, United States
ORGANIZER;CN="FTCC Small Business Center":MAILTO:ftccsbc@faytechcc.edu
END:VEVENT
BEGIN:VEVENT
DTSTART;TZID=America/New_York:20250508T183000
DTEND;TZID=America/New_York:20250508T200000
DTSTAMP:20260423T213744
CREATED:20250408T194057Z
LAST-MODIFIED:20250408T194057Z
UID:10002975-1746729000-1746734400@www.faytechcc.edu
SUMMARY:Ice House Entrepreneurship Mindset Program
DESCRIPTION:🚀 Ice House Entrepreneurship Mindset Program\nJoin this 5-week immersive program designed to help you develop the mindset and habits of successful entrepreneurs through real-world thinking and practical business-building tools. \n📅 Date: Every Thursday in May\, starting May 1\, 2025\n⏰ Time: 6:30 PM – 8:00 PM\n💻 Location: General Classroom Building (GCB)\, Room 224 \n✅ Free to attend – just register to join!
URL:https://www.faytechcc.edu/event/ice-house-entrepreneurship-mindset-program/2025-05-08/
LOCATION:General Classroom Building – Room 224\, 2817 Fort Bragg Rd.\, Fayetteville\, NC\, 28303\, United States
ORGANIZER;CN="FTCC Small Business Center":MAILTO:ftccsbc@faytechcc.edu
END:VEVENT
BEGIN:VEVENT
DTSTART;TZID=America/New_York:20250503T100000
DTEND;TZID=America/New_York:20250503T120000
DTSTAMP:20260423T213744
CREATED:20250408T194457Z
LAST-MODIFIED:20250408T194457Z
UID:10002979-1746266400-1746273600@www.faytechcc.edu
SUMMARY:Social Media Strategy for Business Growth
DESCRIPTION:📱 Social Media Strategy for Business Growth\nTake control of your social presence! In this engaging session\, you’ll learn effective tactics to boost visibility\, connect with your audience\, and turn followers into customers using today’s top platforms. \n📅 Date: Saturday\, May 3\, 2025\n⏰ Time: 10:00 AM – 12:00 PM\n📍 Location: General Classroom Building (GCB)\, Room 224\n🎟️ Format: In-person workshop \n✅ Perfect for small business owners\, entrepreneurs\, and anyone ready to level up their online presence!
URL:https://www.faytechcc.edu/event/social-media-strategy-for-business-growth/
LOCATION:General Classroom Building – Room 224\, 2817 Fort Bragg Rd.\, Fayetteville\, NC\, 28303\, United States
ORGANIZER;CN="FTCC Small Business Center":MAILTO:ftccsbc@faytechcc.edu
END:VEVENT
BEGIN:VEVENT
DTSTART;TZID=America/New_York:20250501T183000
DTEND;TZID=America/New_York:20250501T200000
DTSTAMP:20260423T213744
CREATED:20250408T194057Z
LAST-MODIFIED:20250408T194057Z
UID:10002974-1746124200-1746129600@www.faytechcc.edu
SUMMARY:Ice House Entrepreneurship Mindset Program
DESCRIPTION:🚀 Ice House Entrepreneurship Mindset Program\nJoin this 5-week immersive program designed to help you develop the mindset and habits of successful entrepreneurs through real-world thinking and practical business-building tools. \n📅 Date: Every Thursday in May\, starting May 1\, 2025\n⏰ Time: 6:30 PM – 8:00 PM\n💻 Location: General Classroom Building (GCB)\, Room 224 \n✅ Free to attend – just register to join!
URL:https://www.faytechcc.edu/event/ice-house-entrepreneurship-mindset-program/2025-05-01/
LOCATION:General Classroom Building – Room 224\, 2817 Fort Bragg Rd.\, Fayetteville\, NC\, 28303\, United States
ORGANIZER;CN="FTCC Small Business Center":MAILTO:ftccsbc@faytechcc.edu
END:VEVENT
BEGIN:VEVENT
DTSTART;TZID=America/New_York:20250426T120000
DTEND;TZID=America/New_York:20250426T140000
DTSTAMP:20260423T213744
CREATED:20250408T193015Z
LAST-MODIFIED:20250408T193015Z
UID:10002972-1745668800-1745676000@www.faytechcc.edu
SUMMARY:Brand Like a Pro: Using Canva to Market Your Business
DESCRIPTION:🎨 Brand Like a Pro: Using Canva to Market Your Business\nReady to take your branding to the next level? Learn how to brand and share your business using Canva in this hands-on\, in-person workshop. Whether you’re new to Canva or looking to sharpen your skills\, this session is your chance to dive in and create eye-catching marketing materials that make your business stand out. \n💡 Don’t forget to bring your laptop! \n📅 Date: Saturday\, April 26\, 2025\n⏰ Time: 12:00 PM – 2:00 PM\n📍 Location: General Classroom Building (GCB) 224\, FTCC Campus\n🎟️ Format: In-person workshop
URL:https://www.faytechcc.edu/event/brand-like-a-pro-using-canva-to-market-your-business/
LOCATION:General Classroom Building – Room 224\, 2817 Fort Bragg Rd.\, Fayetteville\, NC\, 28303\, United States
ORGANIZER;CN="FTCC Small Business Center":MAILTO:ftccsbc@faytechcc.edu
END:VEVENT
END:VCALENDAR