BEGIN:VCALENDAR
VERSION:2.0
PRODID:-//Fayetteville Technical Community College - ECPv6.15.9//NONSGML v1.0//EN
CALSCALE:GREGORIAN
METHOD:PUBLISH
X-WR-CALNAME:Fayetteville Technical Community College
X-ORIGINAL-URL:https://www.faytechcc.edu
X-WR-CALDESC:Events for Fayetteville Technical Community College
REFRESH-INTERVAL;VALUE=DURATION:PT1H
X-Robots-Tag:noindex
X-PUBLISHED-TTL:PT1H
BEGIN:VTIMEZONE
TZID:America/New_York
BEGIN:DAYLIGHT
TZOFFSETFROM:-0500
TZOFFSETTO:-0400
TZNAME:EDT
DTSTART:20250309T070000
END:DAYLIGHT
BEGIN:STANDARD
TZOFFSETFROM:-0400
TZOFFSETTO:-0500
TZNAME:EST
DTSTART:20251102T060000
END:STANDARD
BEGIN:DAYLIGHT
TZOFFSETFROM:-0500
TZOFFSETTO:-0400
TZNAME:EDT
DTSTART:20260308T070000
END:DAYLIGHT
BEGIN:STANDARD
TZOFFSETFROM:-0400
TZOFFSETTO:-0500
TZNAME:EST
DTSTART:20261101T060000
END:STANDARD
BEGIN:DAYLIGHT
TZOFFSETFROM:-0500
TZOFFSETTO:-0400
TZNAME:EDT
DTSTART:20270314T070000
END:DAYLIGHT
BEGIN:STANDARD
TZOFFSETFROM:-0400
TZOFFSETTO:-0500
TZNAME:EST
DTSTART:20271107T060000
END:STANDARD
BEGIN:DAYLIGHT
TZOFFSETFROM:-0500
TZOFFSETTO:-0400
TZNAME:EDT
DTSTART:20280312T070000
END:DAYLIGHT
BEGIN:STANDARD
TZOFFSETFROM:-0400
TZOFFSETTO:-0500
TZNAME:EST
DTSTART:20281105T060000
END:STANDARD
END:VTIMEZONE
BEGIN:VEVENT
DTSTART;TZID=America/New_York:20260720T130000
DTEND;TZID=America/New_York:20260720T133000
DTSTAMP:20260421T155957
CREATED:20260204T183729Z
LAST-MODIFIED:20260204T183729Z
UID:10004875-1784552400-1784554200@www.faytechcc.edu
SUMMARY:Parents for Higher Education (PFHE)
DESCRIPTION:👪 Club Mission\nSupport: Holds weekly meetings to support and address the unique needs of student parents.\nFocus: Specifically designed for parents with children ages birth to five. \n📅 Meeting Schedule\nWeekly on Mondays\n🕒 1:00pm – 2:00pm\n📍 General Classroom Building (GCB)\, Room 108/114
URL:https://www.faytechcc.edu/event/parents-for-higher-education-pfhe/2026-07-20/
LOCATION:General Classroom building – Room 108 & 114\, 2817 Fort Bragg Road\, Fayetteville\, NC\, 28303\, United States
CATEGORIES:Clubs
ORGANIZER;CN="FTCC PFHE":MAILTO:canond@faytechcc.edu
END:VEVENT
BEGIN:VEVENT
DTSTART;TZID=America/New_York:20260727T130000
DTEND;TZID=America/New_York:20260727T133000
DTSTAMP:20260421T155957
CREATED:20260204T183729Z
LAST-MODIFIED:20260204T183729Z
UID:10004876-1785157200-1785159000@www.faytechcc.edu
SUMMARY:Parents for Higher Education (PFHE)
DESCRIPTION:👪 Club Mission\nSupport: Holds weekly meetings to support and address the unique needs of student parents.\nFocus: Specifically designed for parents with children ages birth to five. \n📅 Meeting Schedule\nWeekly on Mondays\n🕒 1:00pm – 2:00pm\n📍 General Classroom Building (GCB)\, Room 108/114
URL:https://www.faytechcc.edu/event/parents-for-higher-education-pfhe/2026-07-27/
LOCATION:General Classroom building – Room 108 & 114\, 2817 Fort Bragg Road\, Fayetteville\, NC\, 28303\, United States
CATEGORIES:Clubs
ORGANIZER;CN="FTCC PFHE":MAILTO:canond@faytechcc.edu
END:VEVENT
BEGIN:VEVENT
DTSTART;TZID=America/New_York:20260803T130000
DTEND;TZID=America/New_York:20260803T133000
DTSTAMP:20260421T155957
CREATED:20260204T183729Z
LAST-MODIFIED:20260204T183729Z
UID:10004877-1785762000-1785763800@www.faytechcc.edu
SUMMARY:Parents for Higher Education (PFHE)
DESCRIPTION:👪 Club Mission\nSupport: Holds weekly meetings to support and address the unique needs of student parents.\nFocus: Specifically designed for parents with children ages birth to five. \n📅 Meeting Schedule\nWeekly on Mondays\n🕒 1:00pm – 2:00pm\n📍 General Classroom Building (GCB)\, Room 108/114
URL:https://www.faytechcc.edu/event/parents-for-higher-education-pfhe/2026-08-03/
LOCATION:General Classroom building – Room 108 & 114\, 2817 Fort Bragg Road\, Fayetteville\, NC\, 28303\, United States
CATEGORIES:Clubs
ORGANIZER;CN="FTCC PFHE":MAILTO:canond@faytechcc.edu
END:VEVENT
BEGIN:VEVENT
DTSTART;TZID=America/New_York:20260810T130000
DTEND;TZID=America/New_York:20260810T133000
DTSTAMP:20260421T155957
CREATED:20260204T183729Z
LAST-MODIFIED:20260204T183729Z
UID:10004878-1786366800-1786368600@www.faytechcc.edu
SUMMARY:Parents for Higher Education (PFHE)
DESCRIPTION:👪 Club Mission\nSupport: Holds weekly meetings to support and address the unique needs of student parents.\nFocus: Specifically designed for parents with children ages birth to five. \n📅 Meeting Schedule\nWeekly on Mondays\n🕒 1:00pm – 2:00pm\n📍 General Classroom Building (GCB)\, Room 108/114
URL:https://www.faytechcc.edu/event/parents-for-higher-education-pfhe/2026-08-10/
LOCATION:General Classroom building – Room 108 & 114\, 2817 Fort Bragg Road\, Fayetteville\, NC\, 28303\, United States
CATEGORIES:Clubs
ORGANIZER;CN="FTCC PFHE":MAILTO:canond@faytechcc.edu
END:VEVENT
BEGIN:VEVENT
DTSTART;TZID=America/New_York:20260817T130000
DTEND;TZID=America/New_York:20260817T133000
DTSTAMP:20260421T155957
CREATED:20260204T183729Z
LAST-MODIFIED:20260204T183729Z
UID:10004879-1786971600-1786973400@www.faytechcc.edu
SUMMARY:Parents for Higher Education (PFHE)
DESCRIPTION:👪 Club Mission\nSupport: Holds weekly meetings to support and address the unique needs of student parents.\nFocus: Specifically designed for parents with children ages birth to five. \n📅 Meeting Schedule\nWeekly on Mondays\n🕒 1:00pm – 2:00pm\n📍 General Classroom Building (GCB)\, Room 108/114
URL:https://www.faytechcc.edu/event/parents-for-higher-education-pfhe/2026-08-17/
LOCATION:General Classroom building – Room 108 & 114\, 2817 Fort Bragg Road\, Fayetteville\, NC\, 28303\, United States
CATEGORIES:Clubs
ORGANIZER;CN="FTCC PFHE":MAILTO:canond@faytechcc.edu
END:VEVENT
BEGIN:VEVENT
DTSTART;TZID=America/New_York:20260824T130000
DTEND;TZID=America/New_York:20260824T133000
DTSTAMP:20260421T155957
CREATED:20260204T183729Z
LAST-MODIFIED:20260204T183729Z
UID:10004880-1787576400-1787578200@www.faytechcc.edu
SUMMARY:Parents for Higher Education (PFHE)
DESCRIPTION:👪 Club Mission\nSupport: Holds weekly meetings to support and address the unique needs of student parents.\nFocus: Specifically designed for parents with children ages birth to five. \n📅 Meeting Schedule\nWeekly on Mondays\n🕒 1:00pm – 2:00pm\n📍 General Classroom Building (GCB)\, Room 108/114
URL:https://www.faytechcc.edu/event/parents-for-higher-education-pfhe/2026-08-24/
LOCATION:General Classroom building – Room 108 & 114\, 2817 Fort Bragg Road\, Fayetteville\, NC\, 28303\, United States
CATEGORIES:Clubs
ORGANIZER;CN="FTCC PFHE":MAILTO:canond@faytechcc.edu
END:VEVENT
BEGIN:VEVENT
DTSTART;TZID=America/New_York:20260831T130000
DTEND;TZID=America/New_York:20260831T133000
DTSTAMP:20260421T155957
CREATED:20260204T183729Z
LAST-MODIFIED:20260204T183729Z
UID:10004881-1788181200-1788183000@www.faytechcc.edu
SUMMARY:Parents for Higher Education (PFHE)
DESCRIPTION:👪 Club Mission\nSupport: Holds weekly meetings to support and address the unique needs of student parents.\nFocus: Specifically designed for parents with children ages birth to five. \n📅 Meeting Schedule\nWeekly on Mondays\n🕒 1:00pm – 2:00pm\n📍 General Classroom Building (GCB)\, Room 108/114
URL:https://www.faytechcc.edu/event/parents-for-higher-education-pfhe/2026-08-31/
LOCATION:General Classroom building – Room 108 & 114\, 2817 Fort Bragg Road\, Fayetteville\, NC\, 28303\, United States
CATEGORIES:Clubs
ORGANIZER;CN="FTCC PFHE":MAILTO:canond@faytechcc.edu
END:VEVENT
BEGIN:VEVENT
DTSTART;TZID=America/New_York:20260907T130000
DTEND;TZID=America/New_York:20260907T133000
DTSTAMP:20260421T155957
CREATED:20260204T183729Z
LAST-MODIFIED:20260204T183729Z
UID:10004882-1788786000-1788787800@www.faytechcc.edu
SUMMARY:Parents for Higher Education (PFHE)
DESCRIPTION:👪 Club Mission\nSupport: Holds weekly meetings to support and address the unique needs of student parents.\nFocus: Specifically designed for parents with children ages birth to five. \n📅 Meeting Schedule\nWeekly on Mondays\n🕒 1:00pm – 2:00pm\n📍 General Classroom Building (GCB)\, Room 108/114
URL:https://www.faytechcc.edu/event/parents-for-higher-education-pfhe/2026-09-07/
LOCATION:General Classroom building – Room 108 & 114\, 2817 Fort Bragg Road\, Fayetteville\, NC\, 28303\, United States
CATEGORIES:Clubs
ORGANIZER;CN="FTCC PFHE":MAILTO:canond@faytechcc.edu
END:VEVENT
BEGIN:VEVENT
DTSTART;TZID=America/New_York:20260914T130000
DTEND;TZID=America/New_York:20260914T133000
DTSTAMP:20260421T155957
CREATED:20260204T183729Z
LAST-MODIFIED:20260204T183729Z
UID:10004883-1789390800-1789392600@www.faytechcc.edu
SUMMARY:Parents for Higher Education (PFHE)
DESCRIPTION:👪 Club Mission\nSupport: Holds weekly meetings to support and address the unique needs of student parents.\nFocus: Specifically designed for parents with children ages birth to five. \n📅 Meeting Schedule\nWeekly on Mondays\n🕒 1:00pm – 2:00pm\n📍 General Classroom Building (GCB)\, Room 108/114
URL:https://www.faytechcc.edu/event/parents-for-higher-education-pfhe/2026-09-14/
LOCATION:General Classroom building – Room 108 & 114\, 2817 Fort Bragg Road\, Fayetteville\, NC\, 28303\, United States
CATEGORIES:Clubs
ORGANIZER;CN="FTCC PFHE":MAILTO:canond@faytechcc.edu
END:VEVENT
BEGIN:VEVENT
DTSTART;TZID=America/New_York:20260921T130000
DTEND;TZID=America/New_York:20260921T133000
DTSTAMP:20260421T155957
CREATED:20260204T183729Z
LAST-MODIFIED:20260204T183729Z
UID:10004884-1789995600-1789997400@www.faytechcc.edu
SUMMARY:Parents for Higher Education (PFHE)
DESCRIPTION:👪 Club Mission\nSupport: Holds weekly meetings to support and address the unique needs of student parents.\nFocus: Specifically designed for parents with children ages birth to five. \n📅 Meeting Schedule\nWeekly on Mondays\n🕒 1:00pm – 2:00pm\n📍 General Classroom Building (GCB)\, Room 108/114
URL:https://www.faytechcc.edu/event/parents-for-higher-education-pfhe/2026-09-21/
LOCATION:General Classroom building – Room 108 & 114\, 2817 Fort Bragg Road\, Fayetteville\, NC\, 28303\, United States
CATEGORIES:Clubs
ORGANIZER;CN="FTCC PFHE":MAILTO:canond@faytechcc.edu
END:VEVENT
BEGIN:VEVENT
DTSTART;TZID=America/New_York:20260928T130000
DTEND;TZID=America/New_York:20260928T133000
DTSTAMP:20260421T155957
CREATED:20260204T183729Z
LAST-MODIFIED:20260204T183729Z
UID:10004885-1790600400-1790602200@www.faytechcc.edu
SUMMARY:Parents for Higher Education (PFHE)
DESCRIPTION:👪 Club Mission\nSupport: Holds weekly meetings to support and address the unique needs of student parents.\nFocus: Specifically designed for parents with children ages birth to five. \n📅 Meeting Schedule\nWeekly on Mondays\n🕒 1:00pm – 2:00pm\n📍 General Classroom Building (GCB)\, Room 108/114
URL:https://www.faytechcc.edu/event/parents-for-higher-education-pfhe/2026-09-28/
LOCATION:General Classroom building – Room 108 & 114\, 2817 Fort Bragg Road\, Fayetteville\, NC\, 28303\, United States
CATEGORIES:Clubs
ORGANIZER;CN="FTCC PFHE":MAILTO:canond@faytechcc.edu
END:VEVENT
BEGIN:VEVENT
DTSTART;TZID=America/New_York:20261005T130000
DTEND;TZID=America/New_York:20261005T133000
DTSTAMP:20260421T155957
CREATED:20260204T183729Z
LAST-MODIFIED:20260204T183729Z
UID:10004886-1791205200-1791207000@www.faytechcc.edu
SUMMARY:Parents for Higher Education (PFHE)
DESCRIPTION:👪 Club Mission\nSupport: Holds weekly meetings to support and address the unique needs of student parents.\nFocus: Specifically designed for parents with children ages birth to five. \n📅 Meeting Schedule\nWeekly on Mondays\n🕒 1:00pm – 2:00pm\n📍 General Classroom Building (GCB)\, Room 108/114
URL:https://www.faytechcc.edu/event/parents-for-higher-education-pfhe/2026-10-05/
LOCATION:General Classroom building – Room 108 & 114\, 2817 Fort Bragg Road\, Fayetteville\, NC\, 28303\, United States
CATEGORIES:Clubs
ORGANIZER;CN="FTCC PFHE":MAILTO:canond@faytechcc.edu
END:VEVENT
BEGIN:VEVENT
DTSTART;TZID=America/New_York:20261012T130000
DTEND;TZID=America/New_York:20261012T133000
DTSTAMP:20260421T155957
CREATED:20260204T183729Z
LAST-MODIFIED:20260204T183729Z
UID:10004887-1791810000-1791811800@www.faytechcc.edu
SUMMARY:Parents for Higher Education (PFHE)
DESCRIPTION:👪 Club Mission\nSupport: Holds weekly meetings to support and address the unique needs of student parents.\nFocus: Specifically designed for parents with children ages birth to five. \n📅 Meeting Schedule\nWeekly on Mondays\n🕒 1:00pm – 2:00pm\n📍 General Classroom Building (GCB)\, Room 108/114
URL:https://www.faytechcc.edu/event/parents-for-higher-education-pfhe/2026-10-12/
LOCATION:General Classroom building – Room 108 & 114\, 2817 Fort Bragg Road\, Fayetteville\, NC\, 28303\, United States
CATEGORIES:Clubs
ORGANIZER;CN="FTCC PFHE":MAILTO:canond@faytechcc.edu
END:VEVENT
BEGIN:VEVENT
DTSTART;TZID=America/New_York:20261019T130000
DTEND;TZID=America/New_York:20261019T133000
DTSTAMP:20260421T155957
CREATED:20260204T183729Z
LAST-MODIFIED:20260204T183729Z
UID:10004888-1792414800-1792416600@www.faytechcc.edu
SUMMARY:Parents for Higher Education (PFHE)
DESCRIPTION:👪 Club Mission\nSupport: Holds weekly meetings to support and address the unique needs of student parents.\nFocus: Specifically designed for parents with children ages birth to five. \n📅 Meeting Schedule\nWeekly on Mondays\n🕒 1:00pm – 2:00pm\n📍 General Classroom Building (GCB)\, Room 108/114
URL:https://www.faytechcc.edu/event/parents-for-higher-education-pfhe/2026-10-19/
LOCATION:General Classroom building – Room 108 & 114\, 2817 Fort Bragg Road\, Fayetteville\, NC\, 28303\, United States
CATEGORIES:Clubs
ORGANIZER;CN="FTCC PFHE":MAILTO:canond@faytechcc.edu
END:VEVENT
BEGIN:VEVENT
DTSTART;TZID=America/New_York:20261026T130000
DTEND;TZID=America/New_York:20261026T133000
DTSTAMP:20260421T155957
CREATED:20260204T183729Z
LAST-MODIFIED:20260204T183729Z
UID:10004889-1793019600-1793021400@www.faytechcc.edu
SUMMARY:Parents for Higher Education (PFHE)
DESCRIPTION:👪 Club Mission\nSupport: Holds weekly meetings to support and address the unique needs of student parents.\nFocus: Specifically designed for parents with children ages birth to five. \n📅 Meeting Schedule\nWeekly on Mondays\n🕒 1:00pm – 2:00pm\n📍 General Classroom Building (GCB)\, Room 108/114
URL:https://www.faytechcc.edu/event/parents-for-higher-education-pfhe/2026-10-26/
LOCATION:General Classroom building – Room 108 & 114\, 2817 Fort Bragg Road\, Fayetteville\, NC\, 28303\, United States
CATEGORIES:Clubs
ORGANIZER;CN="FTCC PFHE":MAILTO:canond@faytechcc.edu
END:VEVENT
BEGIN:VEVENT
DTSTART;TZID=America/New_York:20261102T130000
DTEND;TZID=America/New_York:20261102T133000
DTSTAMP:20260421T155957
CREATED:20260204T183729Z
LAST-MODIFIED:20260204T183729Z
UID:10004890-1793624400-1793626200@www.faytechcc.edu
SUMMARY:Parents for Higher Education (PFHE)
DESCRIPTION:👪 Club Mission\nSupport: Holds weekly meetings to support and address the unique needs of student parents.\nFocus: Specifically designed for parents with children ages birth to five. \n📅 Meeting Schedule\nWeekly on Mondays\n🕒 1:00pm – 2:00pm\n📍 General Classroom Building (GCB)\, Room 108/114
URL:https://www.faytechcc.edu/event/parents-for-higher-education-pfhe/2026-11-02/
LOCATION:General Classroom building – Room 108 & 114\, 2817 Fort Bragg Road\, Fayetteville\, NC\, 28303\, United States
CATEGORIES:Clubs
ORGANIZER;CN="FTCC PFHE":MAILTO:canond@faytechcc.edu
END:VEVENT
BEGIN:VEVENT
DTSTART;TZID=America/New_York:20261109T130000
DTEND;TZID=America/New_York:20261109T133000
DTSTAMP:20260421T155957
CREATED:20260204T183729Z
LAST-MODIFIED:20260204T183729Z
UID:10004891-1794229200-1794231000@www.faytechcc.edu
SUMMARY:Parents for Higher Education (PFHE)
DESCRIPTION:👪 Club Mission\nSupport: Holds weekly meetings to support and address the unique needs of student parents.\nFocus: Specifically designed for parents with children ages birth to five. \n📅 Meeting Schedule\nWeekly on Mondays\n🕒 1:00pm – 2:00pm\n📍 General Classroom Building (GCB)\, Room 108/114
URL:https://www.faytechcc.edu/event/parents-for-higher-education-pfhe/2026-11-09/
LOCATION:General Classroom building – Room 108 & 114\, 2817 Fort Bragg Road\, Fayetteville\, NC\, 28303\, United States
CATEGORIES:Clubs
ORGANIZER;CN="FTCC PFHE":MAILTO:canond@faytechcc.edu
END:VEVENT
BEGIN:VEVENT
DTSTART;TZID=America/New_York:20261116T130000
DTEND;TZID=America/New_York:20261116T133000
DTSTAMP:20260421T155957
CREATED:20260204T183729Z
LAST-MODIFIED:20260204T183729Z
UID:10004892-1794834000-1794835800@www.faytechcc.edu
SUMMARY:Parents for Higher Education (PFHE)
DESCRIPTION:👪 Club Mission\nSupport: Holds weekly meetings to support and address the unique needs of student parents.\nFocus: Specifically designed for parents with children ages birth to five. \n📅 Meeting Schedule\nWeekly on Mondays\n🕒 1:00pm – 2:00pm\n📍 General Classroom Building (GCB)\, Room 108/114
URL:https://www.faytechcc.edu/event/parents-for-higher-education-pfhe/2026-11-16/
LOCATION:General Classroom building – Room 108 & 114\, 2817 Fort Bragg Road\, Fayetteville\, NC\, 28303\, United States
CATEGORIES:Clubs
ORGANIZER;CN="FTCC PFHE":MAILTO:canond@faytechcc.edu
END:VEVENT
BEGIN:VEVENT
DTSTART;TZID=America/New_York:20261123T130000
DTEND;TZID=America/New_York:20261123T133000
DTSTAMP:20260421T155957
CREATED:20260204T183729Z
LAST-MODIFIED:20260204T183729Z
UID:10004893-1795438800-1795440600@www.faytechcc.edu
SUMMARY:Parents for Higher Education (PFHE)
DESCRIPTION:👪 Club Mission\nSupport: Holds weekly meetings to support and address the unique needs of student parents.\nFocus: Specifically designed for parents with children ages birth to five. \n📅 Meeting Schedule\nWeekly on Mondays\n🕒 1:00pm – 2:00pm\n📍 General Classroom Building (GCB)\, Room 108/114
URL:https://www.faytechcc.edu/event/parents-for-higher-education-pfhe/2026-11-23/
LOCATION:General Classroom building – Room 108 & 114\, 2817 Fort Bragg Road\, Fayetteville\, NC\, 28303\, United States
CATEGORIES:Clubs
ORGANIZER;CN="FTCC PFHE":MAILTO:canond@faytechcc.edu
END:VEVENT
BEGIN:VEVENT
DTSTART;TZID=America/New_York:20261130T130000
DTEND;TZID=America/New_York:20261130T133000
DTSTAMP:20260421T155957
CREATED:20260204T183729Z
LAST-MODIFIED:20260204T183729Z
UID:10004894-1796043600-1796045400@www.faytechcc.edu
SUMMARY:Parents for Higher Education (PFHE)
DESCRIPTION:👪 Club Mission\nSupport: Holds weekly meetings to support and address the unique needs of student parents.\nFocus: Specifically designed for parents with children ages birth to five. \n📅 Meeting Schedule\nWeekly on Mondays\n🕒 1:00pm – 2:00pm\n📍 General Classroom Building (GCB)\, Room 108/114
URL:https://www.faytechcc.edu/event/parents-for-higher-education-pfhe/2026-11-30/
LOCATION:General Classroom building – Room 108 & 114\, 2817 Fort Bragg Road\, Fayetteville\, NC\, 28303\, United States
CATEGORIES:Clubs
ORGANIZER;CN="FTCC PFHE":MAILTO:canond@faytechcc.edu
END:VEVENT
BEGIN:VEVENT
DTSTART;TZID=America/New_York:20261207T130000
DTEND;TZID=America/New_York:20261207T133000
DTSTAMP:20260421T155957
CREATED:20260204T183729Z
LAST-MODIFIED:20260204T183729Z
UID:10004895-1796648400-1796650200@www.faytechcc.edu
SUMMARY:Parents for Higher Education (PFHE)
DESCRIPTION:👪 Club Mission\nSupport: Holds weekly meetings to support and address the unique needs of student parents.\nFocus: Specifically designed for parents with children ages birth to five. \n📅 Meeting Schedule\nWeekly on Mondays\n🕒 1:00pm – 2:00pm\n📍 General Classroom Building (GCB)\, Room 108/114
URL:https://www.faytechcc.edu/event/parents-for-higher-education-pfhe/2026-12-07/
LOCATION:General Classroom building – Room 108 & 114\, 2817 Fort Bragg Road\, Fayetteville\, NC\, 28303\, United States
CATEGORIES:Clubs
ORGANIZER;CN="FTCC PFHE":MAILTO:canond@faytechcc.edu
END:VEVENT
BEGIN:VEVENT
DTSTART;TZID=America/New_York:20261214T130000
DTEND;TZID=America/New_York:20261214T133000
DTSTAMP:20260421T155957
CREATED:20260204T183729Z
LAST-MODIFIED:20260204T183729Z
UID:10004896-1797253200-1797255000@www.faytechcc.edu
SUMMARY:Parents for Higher Education (PFHE)
DESCRIPTION:👪 Club Mission\nSupport: Holds weekly meetings to support and address the unique needs of student parents.\nFocus: Specifically designed for parents with children ages birth to five. \n📅 Meeting Schedule\nWeekly on Mondays\n🕒 1:00pm – 2:00pm\n📍 General Classroom Building (GCB)\, Room 108/114
URL:https://www.faytechcc.edu/event/parents-for-higher-education-pfhe/2026-12-14/
LOCATION:General Classroom building – Room 108 & 114\, 2817 Fort Bragg Road\, Fayetteville\, NC\, 28303\, United States
CATEGORIES:Clubs
ORGANIZER;CN="FTCC PFHE":MAILTO:canond@faytechcc.edu
END:VEVENT
BEGIN:VEVENT
DTSTART;TZID=America/New_York:20261221T130000
DTEND;TZID=America/New_York:20261221T133000
DTSTAMP:20260421T155957
CREATED:20260204T183729Z
LAST-MODIFIED:20260204T183729Z
UID:10004897-1797858000-1797859800@www.faytechcc.edu
SUMMARY:Parents for Higher Education (PFHE)
DESCRIPTION:👪 Club Mission\nSupport: Holds weekly meetings to support and address the unique needs of student parents.\nFocus: Specifically designed for parents with children ages birth to five. \n📅 Meeting Schedule\nWeekly on Mondays\n🕒 1:00pm – 2:00pm\n📍 General Classroom Building (GCB)\, Room 108/114
URL:https://www.faytechcc.edu/event/parents-for-higher-education-pfhe/2026-12-21/
LOCATION:General Classroom building – Room 108 & 114\, 2817 Fort Bragg Road\, Fayetteville\, NC\, 28303\, United States
CATEGORIES:Clubs
ORGANIZER;CN="FTCC PFHE":MAILTO:canond@faytechcc.edu
END:VEVENT
BEGIN:VEVENT
DTSTART;TZID=America/New_York:20261228T130000
DTEND;TZID=America/New_York:20261228T133000
DTSTAMP:20260421T155957
CREATED:20260204T183729Z
LAST-MODIFIED:20260204T183729Z
UID:10004898-1798462800-1798464600@www.faytechcc.edu
SUMMARY:Parents for Higher Education (PFHE)
DESCRIPTION:👪 Club Mission\nSupport: Holds weekly meetings to support and address the unique needs of student parents.\nFocus: Specifically designed for parents with children ages birth to five. \n📅 Meeting Schedule\nWeekly on Mondays\n🕒 1:00pm – 2:00pm\n📍 General Classroom Building (GCB)\, Room 108/114
URL:https://www.faytechcc.edu/event/parents-for-higher-education-pfhe/2026-12-28/
LOCATION:General Classroom building – Room 108 & 114\, 2817 Fort Bragg Road\, Fayetteville\, NC\, 28303\, United States
CATEGORIES:Clubs
ORGANIZER;CN="FTCC PFHE":MAILTO:canond@faytechcc.edu
END:VEVENT
BEGIN:VEVENT
DTSTART;TZID=America/New_York:20270104T130000
DTEND;TZID=America/New_York:20270104T133000
DTSTAMP:20260421T155957
CREATED:20260204T183729Z
LAST-MODIFIED:20260204T183729Z
UID:10004899-1799067600-1799069400@www.faytechcc.edu
SUMMARY:Parents for Higher Education (PFHE)
DESCRIPTION:👪 Club Mission\nSupport: Holds weekly meetings to support and address the unique needs of student parents.\nFocus: Specifically designed for parents with children ages birth to five. \n📅 Meeting Schedule\nWeekly on Mondays\n🕒 1:00pm – 2:00pm\n📍 General Classroom Building (GCB)\, Room 108/114
URL:https://www.faytechcc.edu/event/parents-for-higher-education-pfhe/2027-01-04/
LOCATION:General Classroom building – Room 108 & 114\, 2817 Fort Bragg Road\, Fayetteville\, NC\, 28303\, United States
CATEGORIES:Clubs
ORGANIZER;CN="FTCC PFHE":MAILTO:canond@faytechcc.edu
END:VEVENT
BEGIN:VEVENT
DTSTART;TZID=America/New_York:20270111T130000
DTEND;TZID=America/New_York:20270111T133000
DTSTAMP:20260421T155957
CREATED:20260204T183729Z
LAST-MODIFIED:20260204T183729Z
UID:10004900-1799672400-1799674200@www.faytechcc.edu
SUMMARY:Parents for Higher Education (PFHE)
DESCRIPTION:👪 Club Mission\nSupport: Holds weekly meetings to support and address the unique needs of student parents.\nFocus: Specifically designed for parents with children ages birth to five. \n📅 Meeting Schedule\nWeekly on Mondays\n🕒 1:00pm – 2:00pm\n📍 General Classroom Building (GCB)\, Room 108/114
URL:https://www.faytechcc.edu/event/parents-for-higher-education-pfhe/2027-01-11/
LOCATION:General Classroom building – Room 108 & 114\, 2817 Fort Bragg Road\, Fayetteville\, NC\, 28303\, United States
CATEGORIES:Clubs
ORGANIZER;CN="FTCC PFHE":MAILTO:canond@faytechcc.edu
END:VEVENT
BEGIN:VEVENT
DTSTART;TZID=America/New_York:20270118T130000
DTEND;TZID=America/New_York:20270118T133000
DTSTAMP:20260421T155957
CREATED:20260204T183729Z
LAST-MODIFIED:20260204T183729Z
UID:10004901-1800277200-1800279000@www.faytechcc.edu
SUMMARY:Parents for Higher Education (PFHE)
DESCRIPTION:👪 Club Mission\nSupport: Holds weekly meetings to support and address the unique needs of student parents.\nFocus: Specifically designed for parents with children ages birth to five. \n📅 Meeting Schedule\nWeekly on Mondays\n🕒 1:00pm – 2:00pm\n📍 General Classroom Building (GCB)\, Room 108/114
URL:https://www.faytechcc.edu/event/parents-for-higher-education-pfhe/2027-01-18/
LOCATION:General Classroom building – Room 108 & 114\, 2817 Fort Bragg Road\, Fayetteville\, NC\, 28303\, United States
CATEGORIES:Clubs
ORGANIZER;CN="FTCC PFHE":MAILTO:canond@faytechcc.edu
END:VEVENT
BEGIN:VEVENT
DTSTART;TZID=America/New_York:20270125T130000
DTEND;TZID=America/New_York:20270125T133000
DTSTAMP:20260421T155957
CREATED:20260204T183729Z
LAST-MODIFIED:20260204T183729Z
UID:10004902-1800882000-1800883800@www.faytechcc.edu
SUMMARY:Parents for Higher Education (PFHE)
DESCRIPTION:👪 Club Mission\nSupport: Holds weekly meetings to support and address the unique needs of student parents.\nFocus: Specifically designed for parents with children ages birth to five. \n📅 Meeting Schedule\nWeekly on Mondays\n🕒 1:00pm – 2:00pm\n📍 General Classroom Building (GCB)\, Room 108/114
URL:https://www.faytechcc.edu/event/parents-for-higher-education-pfhe/2027-01-25/
LOCATION:General Classroom building – Room 108 & 114\, 2817 Fort Bragg Road\, Fayetteville\, NC\, 28303\, United States
CATEGORIES:Clubs
ORGANIZER;CN="FTCC PFHE":MAILTO:canond@faytechcc.edu
END:VEVENT
BEGIN:VEVENT
DTSTART;TZID=America/New_York:20270201T130000
DTEND;TZID=America/New_York:20270201T133000
DTSTAMP:20260421T155957
CREATED:20260204T183729Z
LAST-MODIFIED:20260204T183729Z
UID:10004903-1801486800-1801488600@www.faytechcc.edu
SUMMARY:Parents for Higher Education (PFHE)
DESCRIPTION:👪 Club Mission\nSupport: Holds weekly meetings to support and address the unique needs of student parents.\nFocus: Specifically designed for parents with children ages birth to five. \n📅 Meeting Schedule\nWeekly on Mondays\n🕒 1:00pm – 2:00pm\n📍 General Classroom Building (GCB)\, Room 108/114
URL:https://www.faytechcc.edu/event/parents-for-higher-education-pfhe/2027-02-01/
LOCATION:General Classroom building – Room 108 & 114\, 2817 Fort Bragg Road\, Fayetteville\, NC\, 28303\, United States
CATEGORIES:Clubs
ORGANIZER;CN="FTCC PFHE":MAILTO:canond@faytechcc.edu
END:VEVENT
BEGIN:VEVENT
DTSTART;TZID=America/New_York:20270208T130000
DTEND;TZID=America/New_York:20270208T133000
DTSTAMP:20260421T155957
CREATED:20260204T183729Z
LAST-MODIFIED:20260204T183729Z
UID:10004904-1802091600-1802093400@www.faytechcc.edu
SUMMARY:Parents for Higher Education (PFHE)
DESCRIPTION:👪 Club Mission\nSupport: Holds weekly meetings to support and address the unique needs of student parents.\nFocus: Specifically designed for parents with children ages birth to five. \n📅 Meeting Schedule\nWeekly on Mondays\n🕒 1:00pm – 2:00pm\n📍 General Classroom Building (GCB)\, Room 108/114
URL:https://www.faytechcc.edu/event/parents-for-higher-education-pfhe/2027-02-08/
LOCATION:General Classroom building – Room 108 & 114\, 2817 Fort Bragg Road\, Fayetteville\, NC\, 28303\, United States
CATEGORIES:Clubs
ORGANIZER;CN="FTCC PFHE":MAILTO:canond@faytechcc.edu
END:VEVENT
END:VCALENDAR