BEGIN:VCALENDAR
VERSION:2.0
PRODID:-//Fayetteville Technical Community College - ECPv6.15.9//NONSGML v1.0//EN
CALSCALE:GREGORIAN
METHOD:PUBLISH
X-WR-CALNAME:Fayetteville Technical Community College
X-ORIGINAL-URL:https://www.faytechcc.edu
X-WR-CALDESC:Events for Fayetteville Technical Community College
REFRESH-INTERVAL;VALUE=DURATION:PT1H
X-Robots-Tag:noindex
X-PUBLISHED-TTL:PT1H
BEGIN:VTIMEZONE
TZID:America/New_York
BEGIN:DAYLIGHT
TZOFFSETFROM:-0500
TZOFFSETTO:-0400
TZNAME:EDT
DTSTART:20240310T070000
END:DAYLIGHT
BEGIN:STANDARD
TZOFFSETFROM:-0400
TZOFFSETTO:-0500
TZNAME:EST
DTSTART:20241103T060000
END:STANDARD
BEGIN:DAYLIGHT
TZOFFSETFROM:-0500
TZOFFSETTO:-0400
TZNAME:EDT
DTSTART:20250309T070000
END:DAYLIGHT
BEGIN:STANDARD
TZOFFSETFROM:-0400
TZOFFSETTO:-0500
TZNAME:EST
DTSTART:20251102T060000
END:STANDARD
BEGIN:DAYLIGHT
TZOFFSETFROM:-0500
TZOFFSETTO:-0400
TZNAME:EDT
DTSTART:20260308T070000
END:DAYLIGHT
BEGIN:STANDARD
TZOFFSETFROM:-0400
TZOFFSETTO:-0500
TZNAME:EST
DTSTART:20261101T060000
END:STANDARD
BEGIN:DAYLIGHT
TZOFFSETFROM:-0500
TZOFFSETTO:-0400
TZNAME:EDT
DTSTART:20270314T070000
END:DAYLIGHT
BEGIN:STANDARD
TZOFFSETFROM:-0400
TZOFFSETTO:-0500
TZNAME:EST
DTSTART:20271107T060000
END:STANDARD
END:VTIMEZONE
BEGIN:VEVENT
DTSTART;TZID=America/New_York:20260420T130000
DTEND;TZID=America/New_York:20260420T133000
DTSTAMP:20260421T204512
CREATED:20260204T183729Z
LAST-MODIFIED:20260204T183729Z
UID:10004862-1776690000-1776691800@www.faytechcc.edu
SUMMARY:Parents for Higher Education (PFHE)
DESCRIPTION:👪 Club Mission\nSupport: Holds weekly meetings to support and address the unique needs of student parents.\nFocus: Specifically designed for parents with children ages birth to five. \n📅 Meeting Schedule\nWeekly on Mondays\n🕒 1:00pm – 2:00pm\n📍 General Classroom Building (GCB)\, Room 108/114
URL:https://www.faytechcc.edu/event/parents-for-higher-education-pfhe/2026-04-20/
LOCATION:General Classroom building – Room 108 & 114\, 2817 Fort Bragg Road\, Fayetteville\, NC\, 28303\, United States
CATEGORIES:Clubs
ORGANIZER;CN="FTCC PFHE":MAILTO:canond@faytechcc.edu
END:VEVENT
BEGIN:VEVENT
DTSTART;TZID=America/New_York:20260413T130000
DTEND;TZID=America/New_York:20260413T133000
DTSTAMP:20260421T204512
CREATED:20260204T183729Z
LAST-MODIFIED:20260204T183729Z
UID:10004861-1776085200-1776087000@www.faytechcc.edu
SUMMARY:Parents for Higher Education (PFHE)
DESCRIPTION:👪 Club Mission\nSupport: Holds weekly meetings to support and address the unique needs of student parents.\nFocus: Specifically designed for parents with children ages birth to five. \n📅 Meeting Schedule\nWeekly on Mondays\n🕒 1:00pm – 2:00pm\n📍 General Classroom Building (GCB)\, Room 108/114
URL:https://www.faytechcc.edu/event/parents-for-higher-education-pfhe/2026-04-13/
LOCATION:General Classroom building – Room 108 & 114\, 2817 Fort Bragg Road\, Fayetteville\, NC\, 28303\, United States
CATEGORIES:Clubs
ORGANIZER;CN="FTCC PFHE":MAILTO:canond@faytechcc.edu
END:VEVENT
BEGIN:VEVENT
DTSTART;TZID=America/New_York:20260406T130000
DTEND;TZID=America/New_York:20260406T133000
DTSTAMP:20260421T204512
CREATED:20260204T183729Z
LAST-MODIFIED:20260204T183729Z
UID:10004860-1775480400-1775482200@www.faytechcc.edu
SUMMARY:Parents for Higher Education (PFHE)
DESCRIPTION:👪 Club Mission\nSupport: Holds weekly meetings to support and address the unique needs of student parents.\nFocus: Specifically designed for parents with children ages birth to five. \n📅 Meeting Schedule\nWeekly on Mondays\n🕒 1:00pm – 2:00pm\n📍 General Classroom Building (GCB)\, Room 108/114
URL:https://www.faytechcc.edu/event/parents-for-higher-education-pfhe/2026-04-06/
LOCATION:General Classroom building – Room 108 & 114\, 2817 Fort Bragg Road\, Fayetteville\, NC\, 28303\, United States
CATEGORIES:Clubs
ORGANIZER;CN="FTCC PFHE":MAILTO:canond@faytechcc.edu
END:VEVENT
BEGIN:VEVENT
DTSTART;TZID=America/New_York:20260330T130000
DTEND;TZID=America/New_York:20260330T133000
DTSTAMP:20260421T204512
CREATED:20260204T183729Z
LAST-MODIFIED:20260204T183729Z
UID:10004859-1774875600-1774877400@www.faytechcc.edu
SUMMARY:Parents for Higher Education (PFHE)
DESCRIPTION:👪 Club Mission\nSupport: Holds weekly meetings to support and address the unique needs of student parents.\nFocus: Specifically designed for parents with children ages birth to five. \n📅 Meeting Schedule\nWeekly on Mondays\n🕒 1:00pm – 2:00pm\n📍 General Classroom Building (GCB)\, Room 108/114
URL:https://www.faytechcc.edu/event/parents-for-higher-education-pfhe/2026-03-30/
LOCATION:General Classroom building – Room 108 & 114\, 2817 Fort Bragg Road\, Fayetteville\, NC\, 28303\, United States
CATEGORIES:Clubs
ORGANIZER;CN="FTCC PFHE":MAILTO:canond@faytechcc.edu
END:VEVENT
BEGIN:VEVENT
DTSTART;TZID=America/New_York:20260323T130000
DTEND;TZID=America/New_York:20260323T133000
DTSTAMP:20260421T204512
CREATED:20260204T183729Z
LAST-MODIFIED:20260204T183729Z
UID:10004858-1774270800-1774272600@www.faytechcc.edu
SUMMARY:Parents for Higher Education (PFHE)
DESCRIPTION:👪 Club Mission\nSupport: Holds weekly meetings to support and address the unique needs of student parents.\nFocus: Specifically designed for parents with children ages birth to five. \n📅 Meeting Schedule\nWeekly on Mondays\n🕒 1:00pm – 2:00pm\n📍 General Classroom Building (GCB)\, Room 108/114
URL:https://www.faytechcc.edu/event/parents-for-higher-education-pfhe/2026-03-23/
LOCATION:General Classroom building – Room 108 & 114\, 2817 Fort Bragg Road\, Fayetteville\, NC\, 28303\, United States
CATEGORIES:Clubs
ORGANIZER;CN="FTCC PFHE":MAILTO:canond@faytechcc.edu
END:VEVENT
BEGIN:VEVENT
DTSTART;TZID=America/New_York:20260316T130000
DTEND;TZID=America/New_York:20260316T133000
DTSTAMP:20260421T204512
CREATED:20260204T183729Z
LAST-MODIFIED:20260204T183729Z
UID:10004857-1773666000-1773667800@www.faytechcc.edu
SUMMARY:Parents for Higher Education (PFHE)
DESCRIPTION:👪 Club Mission\nSupport: Holds weekly meetings to support and address the unique needs of student parents.\nFocus: Specifically designed for parents with children ages birth to five. \n📅 Meeting Schedule\nWeekly on Mondays\n🕒 1:00pm – 2:00pm\n📍 General Classroom Building (GCB)\, Room 108/114
URL:https://www.faytechcc.edu/event/parents-for-higher-education-pfhe/2026-03-16/
LOCATION:General Classroom building – Room 108 & 114\, 2817 Fort Bragg Road\, Fayetteville\, NC\, 28303\, United States
CATEGORIES:Clubs
ORGANIZER;CN="FTCC PFHE":MAILTO:canond@faytechcc.edu
END:VEVENT
BEGIN:VEVENT
DTSTART;TZID=America/New_York:20260309T130000
DTEND;TZID=America/New_York:20260309T133000
DTSTAMP:20260421T204512
CREATED:20260204T183729Z
LAST-MODIFIED:20260204T183729Z
UID:10004856-1773061200-1773063000@www.faytechcc.edu
SUMMARY:Parents for Higher Education (PFHE)
DESCRIPTION:👪 Club Mission\nSupport: Holds weekly meetings to support and address the unique needs of student parents.\nFocus: Specifically designed for parents with children ages birth to five. \n📅 Meeting Schedule\nWeekly on Mondays\n🕒 1:00pm – 2:00pm\n📍 General Classroom Building (GCB)\, Room 108/114
URL:https://www.faytechcc.edu/event/parents-for-higher-education-pfhe/2026-03-09/
LOCATION:General Classroom building – Room 108 & 114\, 2817 Fort Bragg Road\, Fayetteville\, NC\, 28303\, United States
CATEGORIES:Clubs
ORGANIZER;CN="FTCC PFHE":MAILTO:canond@faytechcc.edu
END:VEVENT
BEGIN:VEVENT
DTSTART;TZID=America/New_York:20260302T130000
DTEND;TZID=America/New_York:20260302T133000
DTSTAMP:20260421T204512
CREATED:20260204T183729Z
LAST-MODIFIED:20260204T183729Z
UID:10004855-1772456400-1772458200@www.faytechcc.edu
SUMMARY:Parents for Higher Education (PFHE)
DESCRIPTION:👪 Club Mission\nSupport: Holds weekly meetings to support and address the unique needs of student parents.\nFocus: Specifically designed for parents with children ages birth to five. \n📅 Meeting Schedule\nWeekly on Mondays\n🕒 1:00pm – 2:00pm\n📍 General Classroom Building (GCB)\, Room 108/114
URL:https://www.faytechcc.edu/event/parents-for-higher-education-pfhe/2026-03-02/
LOCATION:General Classroom building – Room 108 & 114\, 2817 Fort Bragg Road\, Fayetteville\, NC\, 28303\, United States
CATEGORIES:Clubs
ORGANIZER;CN="FTCC PFHE":MAILTO:canond@faytechcc.edu
END:VEVENT
BEGIN:VEVENT
DTSTART;TZID=America/New_York:20260226T100000
DTEND;TZID=America/New_York:20260226T120000
DTSTAMP:20260421T204512
CREATED:20251215T151428Z
LAST-MODIFIED:20251215T151428Z
UID:10004494-1772100000-1772107200@www.faytechcc.edu
SUMMARY:Logistics & Distribution Management Graduation
DESCRIPTION:🎓 What: Logistics & Distribution Management Graduation\n🤝 Who: Heroes Make America\n📅 When: February 26\, 2026 | 10:00 a.m. – 12:00 p.m.\n📍 Where: General Classroom Building (GCB)\, Rooms 108 & 114\n👤 Contact: Lauren Bloomer\n🔒 Note: By invitation only
URL:https://www.faytechcc.edu/event/logistics-distribution-management-graduation/
LOCATION:General Classroom building – Room 108 & 114\, 2817 Fort Bragg Road\, Fayetteville\, NC\, 28303\, United States
ORGANIZER;CN="Hereoes Make America":MAILTO:lbloomer@nam.org
END:VEVENT
BEGIN:VEVENT
DTSTART;TZID=America/New_York:20260223T130000
DTEND;TZID=America/New_York:20260223T133000
DTSTAMP:20260421T204512
CREATED:20260204T183729Z
LAST-MODIFIED:20260204T183729Z
UID:10004854-1771851600-1771853400@www.faytechcc.edu
SUMMARY:Parents for Higher Education (PFHE)
DESCRIPTION:👪 Club Mission\nSupport: Holds weekly meetings to support and address the unique needs of student parents.\nFocus: Specifically designed for parents with children ages birth to five. \n📅 Meeting Schedule\nWeekly on Mondays\n🕒 1:00pm – 2:00pm\n📍 General Classroom Building (GCB)\, Room 108/114
URL:https://www.faytechcc.edu/event/parents-for-higher-education-pfhe/2026-02-23/
LOCATION:General Classroom building – Room 108 & 114\, 2817 Fort Bragg Road\, Fayetteville\, NC\, 28303\, United States
CATEGORIES:Clubs
ORGANIZER;CN="FTCC PFHE":MAILTO:canond@faytechcc.edu
END:VEVENT
BEGIN:VEVENT
DTSTART;TZID=America/New_York:20260221T090000
DTEND;TZID=America/New_York:20260221T103000
DTSTAMP:20260421T204512
CREATED:20251216T192657Z
LAST-MODIFIED:20251216T192657Z
UID:10004507-1771664400-1771669800@www.faytechcc.edu
SUMMARY:Turning Pages\, Changing Lives: Become a Literacy Ambassador
DESCRIPTION:Event Highlights: \n\nWelcome and Networking\nBreakfast/Light Refreshments\nInformation Tables\nVarious Speakers\n\n📅 Date: February 21\, 2026\n⏰ Time: 9:00 a.m. – 10:30 a.m.\n📍 Location: General Classroom Building (GCB)\, Rooms 108 & 114 \nThis event is by invitation only!
URL:https://www.faytechcc.edu/event/turning-pages-changing-lives-become-a-literacy-ambassador/
LOCATION:General Classroom building – Room 108 & 114\, 2817 Fort Bragg Road\, Fayetteville\, NC\, 28303\, United States
ORGANIZER;CN="Cumberland County Literacy Council (CCLC)":MAILTO:kristinafinn@cc-literacycouncil.org
END:VEVENT
BEGIN:VEVENT
DTSTART;TZID=America/New_York:20260216T130000
DTEND;TZID=America/New_York:20260216T133000
DTSTAMP:20260421T204512
CREATED:20260204T183729Z
LAST-MODIFIED:20260204T183729Z
UID:10004853-1771246800-1771248600@www.faytechcc.edu
SUMMARY:Parents for Higher Education (PFHE)
DESCRIPTION:👪 Club Mission\nSupport: Holds weekly meetings to support and address the unique needs of student parents.\nFocus: Specifically designed for parents with children ages birth to five. \n📅 Meeting Schedule\nWeekly on Mondays\n🕒 1:00pm – 2:00pm\n📍 General Classroom Building (GCB)\, Room 108/114
URL:https://www.faytechcc.edu/event/parents-for-higher-education-pfhe/2026-02-16/
LOCATION:General Classroom building – Room 108 & 114\, 2817 Fort Bragg Road\, Fayetteville\, NC\, 28303\, United States
CATEGORIES:Clubs
ORGANIZER;CN="FTCC PFHE":MAILTO:canond@faytechcc.edu
END:VEVENT
BEGIN:VEVENT
DTSTART;TZID=America/New_York:20260209T130000
DTEND;TZID=America/New_York:20260209T133000
DTSTAMP:20260421T204512
CREATED:20260204T183729Z
LAST-MODIFIED:20260204T183729Z
UID:10004852-1770642000-1770643800@www.faytechcc.edu
SUMMARY:Parents for Higher Education (PFHE)
DESCRIPTION:👪 Club Mission\nSupport: Holds weekly meetings to support and address the unique needs of student parents.\nFocus: Specifically designed for parents with children ages birth to five. \n📅 Meeting Schedule\nWeekly on Mondays\n🕒 1:00pm – 2:00pm\n📍 General Classroom Building (GCB)\, Room 108/114
URL:https://www.faytechcc.edu/event/parents-for-higher-education-pfhe/2026-02-09/
LOCATION:General Classroom building – Room 108 & 114\, 2817 Fort Bragg Road\, Fayetteville\, NC\, 28303\, United States
CATEGORIES:Clubs
ORGANIZER;CN="FTCC PFHE":MAILTO:canond@faytechcc.edu
END:VEVENT
BEGIN:VEVENT
DTSTART;TZID=America/New_York:20260203T073000
DTEND;TZID=America/New_York:20260203T093000
DTSTAMP:20260421T204512
CREATED:20251211T204602Z
LAST-MODIFIED:20260130T165057Z
UID:10004486-1770103800-1770111000@www.faytechcc.edu
SUMMARY:Event Canceled: Networking Breakfast
DESCRIPTION:The Networking Breakfast scheduled for February 3\, 2026\, from 7:30 a.m. to 9:30 a.m.\, hosted by the Greater Fayetteville Chamber\, has been canceled. \nWe apologize for any inconvenience and appreciate your understanding.
URL:https://www.faytechcc.edu/event/networking-breakfast/
LOCATION:General Classroom building – Room 108 & 114\, 2817 Fort Bragg Road\, Fayetteville\, NC\, 28303\, United States
ORGANIZER;CN="Fayetteville Area Chamber of Commerce":MAILTO:info@faybiz.com
END:VEVENT
BEGIN:VEVENT
DTSTART;TZID=America/New_York:20260128T090000
DTEND;TZID=America/New_York:20260128T150000
DTSTAMP:20260421T204512
CREATED:20251211T181633Z
LAST-MODIFIED:20251211T181633Z
UID:10004485-1769590800-1769612400@www.faytechcc.edu
SUMMARY:Southern Regional AHEC and NC Business Committee for Education
DESCRIPTION:Southern Regional AHEC and the NC Business Committee for Education proudly present\n🎓 NC Career Launch \n📅 Date: January 28\, 2026\n⏰ Time: 9:00 AM – 3:00 PM \n📍 Location:\nGeneral Classroom Building (GCB)\nRoom 108 & 114 \n🔒 By invitation only
URL:https://www.faytechcc.edu/event/southern-regional-ahec-and-nc-business-committee-for-education/
LOCATION:General Classroom building – Room 108 & 114\, 2817 Fort Bragg Road\, Fayetteville\, NC\, 28303\, United States
ORGANIZER;CN="Southern Regional AHEC and NC Business Committee for Education":MAILTO:gregory.singleton@sr-ahec.org
END:VEVENT
BEGIN:VEVENT
DTSTART;TZID=America/New_York:20250912T090000
DTEND;TZID=America/New_York:20250912T160000
DTSTAMP:20260421T204512
CREATED:20250902T114945Z
LAST-MODIFIED:20250902T114945Z
UID:10003645-1757667600-1757692800@www.faytechcc.edu
SUMMARY:Phi Theta Kappa - Advisor Training
DESCRIPTION:Phi Theta Kappa Advisor Training\nThe Phi Theta Kappa Carolinas Region will host an Advisor Training session for faculty and staff advisors from across North and South Carolina. \n📅 Friday\, September 12\, 2025\n⏰ 9:00 AM – 4:00 PM\n📍 General Classroom Building (GCB)\, Rooms 108 & 114
URL:https://www.faytechcc.edu/event/phi-theta-kappa-advisor-training/
LOCATION:General Classroom building – Room 108 & 114\, 2817 Fort Bragg Road\, Fayetteville\, NC\, 28303\, United States
ORGANIZER;CN="Phi Theta Kappa":MAILTO:chiodop@faytechcc.edu
END:VEVENT
END:VCALENDAR