BEGIN:VCALENDAR
VERSION:2.0
PRODID:-//Fayetteville Technical Community College - ECPv6.15.9//NONSGML v1.0//EN
CALSCALE:GREGORIAN
METHOD:PUBLISH
X-WR-CALNAME:Fayetteville Technical Community College
X-ORIGINAL-URL:https://www.faytechcc.edu
X-WR-CALDESC:Events for Fayetteville Technical Community College
REFRESH-INTERVAL;VALUE=DURATION:PT1H
X-Robots-Tag:noindex
X-PUBLISHED-TTL:PT1H
BEGIN:VTIMEZONE
TZID:America/New_York
BEGIN:DAYLIGHT
TZOFFSETFROM:-0500
TZOFFSETTO:-0400
TZNAME:EDT
DTSTART:20250309T070000
END:DAYLIGHT
BEGIN:STANDARD
TZOFFSETFROM:-0400
TZOFFSETTO:-0500
TZNAME:EST
DTSTART:20251102T060000
END:STANDARD
BEGIN:DAYLIGHT
TZOFFSETFROM:-0500
TZOFFSETTO:-0400
TZNAME:EDT
DTSTART:20260308T070000
END:DAYLIGHT
BEGIN:STANDARD
TZOFFSETFROM:-0400
TZOFFSETTO:-0500
TZNAME:EST
DTSTART:20261101T060000
END:STANDARD
BEGIN:DAYLIGHT
TZOFFSETFROM:-0500
TZOFFSETTO:-0400
TZNAME:EDT
DTSTART:20270314T070000
END:DAYLIGHT
BEGIN:STANDARD
TZOFFSETFROM:-0400
TZOFFSETTO:-0500
TZNAME:EST
DTSTART:20271107T060000
END:STANDARD
END:VTIMEZONE
BEGIN:VEVENT
DTSTART;TZID=America/New_York:20260107T140000
DTEND;TZID=America/New_York:20260107T150000
DTSTAMP:20260421T195616
CREATED:20251215T212245Z
LAST-MODIFIED:20251215T212245Z
UID:10004497-1767794400-1767798000@www.faytechcc.edu
SUMMARY:Fire Rescue Training (FRTC) Phase II Completion Celebration
DESCRIPTION:Join us as we commemorate the completion of Phase II of the Fire Rescue Training Center (FRTC). \n📅 Date: January 7\n⏰ Time: 2:00–3:00 p.m.\n📍 Location: Fire Rescue Training Center (FRTC)\, 775 Tom Starling Road \n🌧 Inclement Weather Date: January 20
URL:https://www.faytechcc.edu/event/fire-rescue-training-frtc-phase-ii-completion-celebration/
LOCATION:FRTC\, 775 Tom Starling Road\, Fayetteville\, NC\, 28306\, United States
END:VEVENT
END:VCALENDAR