BEGIN:VCALENDAR
VERSION:2.0
PRODID:-//Fayetteville Technical Community College - ECPv6.15.9//NONSGML v1.0//EN
CALSCALE:GREGORIAN
METHOD:PUBLISH
X-ORIGINAL-URL:https://www.faytechcc.edu
X-WR-CALDESC:Events for Fayetteville Technical Community College
REFRESH-INTERVAL;VALUE=DURATION:PT1H
X-Robots-Tag:noindex
X-PUBLISHED-TTL:PT1H
BEGIN:VTIMEZONE
TZID:America/New_York
BEGIN:DAYLIGHT
TZOFFSETFROM:-0500
TZOFFSETTO:-0400
TZNAME:EDT
DTSTART:20240310T070000
END:DAYLIGHT
BEGIN:STANDARD
TZOFFSETFROM:-0400
TZOFFSETTO:-0500
TZNAME:EST
DTSTART:20241103T060000
END:STANDARD
BEGIN:DAYLIGHT
TZOFFSETFROM:-0500
TZOFFSETTO:-0400
TZNAME:EDT
DTSTART:20250309T070000
END:DAYLIGHT
BEGIN:STANDARD
TZOFFSETFROM:-0400
TZOFFSETTO:-0500
TZNAME:EST
DTSTART:20251102T060000
END:STANDARD
BEGIN:DAYLIGHT
TZOFFSETFROM:-0500
TZOFFSETTO:-0400
TZNAME:EDT
DTSTART:20260308T070000
END:DAYLIGHT
BEGIN:STANDARD
TZOFFSETFROM:-0400
TZOFFSETTO:-0500
TZNAME:EST
DTSTART:20261101T060000
END:STANDARD
END:VTIMEZONE
BEGIN:VEVENT
DTSTART;TZID=America/New_York:20250227T100000
DTEND;TZID=America/New_York:20250227T150000
DTSTAMP:20260421T050048
CREATED:20250218T150256Z
LAST-MODIFIED:20250221T174131Z
UID:10002914-1740650400-1740668400@www.faytechcc.edu
SUMMARY:FTCC Open House - Education Center at Fort Bragg
DESCRIPTION:FTCC Open House – February 27\, 2025\n📍 Education Center at Fort Bragg\n🕙 10 AM – 3 PM\nCome to an Open House at FTCC’s office at the Education Center at Fort Bragg to explore exciting career opportunities in CDL Truck Driving\, Basic Law Enforcement\, Early Childhood Technology\, Emergency Medical Services\, Fire Protection Technology\, and more! \n✅ Meet recruiters and financial aid representatives\n✅ Learn about training programs that can jump-start your career\n✅ Enjoy FREE doughnuts\, popcorn\, and pizza! \nRegister today! Scan the QR code to secure your spot.  \nThe Education Center is located in Building I-3571 Wing F\, 4520 Knox St.\, Fort Bragg\, NC 28310. For more information\, contact FTCC’s Military and Veterans Programs at 910-678-1050 or military@faytechcc.edu. \n 
URL:https://www.faytechcc.edu/event/open-house-fort-bragg-education-center/
LOCATION:Fort Bragg Education Center\, 4520 Knox Street - FTCC Bldg I-3571 Wing F\, Fort Bragg\, NC\, 28310\, United States
END:VEVENT
END:VCALENDAR