BEGIN:VCALENDAR
VERSION:2.0
PRODID:-//Fayetteville Technical Community College - ECPv6.15.9//NONSGML v1.0//EN
CALSCALE:GREGORIAN
METHOD:PUBLISH
X-WR-CALNAME:Fayetteville Technical Community College
X-ORIGINAL-URL:https://www.faytechcc.edu
X-WR-CALDESC:Events for Fayetteville Technical Community College
REFRESH-INTERVAL;VALUE=DURATION:PT1H
X-Robots-Tag:noindex
X-PUBLISHED-TTL:PT1H
BEGIN:VTIMEZONE
TZID:America/New_York
BEGIN:DAYLIGHT
TZOFFSETFROM:-0500
TZOFFSETTO:-0400
TZNAME:EDT
DTSTART:20250309T070000
END:DAYLIGHT
BEGIN:STANDARD
TZOFFSETFROM:-0400
TZOFFSETTO:-0500
TZNAME:EST
DTSTART:20251102T060000
END:STANDARD
BEGIN:DAYLIGHT
TZOFFSETFROM:-0500
TZOFFSETTO:-0400
TZNAME:EDT
DTSTART:20260308T070000
END:DAYLIGHT
BEGIN:STANDARD
TZOFFSETFROM:-0400
TZOFFSETTO:-0500
TZNAME:EST
DTSTART:20261101T060000
END:STANDARD
BEGIN:DAYLIGHT
TZOFFSETFROM:-0500
TZOFFSETTO:-0400
TZNAME:EDT
DTSTART:20270314T070000
END:DAYLIGHT
BEGIN:STANDARD
TZOFFSETFROM:-0400
TZOFFSETTO:-0500
TZNAME:EST
DTSTART:20271107T060000
END:STANDARD
END:VTIMEZONE
BEGIN:VEVENT
DTSTART;TZID=America/New_York:20260321T100000
DTEND;TZID=America/New_York:20260321T120000
DTSTAMP:20260423T192619
CREATED:20260302T164214Z
LAST-MODIFIED:20260302T164214Z
UID:10005464-1774087200-1774094400@www.faytechcc.edu
SUMMARY:🌹Rose Pruning Demonstration
DESCRIPTION:Join the Fayetteville Rose Society for a hands-on Rose Pruning demonstration. Whether you are a beginner gardener or a seasoned green thumb\, this session will provide you with the essential techniques to keep your roses healthy\, vibrant\, and blooming all season long. \n📅 Date: Saturday\, March 21\, 2026\n⏰ Time: 10:00 AM – 12:00 PM\n📍 Location: FTCC Rose Garden \n 
URL:https://www.faytechcc.edu/event/%f0%9f%8c%b9rose-pruning-demonstration/
LOCATION:Fayetteville Rose Garden\, 2201 Hull Rd.\, Fayetteville\, NC\, 28303\, United States
END:VEVENT
END:VCALENDAR