BEGIN:VCALENDAR
VERSION:2.0
PRODID:-//Fayetteville Technical Community College - ECPv6.15.9//NONSGML v1.0//EN
CALSCALE:GREGORIAN
METHOD:PUBLISH
X-WR-CALNAME:Fayetteville Technical Community College
X-ORIGINAL-URL:https://www.faytechcc.edu
X-WR-CALDESC:Events for Fayetteville Technical Community College
REFRESH-INTERVAL;VALUE=DURATION:PT1H
X-Robots-Tag:noindex
X-PUBLISHED-TTL:PT1H
BEGIN:VTIMEZONE
TZID:America/New_York
BEGIN:DAYLIGHT
TZOFFSETFROM:-0500
TZOFFSETTO:-0400
TZNAME:EDT
DTSTART:20230312T070000
END:DAYLIGHT
BEGIN:STANDARD
TZOFFSETFROM:-0400
TZOFFSETTO:-0500
TZNAME:EST
DTSTART:20231105T060000
END:STANDARD
BEGIN:DAYLIGHT
TZOFFSETFROM:-0500
TZOFFSETTO:-0400
TZNAME:EDT
DTSTART:20240310T070000
END:DAYLIGHT
BEGIN:STANDARD
TZOFFSETFROM:-0400
TZOFFSETTO:-0500
TZNAME:EST
DTSTART:20241103T060000
END:STANDARD
BEGIN:DAYLIGHT
TZOFFSETFROM:-0500
TZOFFSETTO:-0400
TZNAME:EDT
DTSTART:20250309T070000
END:DAYLIGHT
BEGIN:STANDARD
TZOFFSETFROM:-0400
TZOFFSETTO:-0500
TZNAME:EST
DTSTART:20251102T060000
END:STANDARD
END:VTIMEZONE
BEGIN:VEVENT
DTSTART;TZID=America/New_York:20240425T190000
DTEND;TZID=America/New_York:20240425T190000
DTSTAMP:20260422T214010
CREATED:20240408T120651Z
LAST-MODIFIED:20240408T120813Z
UID:10001680-1714071600-1714071600@www.faytechcc.edu
SUMMARY:Play: The Importance of Being Earnest
DESCRIPTION:The Department of Fine Arts at FTCC is thrilled to present our production of “The Importance of Being Earnest.”  All are invited to enjoy this hilarious\, classic romantic comedy\, which is a “Trivial Comedy for Serious People.”  Performances are in Cumberland Hall Auditorium on FTCC’s Fayetteville Campus. \nAll performances are FREE and open to the public. 
URL:https://www.faytechcc.edu/event/play-the-importance-of-being-earnest/2024-04-25/
LOCATION:Cumberland Hall Auditorium
CATEGORIES:Fine Arts,Public Presentation
END:VEVENT
BEGIN:VEVENT
DTSTART;TZID=America/New_York:20240420T190000
DTEND;TZID=America/New_York:20240420T190000
DTSTAMP:20260422T214010
CREATED:20240408T120651Z
LAST-MODIFIED:20240408T120813Z
UID:10001679-1713639600-1713639600@www.faytechcc.edu
SUMMARY:Play: The Importance of Being Earnest
DESCRIPTION:The Department of Fine Arts at FTCC is thrilled to present our production of “The Importance of Being Earnest.”  All are invited to enjoy this hilarious\, classic romantic comedy\, which is a “Trivial Comedy for Serious People.”  Performances are in Cumberland Hall Auditorium on FTCC’s Fayetteville Campus. \nAll performances are FREE and open to the public. 
URL:https://www.faytechcc.edu/event/play-the-importance-of-being-earnest/2024-04-20/2/
LOCATION:Cumberland Hall Auditorium
CATEGORIES:Fine Arts,Public Presentation
END:VEVENT
BEGIN:VEVENT
DTSTART;TZID=America/New_York:20240420T140000
DTEND;TZID=America/New_York:20240420T140000
DTSTAMP:20260422T214010
CREATED:20240408T120651Z
LAST-MODIFIED:20240408T120813Z
UID:10001678-1713621600-1713621600@www.faytechcc.edu
SUMMARY:Play: The Importance of Being Earnest
DESCRIPTION:The Department of Fine Arts at FTCC is thrilled to present our production of “The Importance of Being Earnest.”  All are invited to enjoy this hilarious\, classic romantic comedy\, which is a “Trivial Comedy for Serious People.”  Performances are in Cumberland Hall Auditorium on FTCC’s Fayetteville Campus. \nAll performances are FREE and open to the public. 
URL:https://www.faytechcc.edu/event/play-the-importance-of-being-earnest/2024-04-20/1/
LOCATION:Cumberland Hall Auditorium
CATEGORIES:Fine Arts,Public Presentation
END:VEVENT
BEGIN:VEVENT
DTSTART;TZID=America/New_York:20240419T190000
DTEND;TZID=America/New_York:20240419T190000
DTSTAMP:20260422T214010
CREATED:20240408T120651Z
LAST-MODIFIED:20240408T120813Z
UID:10001677-1713553200-1713553200@www.faytechcc.edu
SUMMARY:Play: The Importance of Being Earnest
DESCRIPTION:The Department of Fine Arts at FTCC is thrilled to present our production of “The Importance of Being Earnest.”  All are invited to enjoy this hilarious\, classic romantic comedy\, which is a “Trivial Comedy for Serious People.”  Performances are in Cumberland Hall Auditorium on FTCC’s Fayetteville Campus. \nAll performances are FREE and open to the public. 
URL:https://www.faytechcc.edu/event/play-the-importance-of-being-earnest/2024-04-19/
LOCATION:Cumberland Hall Auditorium
CATEGORIES:Fine Arts,Public Presentation
END:VEVENT
BEGIN:VEVENT
DTSTART;TZID=America/New_York:20240418T190000
DTEND;TZID=America/New_York:20240418T190000
DTSTAMP:20260422T214010
CREATED:20240408T120651Z
LAST-MODIFIED:20240408T120813Z
UID:10001676-1713466800-1713466800@www.faytechcc.edu
SUMMARY:Play: The Importance of Being Earnest
DESCRIPTION:The Department of Fine Arts at FTCC is thrilled to present our production of “The Importance of Being Earnest.”  All are invited to enjoy this hilarious\, classic romantic comedy\, which is a “Trivial Comedy for Serious People.”  Performances are in Cumberland Hall Auditorium on FTCC’s Fayetteville Campus. \nAll performances are FREE and open to the public. 
URL:https://www.faytechcc.edu/event/play-the-importance-of-being-earnest/2024-04-18/
LOCATION:Cumberland Hall Auditorium
CATEGORIES:Fine Arts,Public Presentation
END:VEVENT
BEGIN:VEVENT
DTSTART;TZID=America/New_York:20240411T130000
DTEND;TZID=America/New_York:20240411T153000
DTSTAMP:20260422T214010
CREATED:20240325T115857Z
LAST-MODIFIED:20240325T115857Z
UID:10001604-1712840400-1712849400@www.faytechcc.edu
SUMMARY:FTCC Fine Arts Presents - Animation Celebration
DESCRIPTION:FTCC Fine Arts Presents Animation Celebration – Thursday\, April 11 from 1 pm to 3:30 pm in Cumberland Auditorium.
URL:https://www.faytechcc.edu/event/ftcc-fine-arts-presents-animation-celebration/
LOCATION:Cumberland Hall Auditorium
END:VEVENT
END:VCALENDAR