BEGIN:VCALENDAR
VERSION:2.0
PRODID:-//Fayetteville Technical Community College - ECPv6.15.9//NONSGML v1.0//EN
CALSCALE:GREGORIAN
METHOD:PUBLISH
X-ORIGINAL-URL:https://www.faytechcc.edu
X-WR-CALDESC:Events for Fayetteville Technical Community College
REFRESH-INTERVAL;VALUE=DURATION:PT1H
X-Robots-Tag:noindex
X-PUBLISHED-TTL:PT1H
BEGIN:VTIMEZONE
TZID:America/New_York
BEGIN:DAYLIGHT
TZOFFSETFROM:-0500
TZOFFSETTO:-0400
TZNAME:EDT
DTSTART:20230312T070000
END:DAYLIGHT
BEGIN:STANDARD
TZOFFSETFROM:-0400
TZOFFSETTO:-0500
TZNAME:EST
DTSTART:20231105T060000
END:STANDARD
BEGIN:DAYLIGHT
TZOFFSETFROM:-0500
TZOFFSETTO:-0400
TZNAME:EDT
DTSTART:20240310T070000
END:DAYLIGHT
BEGIN:STANDARD
TZOFFSETFROM:-0400
TZOFFSETTO:-0500
TZNAME:EST
DTSTART:20241103T060000
END:STANDARD
BEGIN:DAYLIGHT
TZOFFSETFROM:-0500
TZOFFSETTO:-0400
TZNAME:EDT
DTSTART:20250309T070000
END:DAYLIGHT
BEGIN:STANDARD
TZOFFSETFROM:-0400
TZOFFSETTO:-0500
TZNAME:EST
DTSTART:20251102T060000
END:STANDARD
BEGIN:DAYLIGHT
TZOFFSETFROM:-0500
TZOFFSETTO:-0400
TZNAME:EDT
DTSTART:20260308T070000
END:DAYLIGHT
BEGIN:STANDARD
TZOFFSETFROM:-0400
TZOFFSETTO:-0500
TZNAME:EST
DTSTART:20261101T060000
END:STANDARD
END:VTIMEZONE
BEGIN:VEVENT
DTSTART;TZID=America/New_York:20250227T190000
DTEND;TZID=America/New_York:20250227T213000
DTSTAMP:20260422T005144
CREATED:20250123T195441Z
LAST-MODIFIED:20250123T195441Z
UID:10002424-1740682800-1740691800@www.faytechcc.edu
SUMMARY:The 25th Annual Putnam County Spelling Bee - The Musical
DESCRIPTION:🎭 FTCC Fine Arts Presents\nThe 25th Annual Putnam County Spelling Bee\, The Musical \n🎶 Music and Lyrics: William Finn\n📖 Book: Rachel Sheinkin\n💡 Conceived by: Rebecca Feldman \n📍 Location: FTCC Campus\, Cumberland Hall Auditorium\n🎟️ Admission: Free and open to the public \n📅 Show Dates: February 20 – March 1\, 2025\n🕖 Show Times:\nThursdays & Fridays: 7:00 PM\nSaturdays: 2:00 PM & 7:00 PM \n⚠️ Rated PG-13 for strong language and crude humor. \nPlease mark your calendars and join us for a fun and unforgettable performance! 🎶🧩
URL:https://www.faytechcc.edu/event/the-25th-annual-putnam-county-spelling-bee-the-musical/2025-02-27/
LOCATION:Cumberland Hall Auditorium
CATEGORIES:Fine Arts
END:VEVENT
BEGIN:VEVENT
DTSTART;TZID=America/New_York:20250222T190000
DTEND;TZID=America/New_York:20250222T213000
DTSTAMP:20260422T005144
CREATED:20250123T195441Z
LAST-MODIFIED:20250123T195441Z
UID:10002423-1740250800-1740259800@www.faytechcc.edu
SUMMARY:The 25th Annual Putnam County Spelling Bee - The Musical
DESCRIPTION:🎭 FTCC Fine Arts Presents\nThe 25th Annual Putnam County Spelling Bee\, The Musical \n🎶 Music and Lyrics: William Finn\n📖 Book: Rachel Sheinkin\n💡 Conceived by: Rebecca Feldman \n📍 Location: FTCC Campus\, Cumberland Hall Auditorium\n🎟️ Admission: Free and open to the public \n📅 Show Dates: February 20 – March 1\, 2025\n🕖 Show Times:\nThursdays & Fridays: 7:00 PM\nSaturdays: 2:00 PM & 7:00 PM \n⚠️ Rated PG-13 for strong language and crude humor. \nPlease mark your calendars and join us for a fun and unforgettable performance! 🎶🧩
URL:https://www.faytechcc.edu/event/the-25th-annual-putnam-county-spelling-bee-the-musical/2025-02-22/2/
LOCATION:Cumberland Hall Auditorium
CATEGORIES:Fine Arts
END:VEVENT
BEGIN:VEVENT
DTSTART;TZID=America/New_York:20250222T140000
DTEND;TZID=America/New_York:20250222T163000
DTSTAMP:20260422T005144
CREATED:20250123T195441Z
LAST-MODIFIED:20250123T195441Z
UID:10002422-1740232800-1740241800@www.faytechcc.edu
SUMMARY:The 25th Annual Putnam County Spelling Bee - The Musical
DESCRIPTION:🎭 FTCC Fine Arts Presents\nThe 25th Annual Putnam County Spelling Bee\, The Musical \n🎶 Music and Lyrics: William Finn\n📖 Book: Rachel Sheinkin\n💡 Conceived by: Rebecca Feldman \n📍 Location: FTCC Campus\, Cumberland Hall Auditorium\n🎟️ Admission: Free and open to the public \n📅 Show Dates: February 20 – March 1\, 2025\n🕖 Show Times:\nThursdays & Fridays: 7:00 PM\nSaturdays: 2:00 PM & 7:00 PM \n⚠️ Rated PG-13 for strong language and crude humor. \nPlease mark your calendars and join us for a fun and unforgettable performance! 🎶🧩
URL:https://www.faytechcc.edu/event/the-25th-annual-putnam-county-spelling-bee-the-musical/2025-02-22/1/
LOCATION:Cumberland Hall Auditorium
CATEGORIES:Fine Arts
END:VEVENT
BEGIN:VEVENT
DTSTART;TZID=America/New_York:20250221T190000
DTEND;TZID=America/New_York:20250221T213000
DTSTAMP:20260422T005144
CREATED:20250123T195441Z
LAST-MODIFIED:20250123T195441Z
UID:10002421-1740164400-1740173400@www.faytechcc.edu
SUMMARY:The 25th Annual Putnam County Spelling Bee - The Musical
DESCRIPTION:🎭 FTCC Fine Arts Presents\nThe 25th Annual Putnam County Spelling Bee\, The Musical \n🎶 Music and Lyrics: William Finn\n📖 Book: Rachel Sheinkin\n💡 Conceived by: Rebecca Feldman \n📍 Location: FTCC Campus\, Cumberland Hall Auditorium\n🎟️ Admission: Free and open to the public \n📅 Show Dates: February 20 – March 1\, 2025\n🕖 Show Times:\nThursdays & Fridays: 7:00 PM\nSaturdays: 2:00 PM & 7:00 PM \n⚠️ Rated PG-13 for strong language and crude humor. \nPlease mark your calendars and join us for a fun and unforgettable performance! 🎶🧩
URL:https://www.faytechcc.edu/event/the-25th-annual-putnam-county-spelling-bee-the-musical/2025-02-21/
LOCATION:Cumberland Hall Auditorium
CATEGORIES:Fine Arts
END:VEVENT
BEGIN:VEVENT
DTSTART;TZID=America/New_York:20250220T190000
DTEND;TZID=America/New_York:20250220T213000
DTSTAMP:20260422T005144
CREATED:20250220T163741Z
LAST-MODIFIED:20250220T163742Z
UID:10002420-1740078000-1740087000@www.faytechcc.edu
SUMMARY:Canceled: The 25th Annual Putnam County Spelling Bee - The Musical
DESCRIPTION:Tonight’s performance has been canceled due to the inclement weather. Please come see the show this weekend or next week!\n🎭 FTCC Fine Arts Presents\nThe 25th Annual Putnam County Spelling Bee\, The Musical \n🎶 Music and Lyrics: William Finn\n📖 Book: Rachel Sheinkin\n💡 Conceived by: Rebecca Feldman \n📍 Location: FTCC Campus\, Cumberland Hall Auditorium\n🎟️ Admission: Free and open to the public \n📅 Show Dates: February 20 – March 1\, 2025\n🕖 Show Times:\nThursdays & Fridays: 7:00 PM\nSaturdays: 2:00 PM & 7:00 PM \n⚠️ Rated PG-13 for strong language and crude humor. \nPlease mark your calendars and join us for a fun and unforgettable performance! 🎶🧩
URL:https://www.faytechcc.edu/event/the-25th-annual-putnam-county-spelling-bee-the-musical-2/
LOCATION:Cumberland Hall Auditorium
CATEGORIES:Fine Arts
END:VEVENT
BEGIN:VEVENT
DTSTART;TZID=America/New_York:20250109T180000
DTEND;TZID=America/New_York:20250109T180000
DTSTAMP:20260422T005144
CREATED:20241120T132549Z
LAST-MODIFIED:20241120T132549Z
UID:10002279-1736445600-1736445600@www.faytechcc.edu
SUMMARY:High School Connections - New Student Orientation
DESCRIPTION:High School Connections will hold two New Student Orientation sessions at 4pm and 6pm on Thursday\, Jan. 9\, in Cumberland Hall Auditorium at 2211 Hull Road.
URL:https://www.faytechcc.edu/event/high-school-connections-new-student-orientation/2025-01-09/2/
LOCATION:Cumberland Hall Auditorium
END:VEVENT
BEGIN:VEVENT
DTSTART;TZID=America/New_York:20250109T160000
DTEND;TZID=America/New_York:20250109T160000
DTSTAMP:20260422T005144
CREATED:20241120T132549Z
LAST-MODIFIED:20241120T132549Z
UID:10002278-1736438400-1736438400@www.faytechcc.edu
SUMMARY:High School Connections - New Student Orientation
DESCRIPTION:High School Connections will hold two New Student Orientation sessions at 4pm and 6pm on Thursday\, Jan. 9\, in Cumberland Hall Auditorium at 2211 Hull Road.
URL:https://www.faytechcc.edu/event/high-school-connections-new-student-orientation/2025-01-09/1/
LOCATION:Cumberland Hall Auditorium
END:VEVENT
BEGIN:VEVENT
DTSTART;TZID=America/New_York:20241210T120000
DTEND;TZID=America/New_York:20241210T130000
DTSTAMP:20260422T005144
CREATED:20241016T120240Z
LAST-MODIFIED:20241016T120241Z
UID:10001852-1733832000-1733835600@www.faytechcc.edu
SUMMARY:Seekers Fellowship Christian Club Meeting
DESCRIPTION:The Seekers Fellowship Christian Club invites everyone to attend their weekly meetings on Tuesdays from noon to 1 PM in the Cumberland Auditorium – CUH 360.
URL:https://www.faytechcc.edu/event/seekers-fellowship-christian-club-meetings-3/2024-12-10/
LOCATION:Cumberland Hall Auditorium
ORGANIZER;CN="FTCC Seekers Fellowship Club":MAILTO:abrahamn@faytechcc.edu
END:VEVENT
BEGIN:VEVENT
DTSTART;TZID=America/New_York:20241204T190000
DTEND;TZID=America/New_York:20241204T190000
DTSTAMP:20260422T005144
CREATED:20240920T210711Z
LAST-MODIFIED:20240920T210723Z
UID:10002040-1733338800-1733338800@www.faytechcc.edu
SUMMARY:Concert: Vocalist Stephen Love and FTCC student ensembles
DESCRIPTION:Vocalist Stephen Love will perform with FTCC student ensembles in the second event in FTCC’s 2024-25 Guest Artist Concert Series.  \nThe concert will be at 7pm in Cumberland Hall Auditorium. Admission is free and the event is open to the public. \n 
URL:https://www.faytechcc.edu/event/concert-vocalist-stephen-love/
LOCATION:Cumberland Hall Auditorium
ORGANIZER;CN="FTCC Guest Artist Concert Series":MAILTO:music@faytechcc.edu
END:VEVENT
BEGIN:VEVENT
DTSTART;TZID=America/New_York:20241203T120000
DTEND;TZID=America/New_York:20241203T130000
DTSTAMP:20260422T005144
CREATED:20241016T120240Z
LAST-MODIFIED:20241016T120241Z
UID:10001851-1733227200-1733230800@www.faytechcc.edu
SUMMARY:Seekers Fellowship Christian Club Meeting
DESCRIPTION:The Seekers Fellowship Christian Club invites everyone to attend their weekly meetings on Tuesdays from noon to 1 PM in the Cumberland Auditorium – CUH 360.
URL:https://www.faytechcc.edu/event/seekers-fellowship-christian-club-meetings-3/2024-12-03/
LOCATION:Cumberland Hall Auditorium
ORGANIZER;CN="FTCC Seekers Fellowship Club":MAILTO:abrahamn@faytechcc.edu
END:VEVENT
BEGIN:VEVENT
DTSTART;TZID=America/New_York:20241126T120000
DTEND;TZID=America/New_York:20241126T130000
DTSTAMP:20260422T005144
CREATED:20241016T120240Z
LAST-MODIFIED:20241016T120241Z
UID:10001850-1732622400-1732626000@www.faytechcc.edu
SUMMARY:Seekers Fellowship Christian Club Meeting
DESCRIPTION:The Seekers Fellowship Christian Club invites everyone to attend their weekly meetings on Tuesdays from noon to 1 PM in the Cumberland Auditorium – CUH 360.
URL:https://www.faytechcc.edu/event/seekers-fellowship-christian-club-meetings-3/2024-11-26/
LOCATION:Cumberland Hall Auditorium
ORGANIZER;CN="FTCC Seekers Fellowship Club":MAILTO:abrahamn@faytechcc.edu
END:VEVENT
BEGIN:VEVENT
DTSTART;TZID=America/New_York:20241119T120000
DTEND;TZID=America/New_York:20241119T130000
DTSTAMP:20260422T005144
CREATED:20241016T120240Z
LAST-MODIFIED:20241016T120241Z
UID:10001849-1732017600-1732021200@www.faytechcc.edu
SUMMARY:Seekers Fellowship Christian Club Meeting
DESCRIPTION:The Seekers Fellowship Christian Club invites everyone to attend their weekly meetings on Tuesdays from noon to 1 PM in the Cumberland Auditorium – CUH 360.
URL:https://www.faytechcc.edu/event/seekers-fellowship-christian-club-meetings-3/2024-11-19/
LOCATION:Cumberland Hall Auditorium
ORGANIZER;CN="FTCC Seekers Fellowship Club":MAILTO:abrahamn@faytechcc.edu
END:VEVENT
BEGIN:VEVENT
DTSTART;TZID=America/New_York:20241112T120000
DTEND;TZID=America/New_York:20241112T130000
DTSTAMP:20260422T005144
CREATED:20241016T120240Z
LAST-MODIFIED:20241016T120241Z
UID:10001848-1731412800-1731416400@www.faytechcc.edu
SUMMARY:Seekers Fellowship Christian Club Meeting
DESCRIPTION:The Seekers Fellowship Christian Club invites everyone to attend their weekly meetings on Tuesdays from noon to 1 PM in the Cumberland Auditorium – CUH 360.
URL:https://www.faytechcc.edu/event/seekers-fellowship-christian-club-meetings-3/2024-11-12/
LOCATION:Cumberland Hall Auditorium
ORGANIZER;CN="FTCC Seekers Fellowship Club":MAILTO:abrahamn@faytechcc.edu
END:VEVENT
BEGIN:VEVENT
DTSTART;TZID=America/New_York:20241105T120000
DTEND;TZID=America/New_York:20241105T130000
DTSTAMP:20260422T005144
CREATED:20241016T120240Z
LAST-MODIFIED:20241016T120241Z
UID:10001847-1730808000-1730811600@www.faytechcc.edu
SUMMARY:Seekers Fellowship Christian Club Meeting
DESCRIPTION:The Seekers Fellowship Christian Club invites everyone to attend their weekly meetings on Tuesdays from noon to 1 PM in the Cumberland Auditorium – CUH 360.
URL:https://www.faytechcc.edu/event/seekers-fellowship-christian-club-meetings-3/2024-11-05/
LOCATION:Cumberland Hall Auditorium
ORGANIZER;CN="FTCC Seekers Fellowship Club":MAILTO:abrahamn@faytechcc.edu
END:VEVENT
BEGIN:VEVENT
DTSTART;TZID=America/New_York:20241029T133000
DTEND;TZID=America/New_York:20241029T133000
DTSTAMP:20260422T005144
CREATED:20241004T214216Z
LAST-MODIFIED:20241004T214216Z
UID:10002059-1730208600-1730208600@www.faytechcc.edu
SUMMARY:Author Talk & Book Signing
DESCRIPTION:Fayetteville Technical Community College is pleased to host J. Rich Leonard\, Dean of the Campbell University Law School\, for a talk about his memoir “From Welcome to Windhoek: A Judge’s Journey.” Leonard will speak at 1:30pm in Cumberland Hall Auditorium. A book signing will follow. The event is free and open to the public. Copies of Leonard’s book are available for purchase at City Center Gallery & Books in downtown Fayetteville and online. \nThe book is described as follows: “This is the remarkable story of how a boy from rural Welcome\, North Carolina\, grew up to become an innovative judge\, global citizen\, and go-to guy for court-building in emerging African nations. Along the way\, he organizes the first-ever judicial conference in Tanzania\, jogs with children in Lusaka\, dances with a python\, and has adventures ranging from the harrowing to the hilarious. In the end\, he discovers the distance between Welcome and Windhoek is not as great as he imagined\, and that both places now occupy adjoining spaces in his heart.”
URL:https://www.faytechcc.edu/event/author-talk-book-signing/
LOCATION:Cumberland Hall Auditorium
CATEGORIES:Public Presentation,Students
ORGANIZER;CN="Paul H. Thompson Library":MAILTO:dirisiom@faytechcc.edu
END:VEVENT
BEGIN:VEVENT
DTSTART;TZID=America/New_York:20241029T120000
DTEND;TZID=America/New_York:20241029T130000
DTSTAMP:20260422T005144
CREATED:20241016T120240Z
LAST-MODIFIED:20241016T120241Z
UID:10001846-1730203200-1730206800@www.faytechcc.edu
SUMMARY:Seekers Fellowship Christian Club Meeting
DESCRIPTION:The Seekers Fellowship Christian Club invites everyone to attend their weekly meetings on Tuesdays from noon to 1 PM in the Cumberland Auditorium – CUH 360.
URL:https://www.faytechcc.edu/event/seekers-fellowship-christian-club-meetings-3/2024-10-29/
LOCATION:Cumberland Hall Auditorium
ORGANIZER;CN="FTCC Seekers Fellowship Club":MAILTO:abrahamn@faytechcc.edu
END:VEVENT
BEGIN:VEVENT
DTSTART;TZID=America/New_York:20241022T120000
DTEND;TZID=America/New_York:20241022T130000
DTSTAMP:20260422T005144
CREATED:20241016T120240Z
LAST-MODIFIED:20241016T120241Z
UID:10001845-1729598400-1729602000@www.faytechcc.edu
SUMMARY:Seekers Fellowship Christian Club Meeting
DESCRIPTION:The Seekers Fellowship Christian Club invites everyone to attend their weekly meetings on Tuesdays from noon to 1 PM in the Cumberland Auditorium – CUH 360.
URL:https://www.faytechcc.edu/event/seekers-fellowship-christian-club-meetings-3/2024-10-22/
LOCATION:Cumberland Hall Auditorium
ORGANIZER;CN="FTCC Seekers Fellowship Club":MAILTO:abrahamn@faytechcc.edu
END:VEVENT
BEGIN:VEVENT
DTSTART;TZID=America/New_York:20241016T180000
DTEND;TZID=America/New_York:20241016T200000
DTSTAMP:20260422T005144
CREATED:20241002T184507Z
LAST-MODIFIED:20241003T205216Z
UID:10002056-1729101600-1729108800@www.faytechcc.edu
SUMMARY:Auditions for Musical Production
DESCRIPTION:The FTCC Fine Arts Department will be holding auditions for parts in its spring production of “The 25th Annual Putnam County Spelling Bee” from 6-8 pm on Tuesday\, Oct. 15\, and Wednesday\, Oct. 16. \nAnyone interested in auditioning for the musical comedy should request an appointment for their preferred date by contacting Katie Herring at herringk@faytechcc.edu or 910-678-8493. They will be sent a selection from the script to prepare to read for the audition. They should also prepare to sing 32 bars of a musical theater song. \nAll are welcome to audition – students\, faculty\, staff and members of the community. \nRehearsals for the play will begin on Nov. 4 and be held from 6-9pm Monday through Thursday. There will be no rehearsals during FTCC’s winter break. Performances are scheduled for Feb. 20 – March 1. \n“The 25th Annual Putnam County Spelling Bee” is a Tony Award-winning musical. Playbill.com says the musical follows “a group of wonderfully unique and impassioned adolescents as they compete for the bee championship\,” and “is a joyful night of comedy and quirk that celebrates the pursuit of victory and the gift of being true to oneself.”
URL:https://www.faytechcc.edu/event/auditions-for-musical-production/2024-10-16/
LOCATION:Cumberland Hall Auditorium
CATEGORIES:Public Presentation,Students
END:VEVENT
BEGIN:VEVENT
DTSTART;TZID=America/New_York:20241015T180000
DTEND;TZID=America/New_York:20241015T200000
DTSTAMP:20260422T005144
CREATED:20241002T184507Z
LAST-MODIFIED:20241003T205216Z
UID:10002055-1729015200-1729022400@www.faytechcc.edu
SUMMARY:Auditions for Musical Production
DESCRIPTION:The FTCC Fine Arts Department will be holding auditions for parts in its spring production of “The 25th Annual Putnam County Spelling Bee” from 6-8 pm on Tuesday\, Oct. 15\, and Wednesday\, Oct. 16. \nAnyone interested in auditioning for the musical comedy should request an appointment for their preferred date by contacting Katie Herring at herringk@faytechcc.edu or 910-678-8493. They will be sent a selection from the script to prepare to read for the audition. They should also prepare to sing 32 bars of a musical theater song. \nAll are welcome to audition – students\, faculty\, staff and members of the community. \nRehearsals for the play will begin on Nov. 4 and be held from 6-9pm Monday through Thursday. There will be no rehearsals during FTCC’s winter break. Performances are scheduled for Feb. 20 – March 1. \n“The 25th Annual Putnam County Spelling Bee” is a Tony Award-winning musical. Playbill.com says the musical follows “a group of wonderfully unique and impassioned adolescents as they compete for the bee championship\,” and “is a joyful night of comedy and quirk that celebrates the pursuit of victory and the gift of being true to oneself.”
URL:https://www.faytechcc.edu/event/auditions-for-musical-production/2024-10-15/
LOCATION:Cumberland Hall Auditorium
CATEGORIES:Public Presentation,Students
END:VEVENT
BEGIN:VEVENT
DTSTART;TZID=America/New_York:20241015T120000
DTEND;TZID=America/New_York:20241015T130000
DTSTAMP:20260422T005144
CREATED:20240819T140527Z
LAST-MODIFIED:20240819T140527Z
UID:10001844-1728993600-1728997200@www.faytechcc.edu
SUMMARY:Seekers Fellowship Christian Club Meetings
DESCRIPTION:The Seekers Fellowship Christian Club invites everyone to attend their weekly meetings on Tuesdays from 12 PM to 1 PM in the Cumberland Auditorium – CUH 360.
URL:https://www.faytechcc.edu/event/seekers-fellowship-christian-club-meetings/2024-10-15/
LOCATION:Cumberland Hall Auditorium
ORGANIZER;CN="FTCC Seekers Fellowship Club":MAILTO:abrahamn@faytechcc.edu
END:VEVENT
BEGIN:VEVENT
DTSTART;TZID=America/New_York:20241008T120000
DTEND;TZID=America/New_York:20241008T130000
DTSTAMP:20260422T005144
CREATED:20240819T140527Z
LAST-MODIFIED:20240819T140527Z
UID:10001843-1728388800-1728392400@www.faytechcc.edu
SUMMARY:Seekers Fellowship Christian Club Meetings
DESCRIPTION:The Seekers Fellowship Christian Club invites everyone to attend their weekly meetings on Tuesdays from 12 PM to 1 PM in the Cumberland Auditorium – CUH 360.
URL:https://www.faytechcc.edu/event/seekers-fellowship-christian-club-meetings/2024-10-08/
LOCATION:Cumberland Hall Auditorium
ORGANIZER;CN="FTCC Seekers Fellowship Club":MAILTO:abrahamn@faytechcc.edu
END:VEVENT
BEGIN:VEVENT
DTSTART;TZID=America/New_York:20241001T120000
DTEND;TZID=America/New_York:20241001T130000
DTSTAMP:20260422T005144
CREATED:20240819T140527Z
LAST-MODIFIED:20240819T140527Z
UID:10001842-1727784000-1727787600@www.faytechcc.edu
SUMMARY:Seekers Fellowship Christian Club Meetings
DESCRIPTION:The Seekers Fellowship Christian Club invites everyone to attend their weekly meetings on Tuesdays from 12 PM to 1 PM in the Cumberland Auditorium – CUH 360.
URL:https://www.faytechcc.edu/event/seekers-fellowship-christian-club-meetings/2024-10-01/
LOCATION:Cumberland Hall Auditorium
ORGANIZER;CN="FTCC Seekers Fellowship Club":MAILTO:abrahamn@faytechcc.edu
END:VEVENT
BEGIN:VEVENT
DTSTART;TZID=America/New_York:20240930T190000
DTEND;TZID=America/New_York:20240930T190000
DTSTAMP:20260422T005144
CREATED:20240920T133533Z
LAST-MODIFIED:20240920T133534Z
UID:10002039-1727722800-1727722800@www.faytechcc.edu
SUMMARY:BlackBox Ensemble - free public concert
DESCRIPTION:FTCC’s 2024-25 Guest Artist Concert Series kicks off with a free public performance by the BlackBox Ensemble\, a contemporary new music ensemble based in New York City. \nThe concert will be at 7pm in Cumberland Hall Auditorium. Admission is free and the event is open to the public. \nFor more information about the 2024-25 Guest Artist Concert Series\, please visit this link. \nBlackBox Music Ensemble concert
URL:https://www.faytechcc.edu/event/blackbox-ensemble-free-public-concert/
LOCATION:Cumberland Hall Auditorium
CATEGORIES:Public Presentation
ORGANIZER;CN="FTCC Guest Artist Concert Series":MAILTO:music@faytechcc.edu
END:VEVENT
BEGIN:VEVENT
DTSTART;TZID=America/New_York:20240924T120000
DTEND;TZID=America/New_York:20240924T130000
DTSTAMP:20260422T005145
CREATED:20240819T140527Z
LAST-MODIFIED:20240819T140527Z
UID:10001841-1727179200-1727182800@www.faytechcc.edu
SUMMARY:Seekers Fellowship Christian Club Meetings
DESCRIPTION:The Seekers Fellowship Christian Club invites everyone to attend their weekly meetings on Tuesdays from 12 PM to 1 PM in the Cumberland Auditorium – CUH 360.
URL:https://www.faytechcc.edu/event/seekers-fellowship-christian-club-meetings/2024-09-24/
LOCATION:Cumberland Hall Auditorium
ORGANIZER;CN="FTCC Seekers Fellowship Club":MAILTO:abrahamn@faytechcc.edu
END:VEVENT
BEGIN:VEVENT
DTSTART;TZID=America/New_York:20240917T120000
DTEND;TZID=America/New_York:20240917T130000
DTSTAMP:20260422T005145
CREATED:20240819T140527Z
LAST-MODIFIED:20240819T140527Z
UID:10001840-1726574400-1726578000@www.faytechcc.edu
SUMMARY:Seekers Fellowship Christian Club Meetings
DESCRIPTION:The Seekers Fellowship Christian Club invites everyone to attend their weekly meetings on Tuesdays from 12 PM to 1 PM in the Cumberland Auditorium – CUH 360.
URL:https://www.faytechcc.edu/event/seekers-fellowship-christian-club-meetings/2024-09-17/
LOCATION:Cumberland Hall Auditorium
ORGANIZER;CN="FTCC Seekers Fellowship Club":MAILTO:abrahamn@faytechcc.edu
END:VEVENT
BEGIN:VEVENT
DTSTART;TZID=America/New_York:20240910T120000
DTEND;TZID=America/New_York:20240910T130000
DTSTAMP:20260422T005145
CREATED:20240909T123933Z
LAST-MODIFIED:20240909T124039Z
UID:10001839-1725969600-1725973200@www.faytechcc.edu
SUMMARY:Seekers Fellowship Christian Club Meetings
DESCRIPTION:The Seekers Fellowship Christian Club invites everyone to attend their weekly meetings on Tuesdays from 12 PM to 1 PM in the Cumberland Auditorium – CUH 360. \nIn today’s meeting\, the group will reflect on 9/11\, with prayer for the victims and their families and the nation. 
URL:https://www.faytechcc.edu/event/seekers-fellowship-christian-club-meetings-2/
LOCATION:Cumberland Hall Auditorium
ORGANIZER;CN="FTCC Seekers Fellowship Club":MAILTO:abrahamn@faytechcc.edu
END:VEVENT
BEGIN:VEVENT
DTSTART;TZID=America/New_York:20240903T120000
DTEND;TZID=America/New_York:20240903T130000
DTSTAMP:20260422T005145
CREATED:20240819T140527Z
LAST-MODIFIED:20240819T140527Z
UID:10001838-1725364800-1725368400@www.faytechcc.edu
SUMMARY:Seekers Fellowship Christian Club Meetings
DESCRIPTION:The Seekers Fellowship Christian Club invites everyone to attend their weekly meetings on Tuesdays from 12 PM to 1 PM in the Cumberland Auditorium – CUH 360.
URL:https://www.faytechcc.edu/event/seekers-fellowship-christian-club-meetings/2024-09-03/
LOCATION:Cumberland Hall Auditorium
ORGANIZER;CN="FTCC Seekers Fellowship Club":MAILTO:abrahamn@faytechcc.edu
END:VEVENT
BEGIN:VEVENT
DTSTART;TZID=America/New_York:20240827T120000
DTEND;TZID=America/New_York:20240827T130000
DTSTAMP:20260422T005145
CREATED:20240819T140527Z
LAST-MODIFIED:20240819T140527Z
UID:10001837-1724760000-1724763600@www.faytechcc.edu
SUMMARY:Seekers Fellowship Christian Club Meetings
DESCRIPTION:The Seekers Fellowship Christian Club invites everyone to attend their weekly meetings on Tuesdays from 12 PM to 1 PM in the Cumberland Auditorium – CUH 360.
URL:https://www.faytechcc.edu/event/seekers-fellowship-christian-club-meetings/2024-08-27/
LOCATION:Cumberland Hall Auditorium
ORGANIZER;CN="FTCC Seekers Fellowship Club":MAILTO:abrahamn@faytechcc.edu
END:VEVENT
BEGIN:VEVENT
DTSTART;TZID=America/New_York:20240820T120000
DTEND;TZID=America/New_York:20240820T130000
DTSTAMP:20260422T005145
CREATED:20240819T140527Z
LAST-MODIFIED:20240819T140527Z
UID:10001836-1724155200-1724158800@www.faytechcc.edu
SUMMARY:Seekers Fellowship Christian Club Meetings
DESCRIPTION:The Seekers Fellowship Christian Club invites everyone to attend their weekly meetings on Tuesdays from 12 PM to 1 PM in the Cumberland Auditorium – CUH 360.
URL:https://www.faytechcc.edu/event/seekers-fellowship-christian-club-meetings/2024-08-20/
LOCATION:Cumberland Hall Auditorium
ORGANIZER;CN="FTCC Seekers Fellowship Club":MAILTO:abrahamn@faytechcc.edu
END:VEVENT
BEGIN:VEVENT
DTSTART;TZID=America/New_York:20240523T120000
DTEND;TZID=America/New_York:20240523T130000
DTSTAMP:20260422T005145
CREATED:20240513T191031Z
LAST-MODIFIED:20240513T191031Z
UID:10001774-1716465600-1716469200@www.faytechcc.edu
SUMMARY:Seekers Fellowship Club meeting - Updated location
DESCRIPTION:The Seekers Fellowship Club meets from noon to 1 PM every Thursday.  \nMeeting will be held in Cumberland Hall Auditorium on 05/16 & 05/23/24 – Updated location
URL:https://www.faytechcc.edu/event/seekers-fellowship-club-meeting-updated-location/2024-05-23/
LOCATION:Cumberland Hall Auditorium
ORGANIZER;CN="FTCC Seekers Fellowship Club":MAILTO:abrahamn@faytechcc.edu
END:VEVENT
END:VCALENDAR