BEGIN:VCALENDAR
VERSION:2.0
PRODID:-//Fayetteville Technical Community College - ECPv6.15.9//NONSGML v1.0//EN
CALSCALE:GREGORIAN
METHOD:PUBLISH
X-ORIGINAL-URL:https://www.faytechcc.edu
X-WR-CALDESC:Events for Fayetteville Technical Community College
REFRESH-INTERVAL;VALUE=DURATION:PT1H
X-Robots-Tag:noindex
X-PUBLISHED-TTL:PT1H
BEGIN:VTIMEZONE
TZID:America/New_York
BEGIN:DAYLIGHT
TZOFFSETFROM:-0500
TZOFFSETTO:-0400
TZNAME:EDT
DTSTART:20250309T070000
END:DAYLIGHT
BEGIN:STANDARD
TZOFFSETFROM:-0400
TZOFFSETTO:-0500
TZNAME:EST
DTSTART:20251102T060000
END:STANDARD
BEGIN:DAYLIGHT
TZOFFSETFROM:-0500
TZOFFSETTO:-0400
TZNAME:EDT
DTSTART:20260308T070000
END:DAYLIGHT
BEGIN:STANDARD
TZOFFSETFROM:-0400
TZOFFSETTO:-0500
TZNAME:EST
DTSTART:20261101T060000
END:STANDARD
BEGIN:DAYLIGHT
TZOFFSETFROM:-0500
TZOFFSETTO:-0400
TZNAME:EDT
DTSTART:20270314T070000
END:DAYLIGHT
BEGIN:STANDARD
TZOFFSETFROM:-0400
TZOFFSETTO:-0500
TZNAME:EST
DTSTART:20271107T060000
END:STANDARD
END:VTIMEZONE
BEGIN:VEVENT
DTSTART;TZID=America/New_York:20260422T143000
DTEND;TZID=America/New_York:20260422T163000
DTSTAMP:20260421T184953
CREATED:20260414T173306Z
LAST-MODIFIED:20260414T173306Z
UID:10007175-1776868200-1776875400@www.faytechcc.edu
SUMMARY:FTCC Fine Arts Department presents Hamlet\, Zombie Killer of Denmark by Chris Stiles!
DESCRIPTION:Join us at Cumberland Hall Auditorium\, 2211 Hull Road\, Fayetteville\, for this wild and hilarious performance. \nPerformance dates & times\n• April 17 at 7 PM\n• April 18 at 2 PM & 7 PM \nSpecial FTCC student performances\n• April 20 at 1:30 PM\n• April 22 at 2:30 PM \nFree and open to the public\nNo tickets required. Seating is first come\, first served. \nFor more information\, contact Katie Herring at herringk@faytechcc.edu
URL:https://www.faytechcc.edu/event/ftcc-fine-arts-department-presents-hamlet-zombie-killer-of-denmark-by-chris-stiles/2026-04-22/
LOCATION:Cumberland Hall Auditorium
CATEGORIES:Arts & Humanities Department
END:VEVENT
BEGIN:VEVENT
DTSTART;TZID=America/New_York:20260427T150000
DTEND;TZID=America/New_York:20260427T150000
DTSTAMP:20260421T184953
CREATED:20260421T205317Z
LAST-MODIFIED:20260421T205317Z
UID:10007179-1777302000-1777302000@www.faytechcc.edu
SUMMARY:Town Hall for Faculty and Staff with Dr. Mark Sorrells
DESCRIPTION:Faculty & Staff join Dr. Sorrells for a Town Hall. \n📅 Date: Monday\, April 27\, 2026\n⏰ Time: 3:00 PM\n📍 Location: Cumberland Hall Auditorium\n👥 Target Audience: Faculty & Staff \n 
URL:https://www.faytechcc.edu/event/town-hall-for-faculty-and-staff-with-dr-mark-sorrells/
LOCATION:Cumberland Hall Auditorium
END:VEVENT
BEGIN:VEVENT
DTSTART;TZID=America/New_York:20260501T180000
DTEND;TZID=America/New_York:20260501T180000
DTSTAMP:20260421T184953
CREATED:20260302T202843Z
LAST-MODIFIED:20260302T202843Z
UID:10005465-1777658400-1777658400@www.faytechcc.edu
SUMMARY:The Art of Live Sound Production
DESCRIPTION:
URL:https://www.faytechcc.edu/event/the-art-of-live-sound-production/
LOCATION:Cumberland Hall Auditorium
ORGANIZER;CN="FTCC Entertainment Technologies":MAILTO:thompsoja@fayteccc.edu
END:VEVENT
END:VCALENDAR