BEGIN:VCALENDAR
VERSION:2.0
PRODID:-//Fayetteville Technical Community College - ECPv6.15.9//NONSGML v1.0//EN
CALSCALE:GREGORIAN
METHOD:PUBLISH
X-ORIGINAL-URL:https://www.faytechcc.edu
X-WR-CALDESC:Events for Fayetteville Technical Community College
REFRESH-INTERVAL;VALUE=DURATION:PT1H
X-Robots-Tag:noindex
X-PUBLISHED-TTL:PT1H
BEGIN:VTIMEZONE
TZID:America/New_York
BEGIN:DAYLIGHT
TZOFFSETFROM:-0500
TZOFFSETTO:-0400
TZNAME:EDT
DTSTART:20240310T070000
END:DAYLIGHT
BEGIN:STANDARD
TZOFFSETFROM:-0400
TZOFFSETTO:-0500
TZNAME:EST
DTSTART:20241103T060000
END:STANDARD
BEGIN:DAYLIGHT
TZOFFSETFROM:-0500
TZOFFSETTO:-0400
TZNAME:EDT
DTSTART:20250309T070000
END:DAYLIGHT
BEGIN:STANDARD
TZOFFSETFROM:-0400
TZOFFSETTO:-0500
TZNAME:EST
DTSTART:20251102T060000
END:STANDARD
BEGIN:DAYLIGHT
TZOFFSETFROM:-0500
TZOFFSETTO:-0400
TZNAME:EDT
DTSTART:20260308T070000
END:DAYLIGHT
BEGIN:STANDARD
TZOFFSETFROM:-0400
TZOFFSETTO:-0500
TZNAME:EST
DTSTART:20261101T060000
END:STANDARD
END:VTIMEZONE
BEGIN:VEVENT
DTSTART;TZID=America/New_York:20251125T120000
DTEND;TZID=America/New_York:20251125T133000
DTSTAMP:20260421T204803
CREATED:20250814T155846Z
LAST-MODIFIED:20250814T155846Z
UID:10003571-1764072000-1764077400@www.faytechcc.edu
SUMMARY:Seekers Fellowship Christian Club
DESCRIPTION:Join us as we kick off our weekly meetings starting Tuesday\, August 19\, 2025!\n🗓 When: Every Tuesday\, 12:00 PM – 1:30 PM\n📍 Where: Cumberland Hall\, Room 360\nAll are welcome—come for fellowship\, encouragement\, and meaningful conversations!
URL:https://www.faytechcc.edu/event/seekers-fellowship-christian-club-2/2025-11-25/
LOCATION:Cumberland Hall Auditorium\, Room 360\, 2215 Hull Road\, Fayetteville\, NC\, 28303\, United States
ORGANIZER;CN="FTCC Seekers Fellowship Club":MAILTO:abrahamn@faytechcc.edu
END:VEVENT
BEGIN:VEVENT
DTSTART;TZID=America/New_York:20251118T150000
DTEND;TZID=America/New_York:20251118T150000
DTSTAMP:20260421T204803
CREATED:20251114T153447Z
LAST-MODIFIED:20251114T153447Z
UID:10003936-1763478000-1763478000@www.faytechcc.edu
SUMMARY:Town Hall for Faculty & Staff with Dr. Mark Sorrells\, FTCC President
DESCRIPTION:Town Hall with the College President represents an opportunity to hear exciting updates about Fayetteville Technical Community College and to inquire\, engage\, and interact with Dr. Sorrells and others.  Please save the date and time for this event on your calendar\, and enjoy your day!  \nPlease note: This event is for FTCC Faculty and Staff only!
URL:https://www.faytechcc.edu/event/town-hall-for-faculty-staff-with-dr-mark-sorrells-ftcc-president/
LOCATION:Cumberland Hall Auditorium\, Room 360\, 2215 Hull Road\, Fayetteville\, NC\, 28303\, United States
END:VEVENT
BEGIN:VEVENT
DTSTART;TZID=America/New_York:20251118T120000
DTEND;TZID=America/New_York:20251118T133000
DTSTAMP:20260421T204803
CREATED:20250814T155846Z
LAST-MODIFIED:20250814T155846Z
UID:10003570-1763467200-1763472600@www.faytechcc.edu
SUMMARY:Seekers Fellowship Christian Club
DESCRIPTION:Join us as we kick off our weekly meetings starting Tuesday\, August 19\, 2025!\n🗓 When: Every Tuesday\, 12:00 PM – 1:30 PM\n📍 Where: Cumberland Hall\, Room 360\nAll are welcome—come for fellowship\, encouragement\, and meaningful conversations!
URL:https://www.faytechcc.edu/event/seekers-fellowship-christian-club-2/2025-11-18/
LOCATION:Cumberland Hall Auditorium\, Room 360\, 2215 Hull Road\, Fayetteville\, NC\, 28303\, United States
ORGANIZER;CN="FTCC Seekers Fellowship Club":MAILTO:abrahamn@faytechcc.edu
END:VEVENT
BEGIN:VEVENT
DTSTART;TZID=America/New_York:20251111T120000
DTEND;TZID=America/New_York:20251111T133000
DTSTAMP:20260421T204803
CREATED:20250814T155846Z
LAST-MODIFIED:20250814T155846Z
UID:10003569-1762862400-1762867800@www.faytechcc.edu
SUMMARY:Seekers Fellowship Christian Club
DESCRIPTION:Join us as we kick off our weekly meetings starting Tuesday\, August 19\, 2025!\n🗓 When: Every Tuesday\, 12:00 PM – 1:30 PM\n📍 Where: Cumberland Hall\, Room 360\nAll are welcome—come for fellowship\, encouragement\, and meaningful conversations!
URL:https://www.faytechcc.edu/event/seekers-fellowship-christian-club-2/2025-11-11/
LOCATION:Cumberland Hall Auditorium\, Room 360\, 2215 Hull Road\, Fayetteville\, NC\, 28303\, United States
ORGANIZER;CN="FTCC Seekers Fellowship Club":MAILTO:abrahamn@faytechcc.edu
END:VEVENT
BEGIN:VEVENT
DTSTART;TZID=America/New_York:20251104T120000
DTEND;TZID=America/New_York:20251104T133000
DTSTAMP:20260421T204803
CREATED:20250814T155846Z
LAST-MODIFIED:20250814T155846Z
UID:10003568-1762257600-1762263000@www.faytechcc.edu
SUMMARY:Seekers Fellowship Christian Club
DESCRIPTION:Join us as we kick off our weekly meetings starting Tuesday\, August 19\, 2025!\n🗓 When: Every Tuesday\, 12:00 PM – 1:30 PM\n📍 Where: Cumberland Hall\, Room 360\nAll are welcome—come for fellowship\, encouragement\, and meaningful conversations!
URL:https://www.faytechcc.edu/event/seekers-fellowship-christian-club-2/2025-11-04/
LOCATION:Cumberland Hall Auditorium\, Room 360\, 2215 Hull Road\, Fayetteville\, NC\, 28303\, United States
ORGANIZER;CN="FTCC Seekers Fellowship Club":MAILTO:abrahamn@faytechcc.edu
END:VEVENT
BEGIN:VEVENT
DTSTART;TZID=America/New_York:20251028T120000
DTEND;TZID=America/New_York:20251028T133000
DTSTAMP:20260421T204803
CREATED:20250814T155846Z
LAST-MODIFIED:20250814T155846Z
UID:10003567-1761652800-1761658200@www.faytechcc.edu
SUMMARY:Seekers Fellowship Christian Club
DESCRIPTION:Join us as we kick off our weekly meetings starting Tuesday\, August 19\, 2025!\n🗓 When: Every Tuesday\, 12:00 PM – 1:30 PM\n📍 Where: Cumberland Hall\, Room 360\nAll are welcome—come for fellowship\, encouragement\, and meaningful conversations!
URL:https://www.faytechcc.edu/event/seekers-fellowship-christian-club-2/2025-10-28/
LOCATION:Cumberland Hall Auditorium\, Room 360\, 2215 Hull Road\, Fayetteville\, NC\, 28303\, United States
ORGANIZER;CN="FTCC Seekers Fellowship Club":MAILTO:abrahamn@faytechcc.edu
END:VEVENT
BEGIN:VEVENT
DTSTART;TZID=America/New_York:20251021T120000
DTEND;TZID=America/New_York:20251021T133000
DTSTAMP:20260421T204803
CREATED:20250814T155846Z
LAST-MODIFIED:20250814T155846Z
UID:10003566-1761048000-1761053400@www.faytechcc.edu
SUMMARY:Seekers Fellowship Christian Club
DESCRIPTION:Join us as we kick off our weekly meetings starting Tuesday\, August 19\, 2025!\n🗓 When: Every Tuesday\, 12:00 PM – 1:30 PM\n📍 Where: Cumberland Hall\, Room 360\nAll are welcome—come for fellowship\, encouragement\, and meaningful conversations!
URL:https://www.faytechcc.edu/event/seekers-fellowship-christian-club-2/2025-10-21/
LOCATION:Cumberland Hall Auditorium\, Room 360\, 2215 Hull Road\, Fayetteville\, NC\, 28303\, United States
ORGANIZER;CN="FTCC Seekers Fellowship Club":MAILTO:abrahamn@faytechcc.edu
END:VEVENT
BEGIN:VEVENT
DTSTART;TZID=America/New_York:20251014T120000
DTEND;TZID=America/New_York:20251014T133000
DTSTAMP:20260421T204803
CREATED:20250814T155846Z
LAST-MODIFIED:20250814T155846Z
UID:10003565-1760443200-1760448600@www.faytechcc.edu
SUMMARY:Seekers Fellowship Christian Club
DESCRIPTION:Join us as we kick off our weekly meetings starting Tuesday\, August 19\, 2025!\n🗓 When: Every Tuesday\, 12:00 PM – 1:30 PM\n📍 Where: Cumberland Hall\, Room 360\nAll are welcome—come for fellowship\, encouragement\, and meaningful conversations!
URL:https://www.faytechcc.edu/event/seekers-fellowship-christian-club-2/2025-10-14/
LOCATION:Cumberland Hall Auditorium\, Room 360\, 2215 Hull Road\, Fayetteville\, NC\, 28303\, United States
ORGANIZER;CN="FTCC Seekers Fellowship Club":MAILTO:abrahamn@faytechcc.edu
END:VEVENT
BEGIN:VEVENT
DTSTART;TZID=America/New_York:20251007T120000
DTEND;TZID=America/New_York:20251007T133000
DTSTAMP:20260421T204803
CREATED:20250814T155846Z
LAST-MODIFIED:20250814T155846Z
UID:10003564-1759838400-1759843800@www.faytechcc.edu
SUMMARY:Seekers Fellowship Christian Club
DESCRIPTION:Join us as we kick off our weekly meetings starting Tuesday\, August 19\, 2025!\n🗓 When: Every Tuesday\, 12:00 PM – 1:30 PM\n📍 Where: Cumberland Hall\, Room 360\nAll are welcome—come for fellowship\, encouragement\, and meaningful conversations!
URL:https://www.faytechcc.edu/event/seekers-fellowship-christian-club-2/2025-10-07/
LOCATION:Cumberland Hall Auditorium\, Room 360\, 2215 Hull Road\, Fayetteville\, NC\, 28303\, United States
ORGANIZER;CN="FTCC Seekers Fellowship Club":MAILTO:abrahamn@faytechcc.edu
END:VEVENT
BEGIN:VEVENT
DTSTART;TZID=America/New_York:20250930T120000
DTEND;TZID=America/New_York:20250930T133000
DTSTAMP:20260421T204803
CREATED:20250814T155846Z
LAST-MODIFIED:20250814T155846Z
UID:10003563-1759233600-1759239000@www.faytechcc.edu
SUMMARY:Seekers Fellowship Christian Club
DESCRIPTION:Join us as we kick off our weekly meetings starting Tuesday\, August 19\, 2025!\n🗓 When: Every Tuesday\, 12:00 PM – 1:30 PM\n📍 Where: Cumberland Hall\, Room 360\nAll are welcome—come for fellowship\, encouragement\, and meaningful conversations!
URL:https://www.faytechcc.edu/event/seekers-fellowship-christian-club-2/2025-09-30/
LOCATION:Cumberland Hall Auditorium\, Room 360\, 2215 Hull Road\, Fayetteville\, NC\, 28303\, United States
ORGANIZER;CN="FTCC Seekers Fellowship Club":MAILTO:abrahamn@faytechcc.edu
END:VEVENT
BEGIN:VEVENT
DTSTART;TZID=America/New_York:20250923T120000
DTEND;TZID=America/New_York:20250923T133000
DTSTAMP:20260421T204803
CREATED:20250814T155846Z
LAST-MODIFIED:20250814T155846Z
UID:10003562-1758628800-1758634200@www.faytechcc.edu
SUMMARY:Seekers Fellowship Christian Club
DESCRIPTION:Join us as we kick off our weekly meetings starting Tuesday\, August 19\, 2025!\n🗓 When: Every Tuesday\, 12:00 PM – 1:30 PM\n📍 Where: Cumberland Hall\, Room 360\nAll are welcome—come for fellowship\, encouragement\, and meaningful conversations!
URL:https://www.faytechcc.edu/event/seekers-fellowship-christian-club-2/2025-09-23/
LOCATION:Cumberland Hall Auditorium\, Room 360\, 2215 Hull Road\, Fayetteville\, NC\, 28303\, United States
ORGANIZER;CN="FTCC Seekers Fellowship Club":MAILTO:abrahamn@faytechcc.edu
END:VEVENT
BEGIN:VEVENT
DTSTART;TZID=America/New_York:20250916T120000
DTEND;TZID=America/New_York:20250916T133000
DTSTAMP:20260421T204803
CREATED:20250814T155846Z
LAST-MODIFIED:20250814T155846Z
UID:10003561-1758024000-1758029400@www.faytechcc.edu
SUMMARY:Seekers Fellowship Christian Club
DESCRIPTION:Join us as we kick off our weekly meetings starting Tuesday\, August 19\, 2025!\n🗓 When: Every Tuesday\, 12:00 PM – 1:30 PM\n📍 Where: Cumberland Hall\, Room 360\nAll are welcome—come for fellowship\, encouragement\, and meaningful conversations!
URL:https://www.faytechcc.edu/event/seekers-fellowship-christian-club-2/2025-09-16/
LOCATION:Cumberland Hall Auditorium\, Room 360\, 2215 Hull Road\, Fayetteville\, NC\, 28303\, United States
ORGANIZER;CN="FTCC Seekers Fellowship Club":MAILTO:abrahamn@faytechcc.edu
END:VEVENT
BEGIN:VEVENT
DTSTART;TZID=America/New_York:20250909T120000
DTEND;TZID=America/New_York:20250909T133000
DTSTAMP:20260421T204803
CREATED:20250814T155846Z
LAST-MODIFIED:20250814T155846Z
UID:10003560-1757419200-1757424600@www.faytechcc.edu
SUMMARY:Seekers Fellowship Christian Club
DESCRIPTION:Join us as we kick off our weekly meetings starting Tuesday\, August 19\, 2025!\n🗓 When: Every Tuesday\, 12:00 PM – 1:30 PM\n📍 Where: Cumberland Hall\, Room 360\nAll are welcome—come for fellowship\, encouragement\, and meaningful conversations!
URL:https://www.faytechcc.edu/event/seekers-fellowship-christian-club-2/2025-09-09/
LOCATION:Cumberland Hall Auditorium\, Room 360\, 2215 Hull Road\, Fayetteville\, NC\, 28303\, United States
ORGANIZER;CN="FTCC Seekers Fellowship Club":MAILTO:abrahamn@faytechcc.edu
END:VEVENT
BEGIN:VEVENT
DTSTART;TZID=America/New_York:20250902T120000
DTEND;TZID=America/New_York:20250902T133000
DTSTAMP:20260421T204803
CREATED:20250814T155846Z
LAST-MODIFIED:20250814T155846Z
UID:10003559-1756814400-1756819800@www.faytechcc.edu
SUMMARY:Seekers Fellowship Christian Club
DESCRIPTION:Join us as we kick off our weekly meetings starting Tuesday\, August 19\, 2025!\n🗓 When: Every Tuesday\, 12:00 PM – 1:30 PM\n📍 Where: Cumberland Hall\, Room 360\nAll are welcome—come for fellowship\, encouragement\, and meaningful conversations!
URL:https://www.faytechcc.edu/event/seekers-fellowship-christian-club-2/2025-09-02/
LOCATION:Cumberland Hall Auditorium\, Room 360\, 2215 Hull Road\, Fayetteville\, NC\, 28303\, United States
ORGANIZER;CN="FTCC Seekers Fellowship Club":MAILTO:abrahamn@faytechcc.edu
END:VEVENT
BEGIN:VEVENT
DTSTART;TZID=America/New_York:20250826T120000
DTEND;TZID=America/New_York:20250826T133000
DTSTAMP:20260421T204803
CREATED:20250814T155846Z
LAST-MODIFIED:20250814T155846Z
UID:10003558-1756209600-1756215000@www.faytechcc.edu
SUMMARY:Seekers Fellowship Christian Club
DESCRIPTION:Join us as we kick off our weekly meetings starting Tuesday\, August 19\, 2025!\n🗓 When: Every Tuesday\, 12:00 PM – 1:30 PM\n📍 Where: Cumberland Hall\, Room 360\nAll are welcome—come for fellowship\, encouragement\, and meaningful conversations!
URL:https://www.faytechcc.edu/event/seekers-fellowship-christian-club-2/2025-08-26/
LOCATION:Cumberland Hall Auditorium\, Room 360\, 2215 Hull Road\, Fayetteville\, NC\, 28303\, United States
ORGANIZER;CN="FTCC Seekers Fellowship Club":MAILTO:abrahamn@faytechcc.edu
END:VEVENT
BEGIN:VEVENT
DTSTART;TZID=America/New_York:20250819T120000
DTEND;TZID=America/New_York:20250819T133000
DTSTAMP:20260421T204803
CREATED:20250814T155846Z
LAST-MODIFIED:20250814T155846Z
UID:10003557-1755604800-1755610200@www.faytechcc.edu
SUMMARY:Seekers Fellowship Christian Club
DESCRIPTION:Join us as we kick off our weekly meetings starting Tuesday\, August 19\, 2025!\n🗓 When: Every Tuesday\, 12:00 PM – 1:30 PM\n📍 Where: Cumberland Hall\, Room 360\nAll are welcome—come for fellowship\, encouragement\, and meaningful conversations!
URL:https://www.faytechcc.edu/event/seekers-fellowship-christian-club-2/2025-08-19/
LOCATION:Cumberland Hall Auditorium\, Room 360\, 2215 Hull Road\, Fayetteville\, NC\, 28303\, United States
ORGANIZER;CN="FTCC Seekers Fellowship Club":MAILTO:abrahamn@faytechcc.edu
END:VEVENT
BEGIN:VEVENT
DTSTART;TZID=America/New_York:20250403T173000
DTEND;TZID=America/New_York:20250403T200000
DTSTAMP:20260421T204803
CREATED:20250326T184544Z
LAST-MODIFIED:20250326T184544Z
UID:10002965-1743701400-1743710400@www.faytechcc.edu
SUMMARY:Cumberland Polytechnic HS Speech and Debate/Forensics Team Showcase
DESCRIPTION:
URL:https://www.faytechcc.edu/event/cumberland-polytechnic-hs-speech-and-debate-forensics-team-showcase/
LOCATION:Cumberland Hall Auditorium\, Room 360\, 2215 Hull Road\, Fayetteville\, NC\, 28303\, United States
ORGANIZER;CN="Cumberland Polytechnic HS Speech & Debate Team":MAILTO:gillisd@faytechcc.edu
END:VEVENT
BEGIN:VEVENT
DTSTART;TZID=America/New_York:20250130T180000
DTEND;TZID=America/New_York:20250130T203000
DTSTAMP:20260421T204803
CREATED:20250128T151753Z
LAST-MODIFIED:20250128T151753Z
UID:10002806-1738260000-1738269000@www.faytechcc.edu
SUMMARY:Suicide Prevention Movie Night
DESCRIPTION:FTCC and the Fayetteville Grief Coalition Present:\nMoving America’s Soul on Suicide (MASOS): Suicide Prevention Movie Night \n📅 Date: January 30\, 2025\n⏰ Time: 6:00 PM – 8:30 PM\n📍 Location: Cumberland Hall Auditorium\, Room 360 \n🎥 Join us for an impactful evening focused on suicide prevention. This free event is open to the community. \n🔗 Register now using the link below or scan the QR code for more information. \n          Register for Movie \nFree admission. Together\, we can make a difference.
URL:https://www.faytechcc.edu/event/suicide-prevention-movie-night/
LOCATION:Cumberland Hall Auditorium\, Room 360\, 2215 Hull Road\, Fayetteville\, NC\, 28303\, United States
ORGANIZER;CN="FTCC's Collegiate Recovery Program":MAILTO:mcdonalr@faytechcc.edu
END:VEVENT
END:VCALENDAR