BEGIN:VCALENDAR
VERSION:2.0
PRODID:-//Fayetteville Technical Community College - ECPv6.15.9//NONSGML v1.0//EN
CALSCALE:GREGORIAN
METHOD:PUBLISH
X-WR-CALNAME:Fayetteville Technical Community College
X-ORIGINAL-URL:https://www.faytechcc.edu
X-WR-CALDESC:Events for Fayetteville Technical Community College
REFRESH-INTERVAL;VALUE=DURATION:PT1H
X-Robots-Tag:noindex
X-PUBLISHED-TTL:PT1H
BEGIN:VTIMEZONE
TZID:America/New_York
BEGIN:DAYLIGHT
TZOFFSETFROM:-0500
TZOFFSETTO:-0400
TZNAME:EDT
DTSTART:20240310T070000
END:DAYLIGHT
BEGIN:STANDARD
TZOFFSETFROM:-0400
TZOFFSETTO:-0500
TZNAME:EST
DTSTART:20241103T060000
END:STANDARD
BEGIN:DAYLIGHT
TZOFFSETFROM:-0500
TZOFFSETTO:-0400
TZNAME:EDT
DTSTART:20250309T070000
END:DAYLIGHT
BEGIN:STANDARD
TZOFFSETFROM:-0400
TZOFFSETTO:-0500
TZNAME:EST
DTSTART:20251102T060000
END:STANDARD
BEGIN:DAYLIGHT
TZOFFSETFROM:-0500
TZOFFSETTO:-0400
TZNAME:EDT
DTSTART:20260308T070000
END:DAYLIGHT
BEGIN:STANDARD
TZOFFSETFROM:-0400
TZOFFSETTO:-0500
TZNAME:EST
DTSTART:20261101T060000
END:STANDARD
BEGIN:DAYLIGHT
TZOFFSETFROM:-0500
TZOFFSETTO:-0400
TZNAME:EDT
DTSTART:20270314T070000
END:DAYLIGHT
BEGIN:STANDARD
TZOFFSETFROM:-0400
TZOFFSETTO:-0500
TZNAME:EST
DTSTART:20271107T060000
END:STANDARD
END:VTIMEZONE
BEGIN:VEVENT
DTSTART;TZID=America/New_York:20260211T180000
DTEND;TZID=America/New_York:20260211T210000
DTSTAMP:20260421T081820
CREATED:20251205T162712Z
LAST-MODIFIED:20260302T131154Z
UID:10003976-1770832800-1770843600@www.faytechcc.edu
SUMMARY:Rehearsals for The Sound of Music
DESCRIPTION:Please note:\nThere will be some Saturday rehearsals —dates TBD.
URL:https://www.faytechcc.edu/event/rehearsals-for-the-sound-of-music/2026-02-11/
LOCATION:Cumberland Hall Auditorium\, Room 360\, 2215 Hull Road\, Fayetteville\, NC\, 28303\, United States
END:VEVENT
BEGIN:VEVENT
DTSTART;TZID=America/New_York:20260210T180000
DTEND;TZID=America/New_York:20260210T210000
DTSTAMP:20260421T081820
CREATED:20251205T162712Z
LAST-MODIFIED:20260302T131154Z
UID:10003975-1770746400-1770757200@www.faytechcc.edu
SUMMARY:Rehearsals for The Sound of Music
DESCRIPTION:Please note:\nThere will be some Saturday rehearsals —dates TBD.
URL:https://www.faytechcc.edu/event/rehearsals-for-the-sound-of-music/2026-02-10/
LOCATION:Cumberland Hall Auditorium\, Room 360\, 2215 Hull Road\, Fayetteville\, NC\, 28303\, United States
END:VEVENT
BEGIN:VEVENT
DTSTART;TZID=America/New_York:20260209T180000
DTEND;TZID=America/New_York:20260209T210000
DTSTAMP:20260421T081820
CREATED:20251205T162712Z
LAST-MODIFIED:20260302T131154Z
UID:10003974-1770660000-1770670800@www.faytechcc.edu
SUMMARY:Rehearsals for The Sound of Music
DESCRIPTION:Please note:\nThere will be some Saturday rehearsals —dates TBD.
URL:https://www.faytechcc.edu/event/rehearsals-for-the-sound-of-music/2026-02-09/
LOCATION:Cumberland Hall Auditorium\, Room 360\, 2215 Hull Road\, Fayetteville\, NC\, 28303\, United States
END:VEVENT
BEGIN:VEVENT
DTSTART;TZID=America/New_York:20260206T180000
DTEND;TZID=America/New_York:20260206T210000
DTSTAMP:20260421T081820
CREATED:20251205T162712Z
LAST-MODIFIED:20260302T131154Z
UID:10003973-1770400800-1770411600@www.faytechcc.edu
SUMMARY:Rehearsals for The Sound of Music
DESCRIPTION:Please note:\nThere will be some Saturday rehearsals —dates TBD.
URL:https://www.faytechcc.edu/event/rehearsals-for-the-sound-of-music/2026-02-06/
LOCATION:Cumberland Hall Auditorium\, Room 360\, 2215 Hull Road\, Fayetteville\, NC\, 28303\, United States
END:VEVENT
BEGIN:VEVENT
DTSTART;TZID=America/New_York:20260205T180000
DTEND;TZID=America/New_York:20260205T210000
DTSTAMP:20260421T081820
CREATED:20251205T162712Z
LAST-MODIFIED:20260302T131154Z
UID:10003972-1770314400-1770325200@www.faytechcc.edu
SUMMARY:Rehearsals for The Sound of Music
DESCRIPTION:Please note:\nThere will be some Saturday rehearsals —dates TBD.
URL:https://www.faytechcc.edu/event/rehearsals-for-the-sound-of-music/2026-02-05/
LOCATION:Cumberland Hall Auditorium\, Room 360\, 2215 Hull Road\, Fayetteville\, NC\, 28303\, United States
END:VEVENT
BEGIN:VEVENT
DTSTART;TZID=America/New_York:20260204T180000
DTEND;TZID=America/New_York:20260204T210000
DTSTAMP:20260421T081820
CREATED:20251205T162712Z
LAST-MODIFIED:20260302T131154Z
UID:10003971-1770228000-1770238800@www.faytechcc.edu
SUMMARY:Rehearsals for The Sound of Music
DESCRIPTION:Please note:\nThere will be some Saturday rehearsals —dates TBD.
URL:https://www.faytechcc.edu/event/rehearsals-for-the-sound-of-music/2026-02-04/
LOCATION:Cumberland Hall Auditorium\, Room 360\, 2215 Hull Road\, Fayetteville\, NC\, 28303\, United States
END:VEVENT
BEGIN:VEVENT
DTSTART;TZID=America/New_York:20260203T180000
DTEND;TZID=America/New_York:20260203T210000
DTSTAMP:20260421T081820
CREATED:20251205T162712Z
LAST-MODIFIED:20260302T131154Z
UID:10003970-1770141600-1770152400@www.faytechcc.edu
SUMMARY:Rehearsals for The Sound of Music
DESCRIPTION:Please note:\nThere will be some Saturday rehearsals —dates TBD.
URL:https://www.faytechcc.edu/event/rehearsals-for-the-sound-of-music/2026-02-03/
LOCATION:Cumberland Hall Auditorium\, Room 360\, 2215 Hull Road\, Fayetteville\, NC\, 28303\, United States
END:VEVENT
BEGIN:VEVENT
DTSTART;TZID=America/New_York:20260202T180000
DTEND;TZID=America/New_York:20260202T210000
DTSTAMP:20260421T081820
CREATED:20251205T162712Z
LAST-MODIFIED:20260302T131154Z
UID:10003969-1770055200-1770066000@www.faytechcc.edu
SUMMARY:Rehearsals for The Sound of Music
DESCRIPTION:Please note:\nThere will be some Saturday rehearsals —dates TBD.
URL:https://www.faytechcc.edu/event/rehearsals-for-the-sound-of-music/2026-02-02/
LOCATION:Cumberland Hall Auditorium\, Room 360\, 2215 Hull Road\, Fayetteville\, NC\, 28303\, United States
END:VEVENT
BEGIN:VEVENT
DTSTART;TZID=America/New_York:20260130T180000
DTEND;TZID=America/New_York:20260130T210000
DTSTAMP:20260421T081820
CREATED:20251205T162712Z
LAST-MODIFIED:20260302T131154Z
UID:10003968-1769796000-1769806800@www.faytechcc.edu
SUMMARY:Rehearsals for The Sound of Music
DESCRIPTION:Please note:\nThere will be some Saturday rehearsals —dates TBD.
URL:https://www.faytechcc.edu/event/rehearsals-for-the-sound-of-music/2026-01-30/
LOCATION:Cumberland Hall Auditorium\, Room 360\, 2215 Hull Road\, Fayetteville\, NC\, 28303\, United States
END:VEVENT
BEGIN:VEVENT
DTSTART;TZID=America/New_York:20260129T180000
DTEND;TZID=America/New_York:20260129T210000
DTSTAMP:20260421T081820
CREATED:20251205T162712Z
LAST-MODIFIED:20260302T131154Z
UID:10003967-1769709600-1769720400@www.faytechcc.edu
SUMMARY:Rehearsals for The Sound of Music
DESCRIPTION:Please note:\nThere will be some Saturday rehearsals —dates TBD.
URL:https://www.faytechcc.edu/event/rehearsals-for-the-sound-of-music/2026-01-29/
LOCATION:Cumberland Hall Auditorium\, Room 360\, 2215 Hull Road\, Fayetteville\, NC\, 28303\, United States
END:VEVENT
BEGIN:VEVENT
DTSTART;TZID=America/New_York:20260128T180000
DTEND;TZID=America/New_York:20260128T210000
DTSTAMP:20260421T081820
CREATED:20251205T162712Z
LAST-MODIFIED:20260302T131154Z
UID:10003966-1769623200-1769634000@www.faytechcc.edu
SUMMARY:Rehearsals for The Sound of Music
DESCRIPTION:Please note:\nThere will be some Saturday rehearsals —dates TBD.
URL:https://www.faytechcc.edu/event/rehearsals-for-the-sound-of-music/2026-01-28/
LOCATION:Cumberland Hall Auditorium\, Room 360\, 2215 Hull Road\, Fayetteville\, NC\, 28303\, United States
END:VEVENT
BEGIN:VEVENT
DTSTART;TZID=America/New_York:20260127T180000
DTEND;TZID=America/New_York:20260127T210000
DTSTAMP:20260421T081820
CREATED:20251205T162712Z
LAST-MODIFIED:20260302T131154Z
UID:10003965-1769536800-1769547600@www.faytechcc.edu
SUMMARY:Rehearsals for The Sound of Music
DESCRIPTION:Please note:\nThere will be some Saturday rehearsals —dates TBD.
URL:https://www.faytechcc.edu/event/rehearsals-for-the-sound-of-music/2026-01-27/
LOCATION:Cumberland Hall Auditorium\, Room 360\, 2215 Hull Road\, Fayetteville\, NC\, 28303\, United States
END:VEVENT
BEGIN:VEVENT
DTSTART;TZID=America/New_York:20260126T180000
DTEND;TZID=America/New_York:20260126T210000
DTSTAMP:20260421T081820
CREATED:20251205T162712Z
LAST-MODIFIED:20260302T131154Z
UID:10003964-1769450400-1769461200@www.faytechcc.edu
SUMMARY:Rehearsals for The Sound of Music
DESCRIPTION:Please note:\nThere will be some Saturday rehearsals —dates TBD.
URL:https://www.faytechcc.edu/event/rehearsals-for-the-sound-of-music/2026-01-26/
LOCATION:Cumberland Hall Auditorium\, Room 360\, 2215 Hull Road\, Fayetteville\, NC\, 28303\, United States
END:VEVENT
BEGIN:VEVENT
DTSTART;TZID=America/New_York:20260123T180000
DTEND;TZID=America/New_York:20260123T210000
DTSTAMP:20260421T081820
CREATED:20251205T162712Z
LAST-MODIFIED:20260302T131154Z
UID:10003963-1769191200-1769202000@www.faytechcc.edu
SUMMARY:Rehearsals for The Sound of Music
DESCRIPTION:Please note:\nThere will be some Saturday rehearsals —dates TBD.
URL:https://www.faytechcc.edu/event/rehearsals-for-the-sound-of-music/2026-01-23/
LOCATION:Cumberland Hall Auditorium\, Room 360\, 2215 Hull Road\, Fayetteville\, NC\, 28303\, United States
END:VEVENT
BEGIN:VEVENT
DTSTART;TZID=America/New_York:20260122T180000
DTEND;TZID=America/New_York:20260122T210000
DTSTAMP:20260421T081820
CREATED:20251205T162712Z
LAST-MODIFIED:20260302T131154Z
UID:10003962-1769104800-1769115600@www.faytechcc.edu
SUMMARY:Rehearsals for The Sound of Music
DESCRIPTION:Please note:\nThere will be some Saturday rehearsals —dates TBD.
URL:https://www.faytechcc.edu/event/rehearsals-for-the-sound-of-music/2026-01-22/
LOCATION:Cumberland Hall Auditorium\, Room 360\, 2215 Hull Road\, Fayetteville\, NC\, 28303\, United States
END:VEVENT
BEGIN:VEVENT
DTSTART;TZID=America/New_York:20260122T113000
DTEND;TZID=America/New_York:20260122T133000
DTSTAMP:20260421T081820
CREATED:20251216T130017Z
LAST-MODIFIED:20251216T130017Z
UID:10004500-1769081400-1769088600@www.faytechcc.edu
SUMMARY:Open MIC Event
DESCRIPTION:The Wellness Center & Collegiate Recovery are hosting an Open Mic\, welcoming students to share their voices in a supportive and inclusive space. \n📅 Date: January 22\, 2026\n⏰ Time: 11:30 a.m. – 1:30 p.m.\n📍 Location: Cumberland Hall\, room 360 \nCome out to enjoy performances\, connect with others\, and celebrate creativity and wellness.
URL:https://www.faytechcc.edu/event/open-mic-event/
LOCATION:Cumberland Hall Auditorium\, Room 360\, 2215 Hull Road\, Fayetteville\, NC\, 28303\, United States
ORGANIZER;CN="FTCC Wellness Care Services":MAILTO:bells@faytechcc.edu
END:VEVENT
BEGIN:VEVENT
DTSTART;TZID=America/New_York:20260121T180000
DTEND;TZID=America/New_York:20260121T210000
DTSTAMP:20260421T081820
CREATED:20251205T162712Z
LAST-MODIFIED:20260302T131154Z
UID:10003961-1769018400-1769029200@www.faytechcc.edu
SUMMARY:Rehearsals for The Sound of Music
DESCRIPTION:Please note:\nThere will be some Saturday rehearsals —dates TBD.
URL:https://www.faytechcc.edu/event/rehearsals-for-the-sound-of-music/2026-01-21/
LOCATION:Cumberland Hall Auditorium\, Room 360\, 2215 Hull Road\, Fayetteville\, NC\, 28303\, United States
END:VEVENT
BEGIN:VEVENT
DTSTART;TZID=America/New_York:20260120T180000
DTEND;TZID=America/New_York:20260120T210000
DTSTAMP:20260421T081820
CREATED:20251205T162712Z
LAST-MODIFIED:20260302T131154Z
UID:10003960-1768932000-1768942800@www.faytechcc.edu
SUMMARY:Rehearsals for The Sound of Music
DESCRIPTION:Please note:\nThere will be some Saturday rehearsals —dates TBD.
URL:https://www.faytechcc.edu/event/rehearsals-for-the-sound-of-music/2026-01-20/
LOCATION:Cumberland Hall Auditorium\, Room 360\, 2215 Hull Road\, Fayetteville\, NC\, 28303\, United States
END:VEVENT
BEGIN:VEVENT
DTSTART;TZID=America/New_York:20260106T180000
DTEND;TZID=America/New_York:20260106T210000
DTSTAMP:20260421T081820
CREATED:20251205T162150Z
LAST-MODIFIED:20251205T162150Z
UID:10003959-1767722400-1767733200@www.faytechcc.edu
SUMMARY:Auditions for The Sound of Music
DESCRIPTION:
URL:https://www.faytechcc.edu/event/auditions-for-the-sound-of-music/2026-01-06/
LOCATION:Cumberland Hall Auditorium\, Room 360\, 2215 Hull Road\, Fayetteville\, NC\, 28303\, United States
END:VEVENT
BEGIN:VEVENT
DTSTART;TZID=America/New_York:20260105T180000
DTEND;TZID=America/New_York:20260105T210000
DTSTAMP:20260421T081820
CREATED:20251205T162150Z
LAST-MODIFIED:20251205T162150Z
UID:10003958-1767636000-1767646800@www.faytechcc.edu
SUMMARY:Auditions for The Sound of Music
DESCRIPTION:
URL:https://www.faytechcc.edu/event/auditions-for-the-sound-of-music/2026-01-05/
LOCATION:Cumberland Hall Auditorium\, Room 360\, 2215 Hull Road\, Fayetteville\, NC\, 28303\, United States
END:VEVENT
BEGIN:VEVENT
DTSTART;TZID=America/New_York:20251209T120000
DTEND;TZID=America/New_York:20251209T140000
DTSTAMP:20260421T081820
CREATED:20251205T144958Z
LAST-MODIFIED:20251205T144958Z
UID:10003957-1765281600-1765288800@www.faytechcc.edu
SUMMARY:Seekers Fellowship Club - Christmas Program
DESCRIPTION:
URL:https://www.faytechcc.edu/event/seekers-fellowship-club-christmas-program/
LOCATION:Cumberland Hall Auditorium\, Room 360\, 2215 Hull Road\, Fayetteville\, NC\, 28303\, United States
ORGANIZER;CN="FTCC Seekers Fellowship Club":MAILTO:abrahamn@faytechcc.edu
END:VEVENT
BEGIN:VEVENT
DTSTART;TZID=America/New_York:20251209T120000
DTEND;TZID=America/New_York:20251209T133000
DTSTAMP:20260421T081820
CREATED:20250814T155846Z
LAST-MODIFIED:20250814T155846Z
UID:10003573-1765281600-1765287000@www.faytechcc.edu
SUMMARY:Seekers Fellowship Christian Club
DESCRIPTION:Join us as we kick off our weekly meetings starting Tuesday\, August 19\, 2025!\n🗓 When: Every Tuesday\, 12:00 PM – 1:30 PM\n📍 Where: Cumberland Hall\, Room 360\nAll are welcome—come for fellowship\, encouragement\, and meaningful conversations!
URL:https://www.faytechcc.edu/event/seekers-fellowship-christian-club-2/2025-12-09/
LOCATION:Cumberland Hall Auditorium\, Room 360\, 2215 Hull Road\, Fayetteville\, NC\, 28303\, United States
ORGANIZER;CN="FTCC Seekers Fellowship Club":MAILTO:abrahamn@faytechcc.edu
END:VEVENT
BEGIN:VEVENT
DTSTART;TZID=America/New_York:20251205T100000
DTEND;TZID=America/New_York:20251205T110000
DTSTAMP:20260421T081820
CREATED:20251202T192652Z
LAST-MODIFIED:20251202T194800Z
UID:10003951-1764928800-1764932400@www.faytechcc.edu
SUMMARY:First Annual Military Affiliated Graduation Ceremony
DESCRIPTION:Join us online to celebrate and support our graduating Military Students! \n🗓️ Date: Friday\, December 5th\n⏰ Time: 10:00 AM\n📍 Location: Cumberland Hall (CUH) Auditorium \nMedia Services will be live streaming the First Annual Military Affiliated Graduation Ceremony.
URL:https://www.faytechcc.edu/event/first-annual-military-affiliated-graduation-ceremony/
LOCATION:Cumberland Hall Auditorium\, Room 360\, 2215 Hull Road\, Fayetteville\, NC\, 28303\, United States
END:VEVENT
BEGIN:VEVENT
DTSTART;TZID=America/New_York:20251202T120000
DTEND;TZID=America/New_York:20251202T133000
DTSTAMP:20260421T081820
CREATED:20250814T155846Z
LAST-MODIFIED:20250814T155846Z
UID:10003572-1764676800-1764682200@www.faytechcc.edu
SUMMARY:Seekers Fellowship Christian Club
DESCRIPTION:Join us as we kick off our weekly meetings starting Tuesday\, August 19\, 2025!\n🗓 When: Every Tuesday\, 12:00 PM – 1:30 PM\n📍 Where: Cumberland Hall\, Room 360\nAll are welcome—come for fellowship\, encouragement\, and meaningful conversations!
URL:https://www.faytechcc.edu/event/seekers-fellowship-christian-club-2/2025-12-02/
LOCATION:Cumberland Hall Auditorium\, Room 360\, 2215 Hull Road\, Fayetteville\, NC\, 28303\, United States
ORGANIZER;CN="FTCC Seekers Fellowship Club":MAILTO:abrahamn@faytechcc.edu
END:VEVENT
BEGIN:VEVENT
DTSTART;TZID=America/New_York:20251125T120000
DTEND;TZID=America/New_York:20251125T133000
DTSTAMP:20260421T081820
CREATED:20250814T155846Z
LAST-MODIFIED:20250814T155846Z
UID:10003571-1764072000-1764077400@www.faytechcc.edu
SUMMARY:Seekers Fellowship Christian Club
DESCRIPTION:Join us as we kick off our weekly meetings starting Tuesday\, August 19\, 2025!\n🗓 When: Every Tuesday\, 12:00 PM – 1:30 PM\n📍 Where: Cumberland Hall\, Room 360\nAll are welcome—come for fellowship\, encouragement\, and meaningful conversations!
URL:https://www.faytechcc.edu/event/seekers-fellowship-christian-club-2/2025-11-25/
LOCATION:Cumberland Hall Auditorium\, Room 360\, 2215 Hull Road\, Fayetteville\, NC\, 28303\, United States
ORGANIZER;CN="FTCC Seekers Fellowship Club":MAILTO:abrahamn@faytechcc.edu
END:VEVENT
BEGIN:VEVENT
DTSTART;TZID=America/New_York:20251118T150000
DTEND;TZID=America/New_York:20251118T150000
DTSTAMP:20260421T081820
CREATED:20251114T153447Z
LAST-MODIFIED:20251114T153447Z
UID:10003936-1763478000-1763478000@www.faytechcc.edu
SUMMARY:Town Hall for Faculty & Staff with Dr. Mark Sorrells\, FTCC President
DESCRIPTION:Town Hall with the College President represents an opportunity to hear exciting updates about Fayetteville Technical Community College and to inquire\, engage\, and interact with Dr. Sorrells and others.  Please save the date and time for this event on your calendar\, and enjoy your day!  \nPlease note: This event is for FTCC Faculty and Staff only!
URL:https://www.faytechcc.edu/event/town-hall-for-faculty-staff-with-dr-mark-sorrells-ftcc-president/
LOCATION:Cumberland Hall Auditorium\, Room 360\, 2215 Hull Road\, Fayetteville\, NC\, 28303\, United States
END:VEVENT
BEGIN:VEVENT
DTSTART;TZID=America/New_York:20251118T120000
DTEND;TZID=America/New_York:20251118T133000
DTSTAMP:20260421T081820
CREATED:20250814T155846Z
LAST-MODIFIED:20250814T155846Z
UID:10003570-1763467200-1763472600@www.faytechcc.edu
SUMMARY:Seekers Fellowship Christian Club
DESCRIPTION:Join us as we kick off our weekly meetings starting Tuesday\, August 19\, 2025!\n🗓 When: Every Tuesday\, 12:00 PM – 1:30 PM\n📍 Where: Cumberland Hall\, Room 360\nAll are welcome—come for fellowship\, encouragement\, and meaningful conversations!
URL:https://www.faytechcc.edu/event/seekers-fellowship-christian-club-2/2025-11-18/
LOCATION:Cumberland Hall Auditorium\, Room 360\, 2215 Hull Road\, Fayetteville\, NC\, 28303\, United States
ORGANIZER;CN="FTCC Seekers Fellowship Club":MAILTO:abrahamn@faytechcc.edu
END:VEVENT
BEGIN:VEVENT
DTSTART;TZID=America/New_York:20251111T120000
DTEND;TZID=America/New_York:20251111T133000
DTSTAMP:20260421T081820
CREATED:20250814T155846Z
LAST-MODIFIED:20250814T155846Z
UID:10003569-1762862400-1762867800@www.faytechcc.edu
SUMMARY:Seekers Fellowship Christian Club
DESCRIPTION:Join us as we kick off our weekly meetings starting Tuesday\, August 19\, 2025!\n🗓 When: Every Tuesday\, 12:00 PM – 1:30 PM\n📍 Where: Cumberland Hall\, Room 360\nAll are welcome—come for fellowship\, encouragement\, and meaningful conversations!
URL:https://www.faytechcc.edu/event/seekers-fellowship-christian-club-2/2025-11-11/
LOCATION:Cumberland Hall Auditorium\, Room 360\, 2215 Hull Road\, Fayetteville\, NC\, 28303\, United States
ORGANIZER;CN="FTCC Seekers Fellowship Club":MAILTO:abrahamn@faytechcc.edu
END:VEVENT
BEGIN:VEVENT
DTSTART;TZID=America/New_York:20251104T120000
DTEND;TZID=America/New_York:20251104T133000
DTSTAMP:20260421T081820
CREATED:20250814T155846Z
LAST-MODIFIED:20250814T155846Z
UID:10003568-1762257600-1762263000@www.faytechcc.edu
SUMMARY:Seekers Fellowship Christian Club
DESCRIPTION:Join us as we kick off our weekly meetings starting Tuesday\, August 19\, 2025!\n🗓 When: Every Tuesday\, 12:00 PM – 1:30 PM\n📍 Where: Cumberland Hall\, Room 360\nAll are welcome—come for fellowship\, encouragement\, and meaningful conversations!
URL:https://www.faytechcc.edu/event/seekers-fellowship-christian-club-2/2025-11-04/
LOCATION:Cumberland Hall Auditorium\, Room 360\, 2215 Hull Road\, Fayetteville\, NC\, 28303\, United States
ORGANIZER;CN="FTCC Seekers Fellowship Club":MAILTO:abrahamn@faytechcc.edu
END:VEVENT
BEGIN:VEVENT
DTSTART;TZID=America/New_York:20251028T120000
DTEND;TZID=America/New_York:20251028T133000
DTSTAMP:20260421T081820
CREATED:20250814T155846Z
LAST-MODIFIED:20250814T155846Z
UID:10003567-1761652800-1761658200@www.faytechcc.edu
SUMMARY:Seekers Fellowship Christian Club
DESCRIPTION:Join us as we kick off our weekly meetings starting Tuesday\, August 19\, 2025!\n🗓 When: Every Tuesday\, 12:00 PM – 1:30 PM\n📍 Where: Cumberland Hall\, Room 360\nAll are welcome—come for fellowship\, encouragement\, and meaningful conversations!
URL:https://www.faytechcc.edu/event/seekers-fellowship-christian-club-2/2025-10-28/
LOCATION:Cumberland Hall Auditorium\, Room 360\, 2215 Hull Road\, Fayetteville\, NC\, 28303\, United States
ORGANIZER;CN="FTCC Seekers Fellowship Club":MAILTO:abrahamn@faytechcc.edu
END:VEVENT
END:VCALENDAR