BEGIN:VCALENDAR
VERSION:2.0
PRODID:-//Fayetteville Technical Community College - ECPv6.15.9//NONSGML v1.0//EN
CALSCALE:GREGORIAN
METHOD:PUBLISH
X-ORIGINAL-URL:https://www.faytechcc.edu
X-WR-CALDESC:Events for Fayetteville Technical Community College
REFRESH-INTERVAL;VALUE=DURATION:PT1H
X-Robots-Tag:noindex
X-PUBLISHED-TTL:PT1H
BEGIN:VTIMEZONE
TZID:America/New_York
BEGIN:DAYLIGHT
TZOFFSETFROM:-0500
TZOFFSETTO:-0400
TZNAME:EDT
DTSTART:20230312T070000
END:DAYLIGHT
BEGIN:STANDARD
TZOFFSETFROM:-0400
TZOFFSETTO:-0500
TZNAME:EST
DTSTART:20231105T060000
END:STANDARD
BEGIN:DAYLIGHT
TZOFFSETFROM:-0500
TZOFFSETTO:-0400
TZNAME:EDT
DTSTART:20240310T070000
END:DAYLIGHT
BEGIN:STANDARD
TZOFFSETFROM:-0400
TZOFFSETTO:-0500
TZNAME:EST
DTSTART:20241103T060000
END:STANDARD
BEGIN:DAYLIGHT
TZOFFSETFROM:-0500
TZOFFSETTO:-0400
TZNAME:EDT
DTSTART:20250309T070000
END:DAYLIGHT
BEGIN:STANDARD
TZOFFSETFROM:-0400
TZOFFSETTO:-0500
TZNAME:EST
DTSTART:20251102T060000
END:STANDARD
BEGIN:DAYLIGHT
TZOFFSETFROM:-0500
TZOFFSETTO:-0400
TZNAME:EDT
DTSTART:20260308T070000
END:DAYLIGHT
BEGIN:STANDARD
TZOFFSETFROM:-0400
TZOFFSETTO:-0500
TZNAME:EST
DTSTART:20261101T060000
END:STANDARD
BEGIN:DAYLIGHT
TZOFFSETFROM:-0500
TZOFFSETTO:-0400
TZNAME:EDT
DTSTART:20270314T070000
END:DAYLIGHT
BEGIN:STANDARD
TZOFFSETFROM:-0400
TZOFFSETTO:-0500
TZNAME:EST
DTSTART:20271107T060000
END:STANDARD
END:VTIMEZONE
BEGIN:VEVENT
DTSTART;TZID=America/New_York:20260226T190000
DTEND;TZID=America/New_York:20260226T210000
DTSTAMP:20260421T081513
CREATED:20260115T210510Z
LAST-MODIFIED:20260115T210510Z
UID:10004546-1772132400-1772139600@www.faytechcc.edu
SUMMARY:🔍 Murder Mystery Dinner
DESCRIPTION:📅 Date: February 26\, 2026\n⏰ Time: 7:00 PM\n📍 Location: Culinary Dining Room\n👥 Capacity: Limited \n🍽️ A Night of Suspense and Fine Dining\nPut your detective skills to the test at our Murder Mystery Dinner! Enjoy a delicious multi-course meal prepared by our talented culinary students while you work to uncover the culprit. \n🕵️ Interactive Mystery: Immerse yourself in a thrilling “whodunnit” scenario.\n👩‍🍳 Gourmet Menu: Experience a curated dinner in the elegant Culinary Dining Room.\n🎟️ Group Registration: Space is limited — sign up early!
URL:https://www.faytechcc.edu/event/%f0%9f%94%8d-murder-mystery-dinner/
LOCATION:Culinary Dining Room\, 2200 Hull Road\, Fayetteville\, NC\, 28303
CATEGORIES:Student Activities
ORGANIZER;CN="Student Activities":MAILTO:plessh@faytechcc.edu
END:VEVENT
BEGIN:VEVENT
DTSTART;TZID=America/New_York:20251211T110000
DTEND;TZID=America/New_York:20251211T140000
DTSTAMP:20260421T081513
CREATED:20251210T194307Z
LAST-MODIFIED:20251210T194307Z
UID:10004481-1765450800-1765461600@www.faytechcc.edu
SUMMARY:Culinary Club Holiday Cookie Bake Sale
DESCRIPTION:
URL:https://www.faytechcc.edu/event/culinary-club-holiday-cookie-bake-sale/
LOCATION:Culinary Dining Room\, 2200 Hull Road\, Fayetteville\, NC\, 28303
ORGANIZER;CN="FTCC Culinary Club":MAILTO:santuccs@faytechcc.edu
END:VEVENT
BEGIN:VEVENT
DTSTART;TZID=America/New_York:20250228T183000
DTEND;TZID=America/New_York:20250228T213000
DTSTAMP:20260421T081513
CREATED:20250206T195306Z
LAST-MODIFIED:20250211T173343Z
UID:10002878-1740767400-1740778200@www.faytechcc.edu
SUMMARY:Murder Mystery Dinner
DESCRIPTION:🔎🍽️ Murder Mystery Dinner 🍽️🔎\nStep into a night of mystery\, intrigue\, and fine dining at our Murder Mystery Dinner! Can you uncover the truth before the night is over? Join us for an interactive evening filled with suspense and a delicious 4-course dinner. \n📅 Date: February 28th\n⏰ Time: 6:30 PM\n📍 Location: Culinary Dining Room \n🕵️ Interactive Murder Mystery Experience\n🍽️ Exquisite 4-Course Dinner\n🔔 Sign-ups begin February 10th at 8 AM – Only the first 30 students will secure a spot\, so don’t miss out! \nGet ready for a thrilling evening where every guest is a suspect… Will you solve the mystery? 🕵️‍♂️🍷 \n#MurderMystery #DinnerAndDetectives #SolveTheCase
URL:https://www.faytechcc.edu/event/murder-mystery-dinner/
LOCATION:Culinary Dining Room\, 2200 Hull Road\, Fayetteville\, NC\, 28303
ORGANIZER;CN="Student Activities":MAILTO:plessh@faytechcc.edu
END:VEVENT
BEGIN:VEVENT
DTSTART;TZID=America/New_York:20240419T110000
DTEND;TZID=America/New_York:20240419T123000
DTSTAMP:20260421T081513
CREATED:20240216T185033Z
LAST-MODIFIED:20240216T185033Z
UID:10001569-1713524400-1713529800@www.faytechcc.edu
SUMMARY:Salad Days Fundraiser
DESCRIPTION:FTCC Culinary Arts Program is joining forces with the Fine Arts Program to hold the Salad Days fundraiser to support the Food Pantry at FTCC. Students in both programs will create masterpieces for donors to purchase. Students in the Ceramics Class will create beautiful handmade ceramic salad plates to serve delicious salads made by students in the Farm to Table and Artisan Bread Culinary Classes. A limited number of tickets will be available for purchase. \nSalad and plate pick-up will be from 11 a.m. until 12:30 p.m. at the FTCC Culinary Dining Room 5A in the Horace Sisk Building. The salads will be boxed and available for dining in or taking away. Tickets must be purchased in advance. \nIndividual Ticket – $35\nArtist Sponsor – $250\nClay Sponsor – $1\,000 \nPurchase tickets at this link: https://one.bidpal.net/2024saladdays/welcome
URL:https://www.faytechcc.edu/event/salad-days-fundraiser/
LOCATION:Culinary Dining Room\, 2200 Hull Road\, Fayetteville\, NC\, 28303
CATEGORIES:Culinary Arts,Fine Arts,Foundation
ORGANIZER;CN="FTCC Foundation":MAILTO:foundation@faytechcc.edu
END:VEVENT
END:VCALENDAR