BEGIN:VCALENDAR
VERSION:2.0
PRODID:-//Fayetteville Technical Community College - ECPv6.15.9//NONSGML v1.0//EN
CALSCALE:GREGORIAN
METHOD:PUBLISH
X-WR-CALNAME:Fayetteville Technical Community College
X-ORIGINAL-URL:https://www.faytechcc.edu
X-WR-CALDESC:Events for Fayetteville Technical Community College
REFRESH-INTERVAL;VALUE=DURATION:PT1H
X-Robots-Tag:noindex
X-PUBLISHED-TTL:PT1H
BEGIN:VTIMEZONE
TZID:America/New_York
BEGIN:DAYLIGHT
TZOFFSETFROM:-0500
TZOFFSETTO:-0400
TZNAME:EDT
DTSTART:20230312T070000
END:DAYLIGHT
BEGIN:STANDARD
TZOFFSETFROM:-0400
TZOFFSETTO:-0500
TZNAME:EST
DTSTART:20231105T060000
END:STANDARD
BEGIN:DAYLIGHT
TZOFFSETFROM:-0500
TZOFFSETTO:-0400
TZNAME:EDT
DTSTART:20240310T070000
END:DAYLIGHT
BEGIN:STANDARD
TZOFFSETFROM:-0400
TZOFFSETTO:-0500
TZNAME:EST
DTSTART:20241103T060000
END:STANDARD
BEGIN:DAYLIGHT
TZOFFSETFROM:-0500
TZOFFSETTO:-0400
TZNAME:EDT
DTSTART:20250309T070000
END:DAYLIGHT
BEGIN:STANDARD
TZOFFSETFROM:-0400
TZOFFSETTO:-0500
TZNAME:EST
DTSTART:20251102T060000
END:STANDARD
BEGIN:DAYLIGHT
TZOFFSETFROM:-0500
TZOFFSETTO:-0400
TZNAME:EDT
DTSTART:20260308T070000
END:DAYLIGHT
BEGIN:STANDARD
TZOFFSETFROM:-0400
TZOFFSETTO:-0500
TZNAME:EST
DTSTART:20261101T060000
END:STANDARD
END:VTIMEZONE
BEGIN:VEVENT
DTSTART;TZID=America/New_York:20250930T110000
DTEND;TZID=America/New_York:20250930T140000
DTSTAMP:20260421T133600
CREATED:20250818T165607Z
LAST-MODIFIED:20250818T172735Z
UID:10003581-1759230000-1759240800@www.faytechcc.edu
SUMMARY:Stop and Talk  Cape Fear Valley
DESCRIPTION:Guest Speaker: Cape Fear Valley \nClick the button below for career opportunities at Cape Fear Valley Health. Cape Fear Valley Health Careers
URL:https://www.faytechcc.edu/event/stop-and-talk-6/
LOCATION:Cape Fear Valley School of Nursing\, 2340 Hull Road\, Fayetteville\, NC\, 28303\, United States
CATEGORIES:Career Development Center
END:VEVENT
BEGIN:VEVENT
DTSTART;TZID=America/New_York:20250924T110000
DTEND;TZID=America/New_York:20250924T140000
DTSTAMP:20260421T133600
CREATED:20250818T165539Z
LAST-MODIFIED:20250818T172744Z
UID:10003580-1758711600-1758722400@www.faytechcc.edu
SUMMARY:Stop and Talk  First Health
DESCRIPTION:Guest Speaker: First Health \nClick the button below for career opportunities at First Health. First Health Careers
URL:https://www.faytechcc.edu/event/stop-and-talk-5/
LOCATION:Cape Fear Valley School of Nursing\, 2340 Hull Road\, Fayetteville\, NC\, 28303\, United States
CATEGORIES:Career Development Center
END:VEVENT
BEGIN:VEVENT
DTSTART;TZID=America/New_York:20250922T110000
DTEND;TZID=America/New_York:20250922T140000
DTSTAMP:20260421T133600
CREATED:20250818T165317Z
LAST-MODIFIED:20250818T172751Z
UID:10003579-1758538800-1758549600@www.faytechcc.edu
SUMMARY:Stop and Talk  ECU Health
DESCRIPTION:Guest Speaker: ECU Health \nClick the button below for career opportunities at ECU Health. ECU Health Careers
URL:https://www.faytechcc.edu/event/stop-and-talk-4/
LOCATION:Cape Fear Valley School of Nursing\, 2340 Hull Road\, Fayetteville\, NC\, 28303\, United States
CATEGORIES:Career Development Center
END:VEVENT
BEGIN:VEVENT
DTSTART;TZID=America/New_York:20250918T110000
DTEND;TZID=America/New_York:20250918T140000
DTSTAMP:20260421T133600
CREATED:20250818T165252Z
LAST-MODIFIED:20250818T172759Z
UID:10003578-1758193200-1758204000@www.faytechcc.edu
SUMMARY:Stop and Talk  Cape Fear Valley
DESCRIPTION:Guest Speaker: Cape Fear Valley \nClick the button below for career opportunities at Cape Fear Valley Health. Cape Fear Valley Health Careers
URL:https://www.faytechcc.edu/event/stop-and-talk-3/
LOCATION:Cape Fear Valley School of Nursing\, 2340 Hull Road\, Fayetteville\, NC\, 28303\, United States
CATEGORIES:Career Development Center
END:VEVENT
BEGIN:VEVENT
DTSTART;TZID=America/New_York:20250910T110000
DTEND;TZID=America/New_York:20250910T140000
DTSTAMP:20260421T133600
CREATED:20250818T165206Z
LAST-MODIFIED:20250818T172757Z
UID:10003577-1757502000-1757512800@www.faytechcc.edu
SUMMARY:Stop and Talk  Cape Fear Valley
DESCRIPTION:Guest Speaker: Cape Fear Valley \nClick the button below for career opportunities at Cape Fear Valley Health. Cape Fear Valley Health Careers
URL:https://www.faytechcc.edu/event/stop-and-talk-2/
LOCATION:Cape Fear Valley School of Nursing\, 2340 Hull Road\, Fayetteville\, NC\, 28303\, United States
CATEGORIES:Career Development Center
END:VEVENT
BEGIN:VEVENT
DTSTART;TZID=America/New_York:20250908T110000
DTEND;TZID=America/New_York:20250908T140000
DTSTAMP:20260421T133600
CREATED:20250818T164801Z
LAST-MODIFIED:20250818T172441Z
UID:10003576-1757329200-1757340000@www.faytechcc.edu
SUMMARY:Stop and Talk Scotland Health
DESCRIPTION:Guest Speaker: Scotland Health \nClick the button below for career opportunities at Scottland Health. Scottland Health Careers
URL:https://www.faytechcc.edu/event/stop-and-talk/
LOCATION:Cape Fear Valley School of Nursing\, 2340 Hull Road\, Fayetteville\, NC\, 28303\, United States
CATEGORIES:Career Development Center
END:VEVENT
BEGIN:VEVENT
DTSTART;TZID=America/New_York:20241126T080000
DTEND;TZID=America/New_York:20241126T130000
DTSTAMP:20260421T133600
CREATED:20241118T130855Z
LAST-MODIFIED:20241118T130855Z
UID:10002268-1732608000-1732626000@www.faytechcc.edu
SUMMARY:Kindness Candy Canes
DESCRIPTION:Join us in spreading holiday cheer with the FTCC Practical Nursing (PN) Club’s newest fundraiser: Kindness Candy Canes! For just $1.00\, you can purchase a candy cane to gift to someone special or keep as a treat for yourself. \nSale Times and Locations: \nTuesday\, 11/19: 8:00 AM – 1:00 PM in the Nursing Education Center (NESC)\nThursday\, 11/21: 1:00 PM – 4:00 PM in the Toy Rand Student Center\nTuesday\, 11/26: 8:00 AM – 1:00 PM in the Nursing Education Center (NESC) \nSupport your fellow students and brighten someone’s day with this small gesture of kindness!
URL:https://www.faytechcc.edu/event/kindness-candy-canes/2024-11-26/
LOCATION:Cape Fear Valley School of Nursing\, 2340 Hull Road\, Fayetteville\, NC\, 28303\, United States
END:VEVENT
BEGIN:VEVENT
DTSTART;TZID=America/New_York:20241121T130000
DTEND;TZID=America/New_York:20241121T160000
DTSTAMP:20260421T133600
CREATED:20241118T130855Z
LAST-MODIFIED:20241118T130855Z
UID:10002267-1732194000-1732204800@www.faytechcc.edu
SUMMARY:Kindness Candy Canes
DESCRIPTION:Join us in spreading holiday cheer with the FTCC Practical Nursing (PN) Club’s newest fundraiser: Kindness Candy Canes! For just $1.00\, you can purchase a candy cane to gift to someone special or keep as a treat for yourself. \nSale Times and Locations: \nTuesday\, 11/19: 8:00 AM – 1:00 PM in the Nursing Education Center (NESC)\nThursday\, 11/21: 1:00 PM – 4:00 PM in the Toy Rand Student Center\nTuesday\, 11/26: 8:00 AM – 1:00 PM in the Nursing Education Center (NESC) \nSupport your fellow students and brighten someone’s day with this small gesture of kindness!
URL:https://www.faytechcc.edu/event/kindness-candy-canes/2024-11-21/
LOCATION:Cape Fear Valley School of Nursing\, 2340 Hull Road\, Fayetteville\, NC\, 28303\, United States
END:VEVENT
BEGIN:VEVENT
DTSTART;TZID=America/New_York:20241119T080000
DTEND;TZID=America/New_York:20241119T130000
DTSTAMP:20260421T133600
CREATED:20241118T130855Z
LAST-MODIFIED:20241118T130855Z
UID:10002266-1732003200-1732021200@www.faytechcc.edu
SUMMARY:Kindness Candy Canes
DESCRIPTION:Join us in spreading holiday cheer with the FTCC Practical Nursing (PN) Club’s newest fundraiser: Kindness Candy Canes! For just $1.00\, you can purchase a candy cane to gift to someone special or keep as a treat for yourself. \nSale Times and Locations: \nTuesday\, 11/19: 8:00 AM – 1:00 PM in the Nursing Education Center (NESC)\nThursday\, 11/21: 1:00 PM – 4:00 PM in the Toy Rand Student Center\nTuesday\, 11/26: 8:00 AM – 1:00 PM in the Nursing Education Center (NESC) \nSupport your fellow students and brighten someone’s day with this small gesture of kindness!
URL:https://www.faytechcc.edu/event/kindness-candy-canes/2024-11-19/
LOCATION:Cape Fear Valley School of Nursing\, 2340 Hull Road\, Fayetteville\, NC\, 28303\, United States
END:VEVENT
BEGIN:VEVENT
DTSTART;TZID=America/New_York:20240808T170000
DTEND;TZID=America/New_York:20240808T180000
DTSTAMP:20260421T133600
CREATED:20240523T152058Z
LAST-MODIFIED:20240523T152058Z
UID:10001775-1723136400-1723140000@www.faytechcc.edu
SUMMARY:Alix John - North Carolina Nurses Associaton
DESCRIPTION:Alix John with the North Carolina Nurses Association will be on campus Thursday\, August 8\, 2024\, from 5 PM to 6 PM. \nPlease join us to hear from our Manager of Political Engagement\, active volunteers\, and special guests on what’s happening with the General Assembly\, NCNA’s legislative priorities\, and more. \nThere will be time for Q&A\, so bring your questions!
URL:https://www.faytechcc.edu/event/alix-john-north-carolina-nurses-associaton/
LOCATION:Cape Fear Valley School of Nursing\, 2340 Hull Road\, Fayetteville\, NC\, 28303\, United States
ORGANIZER;CN="Alix John":MAILTO:alixjohn@ncnurses.org
END:VEVENT
END:VCALENDAR