BEGIN:VCALENDAR
VERSION:2.0
PRODID:-//Fayetteville Technical Community College - ECPv6.15.9//NONSGML v1.0//EN
CALSCALE:GREGORIAN
METHOD:PUBLISH
X-WR-CALNAME:Fayetteville Technical Community College
X-ORIGINAL-URL:https://www.faytechcc.edu
X-WR-CALDESC:Events for Fayetteville Technical Community College
REFRESH-INTERVAL;VALUE=DURATION:PT1H
X-Robots-Tag:noindex
X-PUBLISHED-TTL:PT1H
BEGIN:VTIMEZONE
TZID:America/New_York
BEGIN:DAYLIGHT
TZOFFSETFROM:-0500
TZOFFSETTO:-0400
TZNAME:EDT
DTSTART:20250309T070000
END:DAYLIGHT
BEGIN:STANDARD
TZOFFSETFROM:-0400
TZOFFSETTO:-0500
TZNAME:EST
DTSTART:20251102T060000
END:STANDARD
BEGIN:DAYLIGHT
TZOFFSETFROM:-0500
TZOFFSETTO:-0400
TZNAME:EDT
DTSTART:20260308T070000
END:DAYLIGHT
BEGIN:STANDARD
TZOFFSETFROM:-0400
TZOFFSETTO:-0500
TZNAME:EST
DTSTART:20261101T060000
END:STANDARD
BEGIN:DAYLIGHT
TZOFFSETFROM:-0500
TZOFFSETTO:-0400
TZNAME:EDT
DTSTART:20270314T070000
END:DAYLIGHT
BEGIN:STANDARD
TZOFFSETFROM:-0400
TZOFFSETTO:-0500
TZNAME:EST
DTSTART:20271107T060000
END:STANDARD
END:VTIMEZONE
BEGIN:VEVENT
DTSTART;TZID=America/New_York:20260430T173000
DTEND;TZID=America/New_York:20260430T173000
DTSTAMP:20260424T011306
CREATED:20260422T173713Z
LAST-MODIFIED:20260422T173713Z
UID:10007187-1777570200-1777570200@www.faytechcc.edu
SUMMARY:FayTech Talks Public Speaking Competition
DESCRIPTION:The FTCC Communication Department presents the FayTech Talks Public Speaking Competition. Oratorically Speaking\, there will be 5 finalists\, one title\, and the stage is listening. This event is open to the public\, Audience Choice\, Prizes\, and more. \n📅 Date: Thursday\, April 30\, 2026\n⏰ Time: Doors open at 5:30 PM\n📍 Location: Cape Fear Valley School of Health Sciences\, Room 111 (Map listing: HTC\, Room 111)
URL:https://www.faytechcc.edu/event/faytech-talks-public-speaking-competition/
LOCATION:Cape Fear Valley School of Health Sciences – Room 111\, 240 Hull Rd.\, Fayetteville\, NC\, 28303\, United States
ORGANIZER;CN="FTCC Communications Department":MAILTO:kellys@faytechcc.edu
END:VEVENT
END:VCALENDAR