BEGIN:VCALENDAR
VERSION:2.0
PRODID:-//Fayetteville Technical Community College - ECPv6.15.9//NONSGML v1.0//EN
CALSCALE:GREGORIAN
METHOD:PUBLISH
X-WR-CALNAME:Fayetteville Technical Community College
X-ORIGINAL-URL:https://www.faytechcc.edu
X-WR-CALDESC:Events for Fayetteville Technical Community College
REFRESH-INTERVAL;VALUE=DURATION:PT1H
X-Robots-Tag:noindex
X-PUBLISHED-TTL:PT1H
BEGIN:VTIMEZONE
TZID:America/New_York
BEGIN:DAYLIGHT
TZOFFSETFROM:-0500
TZOFFSETTO:-0400
TZNAME:EDT
DTSTART:20240310T070000
END:DAYLIGHT
BEGIN:STANDARD
TZOFFSETFROM:-0400
TZOFFSETTO:-0500
TZNAME:EST
DTSTART:20241103T060000
END:STANDARD
BEGIN:DAYLIGHT
TZOFFSETFROM:-0500
TZOFFSETTO:-0400
TZNAME:EDT
DTSTART:20250309T070000
END:DAYLIGHT
BEGIN:STANDARD
TZOFFSETFROM:-0400
TZOFFSETTO:-0500
TZNAME:EST
DTSTART:20251102T060000
END:STANDARD
BEGIN:DAYLIGHT
TZOFFSETFROM:-0500
TZOFFSETTO:-0400
TZNAME:EDT
DTSTART:20260308T070000
END:DAYLIGHT
BEGIN:STANDARD
TZOFFSETFROM:-0400
TZOFFSETTO:-0500
TZNAME:EST
DTSTART:20261101T060000
END:STANDARD
BEGIN:DAYLIGHT
TZOFFSETFROM:-0500
TZOFFSETTO:-0400
TZNAME:EDT
DTSTART:20270314T070000
END:DAYLIGHT
BEGIN:STANDARD
TZOFFSETFROM:-0400
TZOFFSETTO:-0500
TZNAME:EST
DTSTART:20271107T060000
END:STANDARD
END:VTIMEZONE
BEGIN:VEVENT
DTSTART;VALUE=DATE:20251118
DTEND;VALUE=DATE:20251216
DTSTAMP:20260425T124219
CREATED:20251118T153753Z
LAST-MODIFIED:20251118T155808Z
UID:10003937-1763424000-1765843199@www.faytechcc.edu
SUMMARY:5th Annual Food for Thought Giving Tree
DESCRIPTION:Allied Health Presents: The 5th Annual Food for Thought Giving Tree\nSupporting the FTCC Food Pantry \nSpread some holiday cheer and help support our students through the FTCC Food Pantry! \nHow to Participate: \n\nStop by the main lobby of the Cape Fear Valley School of Health Sciences (formerly the Health Technologies Center).\nPick an ornament from the Giving Tree.\nPurchase the items listed on your ornament (or feel free to give a grocery store gift card or any items from the Food Pantry wish list).\nReturn all purchased items to the School of Health Sciences lobby by Monday\, December 15th.\n\nThank you for your generosity and for helping us support our students through this amazing resource! 🎄\n 
URL:https://www.faytechcc.edu/event/5th-annual-food-for-thought-giving-tree/
LOCATION:Cape Fear Valley School of Health Sciences – Lobby\, 240 Hull Rd.\, Fayetteville\, NC\, 28303\, United States
END:VEVENT
BEGIN:VEVENT
DTSTART;TZID=America/New_York:20251124T080000
DTEND;TZID=America/New_York:20251215T170000
DTSTAMP:20260425T124219
CREATED:20251125T140450Z
LAST-MODIFIED:20251125T140450Z
UID:10003943-1763971200-1765818000@www.faytechcc.edu
SUMMARY:Hygiene Drive in Support of Women's Shelter
DESCRIPTION:
URL:https://www.faytechcc.edu/event/hygiene-drive-in-support-of-womens-shelter/
LOCATION:Advanced Technology Center (ATC) – Room 120\, 2300 Hull Road\, Fayetteville\, NC\, 28303\, United States
ORGANIZER;CN="FTCC Student Chapter of Women in Cybersecurity":MAILTO:mathewsk@faytechcc.edu
END:VEVENT
BEGIN:VEVENT
DTSTART;VALUE=DATE:20251215
DTEND;VALUE=DATE:20251216
DTSTAMP:20260425T124219
CREATED:20250926T154019Z
LAST-MODIFIED:20250926T154019Z
UID:10003800-1765756800-1765843199@www.faytechcc.edu
SUMMARY:Graduation Application Information
DESCRIPTION:Graduation Applications are required for each earned associate degree\, diploma and certificate.  \nBelow are the Graduation Application Deadlines: \n\n\n\n \nOpens\nCloses\nDiploma Pickup\n\n\nFall\nAug 4\, 2025\nDec 1\, 2025\nFeb 1\, 2026\n\n\nSpring\nJan 1\, 2026\nApril 30\, 2026\nJuly 1\, 2026\n\n\nSummer\nMay 1\, 2026\nJuly 31\, 2026\nSept 1\, 2026\n\n\n\nCollege Graduation Requirements: \n\nStudent has completed the program requirements.\nStudent has a minimum cumulative and major GPA of 2.0.\nStudent has completed 25% of their course work at FTCC to meet North Carolina residency requirements.\nStudent has passing grades in all related required courses.\nStudent has no outstanding financial obligations with the College.\n \n\nPlease refer to the below document for additional details.  \nQuestions?  Danielle Burnette – burnetts@faytechcc.edu
URL:https://www.faytechcc.edu/event/graduation-application-information-2/2025-12-15/
LOCATION:Virtual Event
ORGANIZER;CN="FTCC Student Services":MAILTO:admissions@faytechcc.edu
END:VEVENT
BEGIN:VEVENT
DTSTART;VALUE=DATE:20251215
DTEND;VALUE=DATE:20260112
DTSTAMP:20260425T124219
CREATED:20251201T145011Z
LAST-MODIFIED:20251201T145011Z
UID:10003947-1765756800-1768175999@www.faytechcc.edu
SUMMARY:Winter Break for Students
DESCRIPTION:Winter Break for Students\nDecember 15\, 2025 – January 11\, 2026\n(Classes resume January 12\, 2026) \nEnjoy a well-deserved break! Take this time to relax\, celebrate the holidays\, and spend time with family and friends. Whether you’re resting\, recharging\, or catching up on things you love\, we hope your Winter Break is refreshing and joyful. See you back on campus in the new year!
URL:https://www.faytechcc.edu/event/winter-break-for-students/
LOCATION:NC
END:VEVENT
BEGIN:VEVENT
DTSTART;TZID=America/New_York:20251215T070000
DTEND;TZID=America/New_York:20251215T190000
DTSTAMP:20260425T124219
CREATED:20251205T171757Z
LAST-MODIFIED:20251211T174428Z
UID:10004267-1765782000-1765825200@www.faytechcc.edu
SUMMARY:Face-to-Face & Online Tutoring - Prepare for your Finals!
DESCRIPTION:Attention Faculty and Students!\nGreat news — finals are coming\, and we’ve got you covered! The Student Learning Center is offering both face-to-face and online tutoring to help you finish the semester strong. \n📍 Visit Us:\nMonday–Thursday: 7 AM – 7 PM\nFriday: 8 AM – 5 PM\nLocation: Room 127\, Paul H. Thompson Library \n💻 Need flexibility?\nAccess 24/7 online tutoring directly through your Canvas classes. \nLet’s crush those finals together!
URL:https://www.faytechcc.edu/event/face-to-face-online-tutoring-prepare-for-your-finals/2025-12-15/
LOCATION:Paul H. Thompson Library (LRC) – Room 127\, 2221 Hull Rd.\, Fayetteville\, NC\, 28303\, United States
ORGANIZER;CN="FTCC Student Services":MAILTO:admissions@faytechcc.edu
END:VEVENT
BEGIN:VEVENT
DTSTART;TZID=America/New_York:20251215T130000
DTEND;TZID=America/New_York:20251215T140000
DTSTAMP:20260425T124219
CREATED:20250909T155333Z
LAST-MODIFIED:20250909T155333Z
UID:10003706-1765803600-1765807200@www.faytechcc.edu
SUMMARY:Parents for Higher Education Club (PFHE) Meeting
DESCRIPTION:The Parents for Higher Education Club (PFHE) focuses on student/parents with children ages birth – 5 years. We have speakers from various organizations and agencies discussing topics relevant to student-parents throughout the semester. \n📅 Date: Mondays\n⏰ Time: 1:00 PM – 2:00 PM\n📍 Location: General Classroom Building (GCB)\, Room 108\n👥 Target Audience: Parents/Students with children ages birth – 5 years. \n  \n 
URL:https://www.faytechcc.edu/event/parents-for-higher-education-club-pfhe-meeting-2/2025-12-15/
LOCATION:General classroom building  – Room 108\, 2817 Fort Bragg Rd.\, Fayetteville\, NC\, 28303\, United States
ORGANIZER;CN="FTCC PFHE":MAILTO:canond@faytechcc.edu
END:VEVENT
BEGIN:VEVENT
DTSTART;TZID=America/New_York:20251216T070000
DTEND;TZID=America/New_York:20251216T190000
DTSTAMP:20260425T124219
CREATED:20251205T171757Z
LAST-MODIFIED:20251211T174428Z
UID:10004268-1765868400-1765911600@www.faytechcc.edu
SUMMARY:Face-to-Face & Online Tutoring - Prepare for your Finals!
DESCRIPTION:Attention Faculty and Students!\nGreat news — finals are coming\, and we’ve got you covered! The Student Learning Center is offering both face-to-face and online tutoring to help you finish the semester strong. \n📍 Visit Us:\nMonday–Thursday: 7 AM – 7 PM\nFriday: 8 AM – 5 PM\nLocation: Room 127\, Paul H. Thompson Library \n💻 Need flexibility?\nAccess 24/7 online tutoring directly through your Canvas classes. \nLet’s crush those finals together!
URL:https://www.faytechcc.edu/event/face-to-face-online-tutoring-prepare-for-your-finals/2025-12-16/
LOCATION:Paul H. Thompson Library (LRC) – Room 127\, 2221 Hull Rd.\, Fayetteville\, NC\, 28303\, United States
ORGANIZER;CN="FTCC Student Services":MAILTO:admissions@faytechcc.edu
END:VEVENT
BEGIN:VEVENT
DTSTART;TZID=America/New_York:20251217T070000
DTEND;TZID=America/New_York:20251217T190000
DTSTAMP:20260425T124219
CREATED:20251205T171757Z
LAST-MODIFIED:20251211T174428Z
UID:10004269-1765954800-1765998000@www.faytechcc.edu
SUMMARY:Face-to-Face & Online Tutoring - Prepare for your Finals!
DESCRIPTION:Attention Faculty and Students!\nGreat news — finals are coming\, and we’ve got you covered! The Student Learning Center is offering both face-to-face and online tutoring to help you finish the semester strong. \n📍 Visit Us:\nMonday–Thursday: 7 AM – 7 PM\nFriday: 8 AM – 5 PM\nLocation: Room 127\, Paul H. Thompson Library \n💻 Need flexibility?\nAccess 24/7 online tutoring directly through your Canvas classes. \nLet’s crush those finals together!
URL:https://www.faytechcc.edu/event/face-to-face-online-tutoring-prepare-for-your-finals/2025-12-17/
LOCATION:Paul H. Thompson Library (LRC) – Room 127\, 2221 Hull Rd.\, Fayetteville\, NC\, 28303\, United States
ORGANIZER;CN="FTCC Student Services":MAILTO:admissions@faytechcc.edu
END:VEVENT
BEGIN:VEVENT
DTSTART;TZID=America/New_York:20251217T113000
DTEND;TZID=America/New_York:20251217T133000
DTSTAMP:20260425T124219
CREATED:20251216T164248Z
LAST-MODIFIED:20251216T164248Z
UID:10004502-1765971000-1765978200@www.faytechcc.edu
SUMMARY:FTCC Closed for Holiday Luncheon
DESCRIPTION: 
URL:https://www.faytechcc.edu/event/ftcc-closed-for-holiday-luncheon/
LOCATION:Tony Rand Student Center
END:VEVENT
BEGIN:VEVENT
DTSTART;TZID=America/New_York:20251218T070000
DTEND;TZID=America/New_York:20251218T190000
DTSTAMP:20260425T124219
CREATED:20251205T171757Z
LAST-MODIFIED:20251211T174428Z
UID:10004270-1766041200-1766084400@www.faytechcc.edu
SUMMARY:Face-to-Face & Online Tutoring - Prepare for your Finals!
DESCRIPTION:Attention Faculty and Students!\nGreat news — finals are coming\, and we’ve got you covered! The Student Learning Center is offering both face-to-face and online tutoring to help you finish the semester strong. \n📍 Visit Us:\nMonday–Thursday: 7 AM – 7 PM\nFriday: 8 AM – 5 PM\nLocation: Room 127\, Paul H. Thompson Library \n💻 Need flexibility?\nAccess 24/7 online tutoring directly through your Canvas classes. \nLet’s crush those finals together!
URL:https://www.faytechcc.edu/event/face-to-face-online-tutoring-prepare-for-your-finals/2025-12-18/
LOCATION:Paul H. Thompson Library (LRC) – Room 127\, 2221 Hull Rd.\, Fayetteville\, NC\, 28303\, United States
ORGANIZER;CN="FTCC Student Services":MAILTO:admissions@faytechcc.edu
END:VEVENT
BEGIN:VEVENT
DTSTART;TZID=America/New_York:20251218T180000
DTEND;TZID=America/New_York:20251218T200000
DTSTAMP:20260425T124219
CREATED:20250910T142520Z
LAST-MODIFIED:20250910T142520Z
UID:10003722-1766080800-1766088000@www.faytechcc.edu
SUMMARY:Women's Basketball
DESCRIPTION:Women’s Basketball is hosting Cape Fear in a conference game at 6pm. All home games are played at Reid Ross Classical School: 3200 Ramsey Street. Admission is $10\, free with FTCC ID.
URL:https://www.faytechcc.edu/event/womens-basketball/
LOCATION:NC
CATEGORIES:Athletics
END:VEVENT
BEGIN:VEVENT
DTSTART;VALUE=DATE:20251219
DTEND;VALUE=DATE:20260105
DTSTAMP:20260425T124219
CREATED:20251201T142412Z
LAST-MODIFIED:20251201T142412Z
UID:10003945-1766102400-1767571199@www.faytechcc.edu
SUMMARY:Faculty Winter Break
DESCRIPTION:Winter Break for Faculty (Contract I\, II\, and III)\nDecember 19\, 2025 – January 4\, 2026\nTake this time to unwind\, recharge\, and enjoy the holiday season. Whether you’re celebrating with family and friends or simply savoring some well-deserved rest\, we wish you a peaceful and joyful Winter Break. Welcome the new year\, refreshed and ready for an exciting semester ahead!
URL:https://www.faytechcc.edu/event/faculty-winter-break/
LOCATION:NC
END:VEVENT
BEGIN:VEVENT
DTSTART;TZID=America/New_York:20251219T080000
DTEND;TZID=America/New_York:20251219T170000
DTSTAMP:20260425T124219
CREATED:20251205T171757Z
LAST-MODIFIED:20251211T174428Z
UID:10004271-1766131200-1766163600@www.faytechcc.edu
SUMMARY:Face-to-Face & Online Tutoring - Prepare for your Finals!
DESCRIPTION:Attention Faculty and Students!\nGreat news — finals are coming\, and we’ve got you covered! The Student Learning Center is offering both face-to-face and online tutoring to help you finish the semester strong. \n📍 Visit Us:\nMonday–Thursday: 7 AM – 7 PM\nFriday: 8 AM – 5 PM\nLocation: Room 127\, Paul H. Thompson Library \n💻 Need flexibility?\nAccess 24/7 online tutoring directly through your Canvas classes. \nLet’s crush those finals together!
URL:https://www.faytechcc.edu/event/face-to-face-online-tutoring-prepare-for-your-finals/2025-12-19/
LOCATION:Paul H. Thompson Library (LRC) – Room 127\, 2221 Hull Rd.\, Fayetteville\, NC\, 28303\, United States
ORGANIZER;CN="FTCC Student Services":MAILTO:admissions@faytechcc.edu
END:VEVENT
BEGIN:VEVENT
DTSTART;TZID=America/New_York:20251220T150000
DTEND;TZID=America/New_York:20251220T170000
DTSTAMP:20260425T124219
CREATED:20250911T135947Z
LAST-MODIFIED:20250911T135947Z
UID:10003748-1766242800-1766250000@www.faytechcc.edu
SUMMARY:Men's Basketball (Away)
DESCRIPTION:Men’s Basketball is traveling to Catawba Valley for a conference game at 3PM. 
URL:https://www.faytechcc.edu/event/mens-basketball-away-6/
LOCATION:NC
CATEGORIES:Athletics
END:VEVENT
END:VCALENDAR