BEGIN:VCALENDAR
VERSION:2.0
PRODID:-//Fayetteville Technical Community College - ECPv6.15.9//NONSGML v1.0//EN
CALSCALE:GREGORIAN
METHOD:PUBLISH
X-WR-CALNAME:Fayetteville Technical Community College
X-ORIGINAL-URL:https://www.faytechcc.edu
X-WR-CALDESC:Events for Fayetteville Technical Community College
REFRESH-INTERVAL;VALUE=DURATION:PT1H
X-Robots-Tag:noindex
X-PUBLISHED-TTL:PT1H
BEGIN:VTIMEZONE
TZID:America/New_York
BEGIN:DAYLIGHT
TZOFFSETFROM:-0500
TZOFFSETTO:-0400
TZNAME:EDT
DTSTART:20240310T070000
END:DAYLIGHT
BEGIN:STANDARD
TZOFFSETFROM:-0400
TZOFFSETTO:-0500
TZNAME:EST
DTSTART:20241103T060000
END:STANDARD
BEGIN:DAYLIGHT
TZOFFSETFROM:-0500
TZOFFSETTO:-0400
TZNAME:EDT
DTSTART:20250309T070000
END:DAYLIGHT
BEGIN:STANDARD
TZOFFSETFROM:-0400
TZOFFSETTO:-0500
TZNAME:EST
DTSTART:20251102T060000
END:STANDARD
BEGIN:DAYLIGHT
TZOFFSETFROM:-0500
TZOFFSETTO:-0400
TZNAME:EDT
DTSTART:20260308T070000
END:DAYLIGHT
BEGIN:STANDARD
TZOFFSETFROM:-0400
TZOFFSETTO:-0500
TZNAME:EST
DTSTART:20261101T060000
END:STANDARD
END:VTIMEZONE
BEGIN:VEVENT
DTSTART;TZID=America/New_York:20251013T130000
DTEND;TZID=America/New_York:20251013T140000
DTSTAMP:20260425T093224
CREATED:20250909T155333Z
LAST-MODIFIED:20250909T155333Z
UID:10003697-1760360400-1760364000@www.faytechcc.edu
SUMMARY:Parents for Higher Education Club (PFHE) Meeting
DESCRIPTION:The Parents for Higher Education Club (PFHE) focuses on student/parents with children ages birth – 5 years. We have speakers from various organizations and agencies discussing topics relevant to student-parents throughout the semester. \n📅 Date: Mondays\n⏰ Time: 1:00 PM – 2:00 PM\n📍 Location: General Classroom Building (GCB)\, Room 108\n👥 Target Audience: Parents/Students with children ages birth – 5 years. \n  \n 
URL:https://www.faytechcc.edu/event/parents-for-higher-education-club-pfhe-meeting-2/2025-10-13/
LOCATION:General classroom building  – Room 108\, 2817 Fort Bragg Rd.\, Fayetteville\, NC\, 28303\, United States
ORGANIZER;CN="FTCC PFHE":MAILTO:canond@faytechcc.edu
END:VEVENT
BEGIN:VEVENT
DTSTART;TZID=America/New_York:20251014T120000
DTEND;TZID=America/New_York:20251014T130000
DTSTAMP:20260425T093224
CREATED:20250825T203918Z
LAST-MODIFIED:20250825T204202Z
UID:10003624-1760443200-1760446800@www.faytechcc.edu
SUMMARY:Toastmasters Meeting
DESCRIPTION:🗣️ Join Toastmasters at FTCC!\n📅 When: Every Tuesday\, 12:00 PM – 1:00 PM\n📍 Where: CBI 134\n🎤 Want to improve your public speaking and leadership skills? FTCC Toastmasters is open to all faculty\, staff\, and students. \n🤝 This is a welcoming forum where you can build confidence\, develop communication skills\, and connect with others. Meetings will start September 02\, 2025\, and continue through December 9\, 2025. \n✅ No experience needed — just bring your voice and a willingness to grow!
URL:https://www.faytechcc.edu/event/toastmasters-meeting-3/2025-10-14/
LOCATION:CBI 134\, 2733 Fort Bragg Road\, Fayetteville\, NC\, 28303\, United States
ORGANIZER;CN="FTCC Toastmasters Chapter":MAILTO:hicksc@faytechcc.edu
END:VEVENT
BEGIN:VEVENT
DTSTART;TZID=America/New_York:20251014T120000
DTEND;TZID=America/New_York:20251014T133000
DTSTAMP:20260425T093224
CREATED:20250814T155846Z
LAST-MODIFIED:20250814T155846Z
UID:10003565-1760443200-1760448600@www.faytechcc.edu
SUMMARY:Seekers Fellowship Christian Club
DESCRIPTION:Join us as we kick off our weekly meetings starting Tuesday\, August 19\, 2025!\n🗓 When: Every Tuesday\, 12:00 PM – 1:30 PM\n📍 Where: Cumberland Hall\, Room 360\nAll are welcome—come for fellowship\, encouragement\, and meaningful conversations!
URL:https://www.faytechcc.edu/event/seekers-fellowship-christian-club-2/2025-10-14/
LOCATION:Cumberland Hall Auditorium\, Room 360\, 2215 Hull Road\, Fayetteville\, NC\, 28303\, United States
ORGANIZER;CN="FTCC Seekers Fellowship Club":MAILTO:abrahamn@faytechcc.edu
END:VEVENT
BEGIN:VEVENT
DTSTART;TZID=America/New_York:20251014T180000
DTEND;TZID=America/New_York:20251014T200000
DTSTAMP:20260425T093224
CREATED:20250507T143039Z
LAST-MODIFIED:20250917T134656Z
UID:10003030-1760464800-1760472000@www.faytechcc.edu
SUMMARY:Volleyball (Home)
DESCRIPTION:Volleyball is hosting Cape Fear CC in a conference game at 6pm. All home games are played in Horace Sisk Gymnasium\, and require a $10 admission fee. 
URL:https://www.faytechcc.edu/event/volleyball-home-15/
LOCATION:NC
CATEGORIES:Athletics
END:VEVENT
BEGIN:VEVENT
DTSTART;VALUE=DATE:20251015
DTEND;VALUE=DATE:20251016
DTSTAMP:20260425T093224
CREATED:20250926T154019Z
LAST-MODIFIED:20250926T154019Z
UID:10003798-1760486400-1760572799@www.faytechcc.edu
SUMMARY:Graduation Application Information
DESCRIPTION:Graduation Applications are required for each earned associate degree\, diploma and certificate.  \nBelow are the Graduation Application Deadlines: \n\n\n\n \nOpens\nCloses\nDiploma Pickup\n\n\nFall\nAug 4\, 2025\nDec 1\, 2025\nFeb 1\, 2026\n\n\nSpring\nJan 1\, 2026\nApril 30\, 2026\nJuly 1\, 2026\n\n\nSummer\nMay 1\, 2026\nJuly 31\, 2026\nSept 1\, 2026\n\n\n\nCollege Graduation Requirements: \n\nStudent has completed the program requirements.\nStudent has a minimum cumulative and major GPA of 2.0.\nStudent has completed 25% of their course work at FTCC to meet North Carolina residency requirements.\nStudent has passing grades in all related required courses.\nStudent has no outstanding financial obligations with the College.\n \n\nPlease refer to the below document for additional details.  \nQuestions?  Danielle Burnette – burnetts@faytechcc.edu
URL:https://www.faytechcc.edu/event/graduation-application-information-2/2025-10-15/
LOCATION:Virtual Event
ORGANIZER;CN="FTCC Student Services":MAILTO:admissions@faytechcc.edu
END:VEVENT
BEGIN:VEVENT
DTSTART;TZID=America/New_York:20251015T090000
DTEND;TZID=America/New_York:20251015T160000
DTSTAMP:20260425T093224
CREATED:20250815T184811Z
LAST-MODIFIED:20250912T134100Z
UID:10002982-1760518800-1760544000@www.faytechcc.edu
SUMMARY:Free Haircuts!
DESCRIPTION:Need a haircut? Want a new style? FTCC’s barbering students will be offering free cuts from 9am to 4pm in the Barbering Department in CEC 150 on Wednesday\, Oct. 16. Come on down!
URL:https://www.faytechcc.edu/event/free-haircuts-2-3/2025-10-15/
LOCATION:Continuing Education Building\, Room 150\, 220 Hull Road\, Fayetteville\, NC\, 28303\, United States
CATEGORIES:Public Presentation,Students
END:VEVENT
BEGIN:VEVENT
DTSTART;TZID=America/New_York:20251015T120000
DTEND;TZID=America/New_York:20251015T130000
DTSTAMP:20260425T093224
CREATED:20250918T133026Z
LAST-MODIFIED:20250918T133245Z
UID:10003770-1760529600-1760533200@www.faytechcc.edu
SUMMARY:Professional Headshot Photo Opportunity
DESCRIPTION:Click on the image above to view PDF version.
URL:https://www.faytechcc.edu/event/professional-headshot-photo-opportunity-2/
LOCATION:Tony Rand Student Center Rm 124\, 2220 Hull Rd\, Fayetteville\, NC\, 28303\, United States
CATEGORIES:Career Development Center
END:VEVENT
BEGIN:VEVENT
DTSTART;TZID=America/New_York:20251016T090000
DTEND;TZID=America/New_York:20251016T140000
DTSTAMP:20260425T093224
CREATED:20251001T122249Z
LAST-MODIFIED:20251001T122249Z
UID:10003819-1760605200-1760623200@www.faytechcc.edu
SUMMARY:Military Spouse Appreciation Day: Honoring the Silent Ranks
DESCRIPTION:🎖 Military Spouse Appreciation Day: Honoring the Silent Ranks \n📅 When: Thursday\, October 16 | 9:00 a.m. – 2:00 p.m.\n📍 Where: Auditorium\, Bragg Training & Education Center\n                    4520 Knox St\, Bldg. 1-3571\, Wing F \nFeaturing: \n💰 MyCAA – Up to $4\,000 in financial assistance for military spouses\n🤝 Resource tables for spouse & family support networks\n💌 “Wall of Appreciation” with thank-you notes from soldiers\n🎨 Kids’ Corner with fun activities\n☕ Free refreshments
URL:https://www.faytechcc.edu/event/military-spouse-appreciation-day-honoring-the-silent-ranks/
LOCATION:Fort Bragg Education Center\, 4520 Knox Street - FTCC Bldg I-3571 Wing F\, Fort Bragg\, NC\, 28310\, United States
ORGANIZER;CN="Military/Veterans Services":MAILTO:keyesw@faytechcc.edu
END:VEVENT
BEGIN:VEVENT
DTSTART;TZID=America/New_York:20251016T120000
DTEND;TZID=America/New_York:20251016T130000
DTSTAMP:20260425T093224
CREATED:20250912T131854Z
LAST-MODIFIED:20250912T131937Z
UID:10003671-1760616000-1760619600@www.faytechcc.edu
SUMMARY:Future Business Leaders of America (FBLA)
DESCRIPTION:Future Business Leaders of America (FBLA)\n📅 1st & 3rd Thursdays | 🕛 12:00 PM\n📍 Cumberland Hall (CUH)\, Room 351 \nMake your mark with FBLA! Join us to: \nLead a team and build your personal brand\nGain volunteer experience to strengthen your resume\nNetwork with peers and professionals\nConnect with mentors in your career field\nLearn and apply fundraising principles\nCompete at the State and National level
URL:https://www.faytechcc.edu/event/future-business-leaders-of-america-fbla-2/2025-10-16/
LOCATION:Cumberland Hall – Room 351\, 2215 Hull Rd.\, Fayetteville\, 28303\, United States
ORGANIZER;CN="FTCC FBLA Club":MAILTO:fbla@faytechcc.edu
END:VEVENT
BEGIN:VEVENT
DTSTART;TZID=America/New_York:20251016T140000
DTEND;TZID=America/New_York:20251016T140000
DTSTAMP:20260425T093224
CREATED:20251001T120914Z
LAST-MODIFIED:20251001T120914Z
UID:10003817-1760623200-1760623200@www.faytechcc.edu
SUMMARY:Roadmap to Success: Creating a Winning Business Plan
DESCRIPTION:🗺️ Roadmap to Success: Creating a Winning Business Plan\n📅 Thursday\, October 16\, 2025\n💻 Virtual Event\n🕑 2:00 PM → Register Here\n🕡 6:30 PM → Register Here \nYou can’t reach your goals—or secure funding—without a clear business plan. This workshop breaks it down into simple\, easy-to-follow steps so you can create a plan that works for your small business. Learn how to build a 3-page business plan that’s practical\, effective\, and tailored to your needs.
URL:https://www.faytechcc.edu/event/roadmap-to-success-creating-a-winning-business-plan/2025-10-16/1/
LOCATION:Virtual Event
ORGANIZER;CN="FTCC Small Business Center":MAILTO:ftccsbc@faytechcc.edu
END:VEVENT
BEGIN:VEVENT
DTSTART;TZID=America/New_York:20251016T150000
DTEND;TZID=America/New_York:20251016T160000
DTSTAMP:20260425T093224
CREATED:20250929T160628Z
LAST-MODIFIED:20250929T160629Z
UID:10003809-1760626800-1760630400@www.faytechcc.edu
SUMMARY:Association of Students for Social Justice Meeting
DESCRIPTION:✨ Association of Students for Social Justice (ASSJ) Meeting ✨ \n📅 Thursday\, October 16\, 2025\n🕒 3:00 PM – 4:00 PM\n📍 Cumberland Hall (CUH)\, Room 340 \n💻 Can’t attend in person?\n👉 Scan the QR code on the flyer below to join online! \n \n 
URL:https://www.faytechcc.edu/event/association-of-students-for-social-justice-meeting-3/
LOCATION:Cumberland Hall (CUH)\, Room 340\, 2215 Hull Road\, Fayetteville\, NC\, 28303\, United States
ORGANIZER;CN="FTCC Association of Students for Social Justice Club":MAILTO:collinsp@faytechcc.edu
END:VEVENT
BEGIN:VEVENT
DTSTART;TZID=America/New_York:20251016T180000
DTEND;TZID=America/New_York:20251016T200000
DTSTAMP:20260425T093224
CREATED:20250507T143133Z
LAST-MODIFIED:20250917T134702Z
UID:10003031-1760637600-1760644800@www.faytechcc.edu
SUMMARY:Volleyball (Home)
DESCRIPTION:Volleyball is hosting USC-Sumter in a nonconference game at 6pm. All home games are played in Horace Sisk Gymnasium\, and require a $10 admission fee. 
URL:https://www.faytechcc.edu/event/volleyball-home-16/
LOCATION:NC
CATEGORIES:Athletics
END:VEVENT
BEGIN:VEVENT
DTSTART;TZID=America/New_York:20251016T183000
DTEND;TZID=America/New_York:20251016T183000
DTSTAMP:20260425T093224
CREATED:20251001T120914Z
LAST-MODIFIED:20251001T120914Z
UID:10003818-1760639400-1760639400@www.faytechcc.edu
SUMMARY:Roadmap to Success: Creating a Winning Business Plan
DESCRIPTION:🗺️ Roadmap to Success: Creating a Winning Business Plan\n📅 Thursday\, October 16\, 2025\n💻 Virtual Event\n🕑 2:00 PM → Register Here\n🕡 6:30 PM → Register Here \nYou can’t reach your goals—or secure funding—without a clear business plan. This workshop breaks it down into simple\, easy-to-follow steps so you can create a plan that works for your small business. Learn how to build a 3-page business plan that’s practical\, effective\, and tailored to your needs.
URL:https://www.faytechcc.edu/event/roadmap-to-success-creating-a-winning-business-plan/2025-10-16/2/
LOCATION:Virtual Event
ORGANIZER;CN="FTCC Small Business Center":MAILTO:ftccsbc@faytechcc.edu
END:VEVENT
BEGIN:VEVENT
DTSTART;TZID=America/New_York:20251017T140000
DTEND;TZID=America/New_York:20251017T180000
DTSTAMP:20260425T093224
CREATED:20250819T200558Z
LAST-MODIFIED:20251016T201504Z
UID:10003600-1760709600-1760724000@www.faytechcc.edu
SUMMARY:Baseball (Home)
DESCRIPTION:Baseball is hosting Lenoir CC in a doubleheader starting at 2:00pm. All fall games are free of charge and played at JP Riddle Stadium: 2823 Legion Rd.
URL:https://www.faytechcc.edu/event/baseball-home-9/
LOCATION:NC
CATEGORIES:Athletics
END:VEVENT
BEGIN:VEVENT
DTSTART;TZID=America/New_York:20251018T080000
DTEND;TZID=America/New_York:20251018T170000
DTSTAMP:20260425T093224
CREATED:20250814T114534Z
LAST-MODIFIED:20250814T114731Z
UID:10003545-1760774400-1760806800@www.faytechcc.edu
SUMMARY:Oak City Game Con - Wake Tech Community College
DESCRIPTION:Other Events\n\n\nDate\nEvent\n\n\n\n\nOctober 4\nGame Con Raleigh\n\n\nOctober 18\nOak City Game Con – Wake Tech Community College\n\n\nNovember 15\nHoliday Bazaar
URL:https://www.faytechcc.edu/event/oak-city-game-con-wake-tech-community-college/
LOCATION:NC
CATEGORIES:Gaming and Interactive Digital Media Club
END:VEVENT
END:VCALENDAR