BEGIN:VCALENDAR
VERSION:2.0
PRODID:-//Fayetteville Technical Community College - ECPv6.15.9//NONSGML v1.0//EN
CALSCALE:GREGORIAN
METHOD:PUBLISH
X-WR-CALNAME:Fayetteville Technical Community College
X-ORIGINAL-URL:https://www.faytechcc.edu
X-WR-CALDESC:Events for Fayetteville Technical Community College
REFRESH-INTERVAL;VALUE=DURATION:PT1H
X-Robots-Tag:noindex
X-PUBLISHED-TTL:PT1H
BEGIN:VTIMEZONE
TZID:America/New_York
BEGIN:DAYLIGHT
TZOFFSETFROM:-0500
TZOFFSETTO:-0400
TZNAME:EDT
DTSTART:20240310T070000
END:DAYLIGHT
BEGIN:STANDARD
TZOFFSETFROM:-0400
TZOFFSETTO:-0500
TZNAME:EST
DTSTART:20241103T060000
END:STANDARD
BEGIN:DAYLIGHT
TZOFFSETFROM:-0500
TZOFFSETTO:-0400
TZNAME:EDT
DTSTART:20250309T070000
END:DAYLIGHT
BEGIN:STANDARD
TZOFFSETFROM:-0400
TZOFFSETTO:-0500
TZNAME:EST
DTSTART:20251102T060000
END:STANDARD
BEGIN:DAYLIGHT
TZOFFSETFROM:-0500
TZOFFSETTO:-0400
TZNAME:EDT
DTSTART:20260308T070000
END:DAYLIGHT
BEGIN:STANDARD
TZOFFSETFROM:-0400
TZOFFSETTO:-0500
TZNAME:EST
DTSTART:20261101T060000
END:STANDARD
END:VTIMEZONE
BEGIN:VEVENT
DTSTART;TZID=America/New_York:20250811T080000
DTEND;TZID=America/New_York:20250811T190000
DTSTAMP:20260425T093310
CREATED:20250701T194627Z
LAST-MODIFIED:20250701T194744Z
UID:10003111-1754899200-1754938800@www.faytechcc.edu
SUMMARY:Student Services - Extended Hours
DESCRIPTION:📣 Student Services Extended Hours 🌟 \nFTCC’s Student Services will be open with extended hours until 7:00 PM from August 11–14\, 2025\, to better serve you! \nWhether you need help with admissions\, advising\, financial aid\, or registration\, we’re here to support you on your journey to success. \n📍 Stop by and take advantage of this extra time to get everything you need for a strong start!
URL:https://www.faytechcc.edu/event/student-services-extended-hours/2025-08-11/
LOCATION:Tony Rand Student Center
ORGANIZER;CN="FTCC Student Services":MAILTO:admissions@faytechcc.edu
END:VEVENT
BEGIN:VEVENT
DTSTART;TZID=America/New_York:20250812T080000
DTEND;TZID=America/New_York:20250812T190000
DTSTAMP:20260425T093310
CREATED:20250701T194627Z
LAST-MODIFIED:20250701T194744Z
UID:10003112-1754985600-1755025200@www.faytechcc.edu
SUMMARY:Student Services - Extended Hours
DESCRIPTION:📣 Student Services Extended Hours 🌟 \nFTCC’s Student Services will be open with extended hours until 7:00 PM from August 11–14\, 2025\, to better serve you! \nWhether you need help with admissions\, advising\, financial aid\, or registration\, we’re here to support you on your journey to success. \n📍 Stop by and take advantage of this extra time to get everything you need for a strong start!
URL:https://www.faytechcc.edu/event/student-services-extended-hours/2025-08-12/
LOCATION:Tony Rand Student Center
ORGANIZER;CN="FTCC Student Services":MAILTO:admissions@faytechcc.edu
END:VEVENT
BEGIN:VEVENT
DTSTART;TZID=America/New_York:20250812T120000
DTEND;TZID=America/New_York:20250812T130000
DTSTAMP:20260425T093310
CREATED:20250623T132835Z
LAST-MODIFIED:20250623T132858Z
UID:10003103-1755000000-1755003600@www.faytechcc.edu
SUMMARY:Toastmasters Meeting
DESCRIPTION:🗣️ Join Toastmasters at FTCC!\n📅 When: Every Tuesday\, 12:00 PM – 1:00 PM\n📍 Where: CBI 134\n🎤 Want to improve your public speaking and leadership skills? FTCC Toastmasters is open to all faculty\, staff\, and students. \n🤝 This is a welcoming forum where you can build confidence\, develop communication skills\, and connect with others. \n✅ No experience needed — just bring your voice and a willingness to grow!
URL:https://www.faytechcc.edu/event/toastmasters-meeting-2-2/2025-08-12/
LOCATION:CBI 134\, 2733 Fort Bragg Road\, Fayetteville\, NC\, 28303\, United States
ORGANIZER;CN="FTCC Toastmasters Chapter":MAILTO:hicksc@faytechcc.edu
END:VEVENT
BEGIN:VEVENT
DTSTART;TZID=America/New_York:20250813T080000
DTEND;TZID=America/New_York:20250813T170000
DTSTAMP:20260425T093310
CREATED:20250701T195603Z
LAST-MODIFIED:20250701T195603Z
UID:10003481-1755072000-1755104400@www.faytechcc.edu
SUMMARY:New Student Orientation - Virtual Orientation
DESCRIPTION:🎓 New Student Orientation – Virtual Orientation\n📅 Wednesday\, August 13\, 2025 \nGet ready to start strong! FTCC is excited to welcome our Freshman students at New Student Orientation on Wednesday\, August 13\, 2025. \nThe link will be forthcoming. \n✅ Learn about campus resources\n✅ Meet your support team\n✅ Get tips for a successful semester \nThis is your first step toward a great experience at FTCC — don’t miss it!
URL:https://www.faytechcc.edu/event/new-student-orientation-virtual-orientation/
LOCATION:
ORGANIZER;CN="FTCC Student Services":MAILTO:admissions@faytechcc.edu
END:VEVENT
BEGIN:VEVENT
DTSTART;TZID=America/New_York:20250813T080000
DTEND;TZID=America/New_York:20250813T190000
DTSTAMP:20260425T093310
CREATED:20250701T194627Z
LAST-MODIFIED:20250701T194744Z
UID:10003113-1755072000-1755111600@www.faytechcc.edu
SUMMARY:Student Services - Extended Hours
DESCRIPTION:📣 Student Services Extended Hours 🌟 \nFTCC’s Student Services will be open with extended hours until 7:00 PM from August 11–14\, 2025\, to better serve you! \nWhether you need help with admissions\, advising\, financial aid\, or registration\, we’re here to support you on your journey to success. \n📍 Stop by and take advantage of this extra time to get everything you need for a strong start!
URL:https://www.faytechcc.edu/event/student-services-extended-hours/2025-08-13/
LOCATION:Tony Rand Student Center
ORGANIZER;CN="FTCC Student Services":MAILTO:admissions@faytechcc.edu
END:VEVENT
BEGIN:VEVENT
DTSTART;TZID=America/New_York:20250813T183000
DTEND;TZID=America/New_York:20250813T203000
DTSTAMP:20260425T093311
CREATED:20250728T201422Z
LAST-MODIFIED:20250728T201422Z
UID:10003511-1755109800-1755117000@www.faytechcc.edu
SUMMARY:1 Million Cups Town Hall
DESCRIPTION:1 Million Cups Town Hall\n🗓 Wednesday\, August 13\, 2025\n⏰ 6:30 PM – 8:30 PM (AL)\n📍 FTCC General Classroom Building\, Room 108 \nBe part of the conversation! Join us for a 1 Million Cups Town Hall to share your ideas\, help shape future events\, and explore ways to build a stronger\, more connected entrepreneurial community. Network\, collaborate\, and contribute to the innovation happening right here in our region.
URL:https://www.faytechcc.edu/event/1-million-cups-town-hall/
LOCATION:General classroom building  – Room 108\, 2817 Fort Bragg Rd.\, Fayetteville\, NC\, 28303\, United States
ORGANIZER;CN="FTCC Small Business Center":MAILTO:ftccsbc@faytechcc.edu
END:VEVENT
BEGIN:VEVENT
DTSTART;TZID=America/New_York:20250814T080000
DTEND;TZID=America/New_York:20250814T170000
DTSTAMP:20260425T093311
CREATED:20250701T195849Z
LAST-MODIFIED:20250701T195849Z
UID:10003482-1755158400-1755190800@www.faytechcc.edu
SUMMARY:New Student Orientation
DESCRIPTION:🎓 New Student Orientation – Welcome Freshmen\n📅 Thursday\, August 14\, 2025 \nGet ready to start strong! FTCC is excited to welcome our Freshmen at New Student Orientation on Thursday\, August 14\, 2025. \n✅ Learn about campus resources\n✅ Meet your support team\n✅ Get tips for a successful semester \nThis is your first step toward a great experience at FTCC — don’t miss it!
URL:https://www.faytechcc.edu/event/new-student-orientation-3/
LOCATION:Tony Rand Student Center
ORGANIZER;CN="FTCC Student Services":MAILTO:admissions@faytechcc.edu
END:VEVENT
BEGIN:VEVENT
DTSTART;TZID=America/New_York:20250814T080000
DTEND;TZID=America/New_York:20250814T170000
DTSTAMP:20260425T093311
CREATED:20250814T114049Z
LAST-MODIFIED:20250814T114049Z
UID:10003542-1755158400-1755190800@www.faytechcc.edu
SUMMARY:Digital Media Game Development Club Meeting
DESCRIPTION:
URL:https://www.faytechcc.edu/event/digital-media-game-development-club-meeting-9/
LOCATION:NC
CATEGORIES:Gaming and Interactive Digital Media Club
END:VEVENT
BEGIN:VEVENT
DTSTART;TZID=America/New_York:20250814T080000
DTEND;TZID=America/New_York:20250814T170000
DTSTAMP:20260425T093311
CREATED:20250814T114113Z
LAST-MODIFIED:20250814T114113Z
UID:10003543-1755158400-1755190800@www.faytechcc.edu
SUMMARY:Digital Media Game Development Club Meeting
DESCRIPTION:
URL:https://www.faytechcc.edu/event/digital-media-game-development-club-meeting-10/
LOCATION:NC
CATEGORIES:Gaming and Interactive Digital Media Club
END:VEVENT
BEGIN:VEVENT
DTSTART;TZID=America/New_York:20250814T080000
DTEND;TZID=America/New_York:20250814T190000
DTSTAMP:20260425T093311
CREATED:20250701T194627Z
LAST-MODIFIED:20250701T194744Z
UID:10003114-1755158400-1755198000@www.faytechcc.edu
SUMMARY:Student Services - Extended Hours
DESCRIPTION:📣 Student Services Extended Hours 🌟 \nFTCC’s Student Services will be open with extended hours until 7:00 PM from August 11–14\, 2025\, to better serve you! \nWhether you need help with admissions\, advising\, financial aid\, or registration\, we’re here to support you on your journey to success. \n📍 Stop by and take advantage of this extra time to get everything you need for a strong start!
URL:https://www.faytechcc.edu/event/student-services-extended-hours/2025-08-14/
LOCATION:Tony Rand Student Center
ORGANIZER;CN="FTCC Student Services":MAILTO:admissions@faytechcc.edu
END:VEVENT
BEGIN:VEVENT
DTSTART;TZID=America/New_York:20250816T160000
DTEND;TZID=America/New_York:20250816T180000
DTSTAMP:20260425T093311
CREATED:20250507T141240Z
LAST-MODIFIED:20250507T141240Z
UID:10003013-1755360000-1755367200@www.faytechcc.edu
SUMMARY:Volleyball (Home)- Alumni Game
DESCRIPTION:Volleyball will be playing an Alumni Game at 4pm. All home games are played in Horace Sisk Gymnasium. 
URL:https://www.faytechcc.edu/event/volleyball-home-alumni-game/
LOCATION:NC
CATEGORIES:Athletics
END:VEVENT
END:VCALENDAR