BEGIN:VCALENDAR
VERSION:2.0
PRODID:-//Fayetteville Technical Community College - ECPv6.15.9//NONSGML v1.0//EN
CALSCALE:GREGORIAN
METHOD:PUBLISH
X-WR-CALNAME:Fayetteville Technical Community College
X-ORIGINAL-URL:https://www.faytechcc.edu
X-WR-CALDESC:Events for Fayetteville Technical Community College
REFRESH-INTERVAL;VALUE=DURATION:PT1H
X-Robots-Tag:noindex
X-PUBLISHED-TTL:PT1H
BEGIN:VTIMEZONE
TZID:America/New_York
BEGIN:DAYLIGHT
TZOFFSETFROM:-0500
TZOFFSETTO:-0400
TZNAME:EDT
DTSTART:20240310T070000
END:DAYLIGHT
BEGIN:STANDARD
TZOFFSETFROM:-0400
TZOFFSETTO:-0500
TZNAME:EST
DTSTART:20241103T060000
END:STANDARD
BEGIN:DAYLIGHT
TZOFFSETFROM:-0500
TZOFFSETTO:-0400
TZNAME:EDT
DTSTART:20250309T070000
END:DAYLIGHT
BEGIN:STANDARD
TZOFFSETFROM:-0400
TZOFFSETTO:-0500
TZNAME:EST
DTSTART:20251102T060000
END:STANDARD
BEGIN:DAYLIGHT
TZOFFSETFROM:-0500
TZOFFSETTO:-0400
TZNAME:EDT
DTSTART:20260308T070000
END:DAYLIGHT
BEGIN:STANDARD
TZOFFSETFROM:-0400
TZOFFSETTO:-0500
TZNAME:EST
DTSTART:20261101T060000
END:STANDARD
END:VTIMEZONE
BEGIN:VEVENT
DTSTART;TZID=America/New_York:20250722T120000
DTEND;TZID=America/New_York:20250722T130000
DTSTAMP:20260425T080349
CREATED:20250623T132835Z
LAST-MODIFIED:20250623T132858Z
UID:10003100-1753185600-1753189200@www.faytechcc.edu
SUMMARY:Toastmasters Meeting
DESCRIPTION:🗣️ Join Toastmasters at FTCC!\n📅 When: Every Tuesday\, 12:00 PM – 1:00 PM\n📍 Where: CBI 134\n🎤 Want to improve your public speaking and leadership skills? FTCC Toastmasters is open to all faculty\, staff\, and students. \n🤝 This is a welcoming forum where you can build confidence\, develop communication skills\, and connect with others. \n✅ No experience needed — just bring your voice and a willingness to grow!
URL:https://www.faytechcc.edu/event/toastmasters-meeting-2-2/2025-07-22/
LOCATION:CBI 134\, 2733 Fort Bragg Road\, Fayetteville\, NC\, 28303\, United States
ORGANIZER;CN="FTCC Toastmasters Chapter":MAILTO:hicksc@faytechcc.edu
END:VEVENT
BEGIN:VEVENT
DTSTART;TZID=America/New_York:20250722T183000
DTEND;TZID=America/New_York:20250722T203000
DTSTAMP:20260425T080349
CREATED:20250627T155614Z
LAST-MODIFIED:20250627T155614Z
UID:10003105-1753209000-1753216200@www.faytechcc.edu
SUMMARY:Power of Capability Statements
DESCRIPTION:The FTCC Small Business Center is hosting a Power of Capability Statements webinar. \nDiscover how to create clear\, compelling capability statements that make your business stand out to government agencies and prime contractors – an essential step for landing new opportunities and partnerships. \n📅 July 22\, 2025\n⏰ 6:30 PM – 8:30 PM\n📍 Power of Capability Statements Webinar Link – https://www.ncsbc.net/workshop.aspx?ekey=200450016
URL:https://www.faytechcc.edu/event/power-of-capability-statements/
LOCATION:NC
ORGANIZER;CN="FTCC Small Business Center":MAILTO:ftccsbc@faytechcc.edu
END:VEVENT
BEGIN:VEVENT
DTSTART;TZID=America/New_York:20250723T093000
DTEND;TZID=America/New_York:20250723T124500
DTSTAMP:20260425T080349
CREATED:20250717T154613Z
LAST-MODIFIED:20250717T154738Z
UID:10003487-1753263000-1753274700@www.faytechcc.edu
SUMMARY:Therapeutic Massage Chair Massages
DESCRIPTION:Therapeutic Massage Chair Massages\nHosted by: FTCC Therapeutic Massage Program\nDate: Wednesday\, July 23\, 2025 (recurs monthly on the 4th Wednesday through October 2025)\nMorning Session: 9:30 AM – 12:45 PM\nAfternoon Session: 3:15 PM – 5:30 PM\nLocation: Tony Rand Student Center – Eatery Area\nDetails: Enjoy a free 10–12 minute chair massage\, provided by students in the FTCC Therapeutic Massage Program. These monthly sessions (4th Wednesday of each month)  help students practice professional massage techniques in a corporate-style setting. Open to all students\, faculty\, and staff.\nFinal Session: October 22\, 2025
URL:https://www.faytechcc.edu/event/therapeutic-massage-chair-massages/2025-07-23/1/
LOCATION:Tony Rand Student Center – Trojan Eatery Cafe\, 2220 Hull Road\, Fayetteville\, NC\, 28303\, United States
ORGANIZER;CN="FTCC Therapeutic Massage Program":MAILTO:munchabd@faytechcc.edu
END:VEVENT
BEGIN:VEVENT
DTSTART;TZID=America/New_York:20250723T151500
DTEND;TZID=America/New_York:20250723T173000
DTSTAMP:20260425T080349
CREATED:20250717T154613Z
LAST-MODIFIED:20250717T154738Z
UID:10003488-1753283700-1753291800@www.faytechcc.edu
SUMMARY:Therapeutic Massage Chair Massages
DESCRIPTION:Therapeutic Massage Chair Massages\nHosted by: FTCC Therapeutic Massage Program\nDate: Wednesday\, July 23\, 2025 (recurs monthly on the 4th Wednesday through October 2025)\nMorning Session: 9:30 AM – 12:45 PM\nAfternoon Session: 3:15 PM – 5:30 PM\nLocation: Tony Rand Student Center – Eatery Area\nDetails: Enjoy a free 10–12 minute chair massage\, provided by students in the FTCC Therapeutic Massage Program. These monthly sessions (4th Wednesday of each month)  help students practice professional massage techniques in a corporate-style setting. Open to all students\, faculty\, and staff.\nFinal Session: October 22\, 2025
URL:https://www.faytechcc.edu/event/therapeutic-massage-chair-massages/2025-07-23/2/
LOCATION:Tony Rand Student Center – Trojan Eatery Cafe\, 2220 Hull Road\, Fayetteville\, NC\, 28303\, United States
ORGANIZER;CN="FTCC Therapeutic Massage Program":MAILTO:munchabd@faytechcc.edu
END:VEVENT
BEGIN:VEVENT
DTSTART;VALUE=DATE:20250724
DTEND;VALUE=DATE:20250725
DTSTAMP:20260425T080349
CREATED:20250701T193107Z
LAST-MODIFIED:20250701T193107Z
UID:10003108-1753344000-1753376400@www.faytechcc.edu
SUMMARY:Admitted Student Days
DESCRIPTION:Remember to register ahead of time!\n \n 
URL:https://www.faytechcc.edu/event/admitted-student-days/2025-07-24/
LOCATION:Tony Rand Student Center
ORGANIZER;CN="FTCC Student Services":MAILTO:admissions@faytechcc.edu
END:VEVENT
BEGIN:VEVENT
DTSTART;TZID=America/New_York:20250724T080000
DTEND;TZID=America/New_York:20250724T190000
DTSTAMP:20260425T080349
CREATED:20250701T193605Z
LAST-MODIFIED:20250701T193605Z
UID:10003110-1753344000-1753383600@www.faytechcc.edu
SUMMARY:FAFSA Summer Fest - Extended Hours
DESCRIPTION:🎉 Join Us for FTCC’s FAFSA Summer Fest! 🎓 \nWe’re here to help you take the first step toward your future. During FAFSA Summer Fest\, our team will be available with extended hours until 7:00 PM to assist you with completing your FAFSA. \n📅 Event Dates: \nTuesday\, July 15\, 2025\nThursday\, July 24\, 2025 \n📍 Don’t miss this opportunity to get the support you need to start your journey to success!
URL:https://www.faytechcc.edu/event/fafsa-summer-fest-extended-hours/2025-07-24/
LOCATION:Tony Rand Student Center
ORGANIZER;CN="FTCC Student Services":MAILTO:admissions@faytechcc.edu
END:VEVENT
END:VCALENDAR