BEGIN:VCALENDAR
VERSION:2.0
PRODID:-//Fayetteville Technical Community College - ECPv6.15.9//NONSGML v1.0//EN
CALSCALE:GREGORIAN
METHOD:PUBLISH
X-WR-CALNAME:Fayetteville Technical Community College
X-ORIGINAL-URL:https://www.faytechcc.edu
X-WR-CALDESC:Events for Fayetteville Technical Community College
REFRESH-INTERVAL;VALUE=DURATION:PT1H
X-Robots-Tag:noindex
X-PUBLISHED-TTL:PT1H
BEGIN:VTIMEZONE
TZID:America/New_York
BEGIN:DAYLIGHT
TZOFFSETFROM:-0500
TZOFFSETTO:-0400
TZNAME:EDT
DTSTART:20240310T070000
END:DAYLIGHT
BEGIN:STANDARD
TZOFFSETFROM:-0400
TZOFFSETTO:-0500
TZNAME:EST
DTSTART:20241103T060000
END:STANDARD
BEGIN:DAYLIGHT
TZOFFSETFROM:-0500
TZOFFSETTO:-0400
TZNAME:EDT
DTSTART:20250309T070000
END:DAYLIGHT
BEGIN:STANDARD
TZOFFSETFROM:-0400
TZOFFSETTO:-0500
TZNAME:EST
DTSTART:20251102T060000
END:STANDARD
BEGIN:DAYLIGHT
TZOFFSETFROM:-0500
TZOFFSETTO:-0400
TZNAME:EDT
DTSTART:20260308T070000
END:DAYLIGHT
BEGIN:STANDARD
TZOFFSETFROM:-0400
TZOFFSETTO:-0500
TZNAME:EST
DTSTART:20261101T060000
END:STANDARD
END:VTIMEZONE
BEGIN:VEVENT
DTSTART;VALUE=DATE:20250630
DTEND;VALUE=DATE:20250701
DTSTAMP:20260425T132557
CREATED:20250602T131724Z
LAST-MODIFIED:20250602T131856Z
UID:10003043-1751241600-1751327999@www.faytechcc.edu
SUMMARY:Collegiate Recovery Program - Mindful Monday
DESCRIPTION:Drop in Table\, Journaling & Dear Future Me Letters – on Mindful Mondays in June.
URL:https://www.faytechcc.edu/event/collegiate-recovery-program-drop-in-table-journaling-dear-future-me-letters/2025-06-30/
LOCATION:Horace Sisk – Rm 630\, 2204 Hull Rd.\, Fayetteville\, NC\, 28303\, United States
ORGANIZER;CN="FTCC's Collegiate Recovery Program":MAILTO:mcdonalr@faytechcc.edu
END:VEVENT
BEGIN:VEVENT
DTSTART;VALUE=DATE:20250630
DTEND;VALUE=DATE:20250701
DTSTAMP:20260425T132557
CREATED:20250123T201841Z
LAST-MODIFIED:20250530T143452Z
UID:10002799-1751270400-1751302800@www.faytechcc.edu
SUMMARY:Transfer Application Deadlines
DESCRIPTION:Transfer Application Deadlines for 2025 are listed below: \n \n 
URL:https://www.faytechcc.edu/event/transfer-application-deadlines/2025-06-30/
LOCATION:NC
ORGANIZER;CN="University Outreach":MAILTO:nelsonl@faytechcc.edu
END:VEVENT
BEGIN:VEVENT
DTSTART;VALUE=DATE:20250701
DTEND;VALUE=DATE:20250702
DTSTAMP:20260425T132557
CREATED:20250619T204430Z
LAST-MODIFIED:20250619T204430Z
UID:10003091-1751328000-1751414399@www.faytechcc.edu
SUMMARY:FSU Application Fee Waiver
DESCRIPTION:Submit a completed application to FSU between Tuesday\, July 1 and Sunday\, July 6\, 2025\, without a fee!\nPreviously submitted or duplicate applications are not eligible.\nRegister your account and apply through the Bronco Portal to have your application fee waived.\nThe application website will be open 24 hours a day from July 1st to July 6th\, 2025.\nPlease see the QR codes on the flyer below.
URL:https://www.faytechcc.edu/event/fsu-application-fee-waiver/2025-07-01/
LOCATION:NC
ORGANIZER;CN="University Outreach":MAILTO:nelsonl@faytechcc.edu
END:VEVENT
BEGIN:VEVENT
DTSTART;VALUE=DATE:20250701
DTEND;VALUE=DATE:20250702
DTSTAMP:20260425T132557
CREATED:20250123T201841Z
LAST-MODIFIED:20250530T143452Z
UID:10002800-1751356800-1751389200@www.faytechcc.edu
SUMMARY:Transfer Application Deadlines
DESCRIPTION:Transfer Application Deadlines for 2025 are listed below: \n \n 
URL:https://www.faytechcc.edu/event/transfer-application-deadlines/2025-07-01/
LOCATION:NC
ORGANIZER;CN="University Outreach":MAILTO:nelsonl@faytechcc.edu
END:VEVENT
BEGIN:VEVENT
DTSTART;TZID=America/New_York:20250701T120000
DTEND;TZID=America/New_York:20250701T130000
DTSTAMP:20260425T132557
CREATED:20250623T132835Z
LAST-MODIFIED:20250623T132858Z
UID:10003097-1751371200-1751374800@www.faytechcc.edu
SUMMARY:Toastmasters Meeting
DESCRIPTION:🗣️ Join Toastmasters at FTCC!\n📅 When: Every Tuesday\, 12:00 PM – 1:00 PM\n📍 Where: CBI 134\n🎤 Want to improve your public speaking and leadership skills? FTCC Toastmasters is open to all faculty\, staff\, and students. \n🤝 This is a welcoming forum where you can build confidence\, develop communication skills\, and connect with others. \n✅ No experience needed — just bring your voice and a willingness to grow!
URL:https://www.faytechcc.edu/event/toastmasters-meeting-2-2/2025-07-01/
LOCATION:CBI 134\, 2733 Fort Bragg Road\, Fayetteville\, NC\, 28303\, United States
ORGANIZER;CN="FTCC Toastmasters Chapter":MAILTO:hicksc@faytechcc.edu
END:VEVENT
BEGIN:VEVENT
DTSTART;VALUE=DATE:20250702
DTEND;VALUE=DATE:20250703
DTSTAMP:20260425T132557
CREATED:20250619T204430Z
LAST-MODIFIED:20250619T204430Z
UID:10003092-1751414400-1751500799@www.faytechcc.edu
SUMMARY:FSU Application Fee Waiver
DESCRIPTION:Submit a completed application to FSU between Tuesday\, July 1 and Sunday\, July 6\, 2025\, without a fee!\nPreviously submitted or duplicate applications are not eligible.\nRegister your account and apply through the Bronco Portal to have your application fee waived.\nThe application website will be open 24 hours a day from July 1st to July 6th\, 2025.\nPlease see the QR codes on the flyer below.
URL:https://www.faytechcc.edu/event/fsu-application-fee-waiver/2025-07-02/
LOCATION:NC
ORGANIZER;CN="University Outreach":MAILTO:nelsonl@faytechcc.edu
END:VEVENT
BEGIN:VEVENT
DTSTART;TZID=America/New_York:20250702T110000
DTEND;TZID=America/New_York:20250702T130000
DTSTAMP:20260425T132557
CREATED:20250603T131750Z
LAST-MODIFIED:20250603T132206Z
UID:10003062-1751454000-1751461200@www.faytechcc.edu
SUMMARY:Career Coaching Pop Up Event
DESCRIPTION:Click on the flyer to view PDF version.
URL:https://www.faytechcc.edu/event/career-coaching-pop-up-event-2/
LOCATION:Tony Rand Student Center Lobby\, 2220 Hull Rd.\, Fayetteville\, NC\, 28303\, United States
CATEGORIES:Career Development Center
END:VEVENT
BEGIN:VEVENT
DTSTART;VALUE=DATE:20250703
DTEND;VALUE=DATE:20250704
DTSTAMP:20260425T132557
CREATED:20250619T204430Z
LAST-MODIFIED:20250619T204430Z
UID:10003093-1751500800-1751587199@www.faytechcc.edu
SUMMARY:FSU Application Fee Waiver
DESCRIPTION:Submit a completed application to FSU between Tuesday\, July 1 and Sunday\, July 6\, 2025\, without a fee!\nPreviously submitted or duplicate applications are not eligible.\nRegister your account and apply through the Bronco Portal to have your application fee waived.\nThe application website will be open 24 hours a day from July 1st to July 6th\, 2025.\nPlease see the QR codes on the flyer below.
URL:https://www.faytechcc.edu/event/fsu-application-fee-waiver/2025-07-03/
LOCATION:NC
ORGANIZER;CN="University Outreach":MAILTO:nelsonl@faytechcc.edu
END:VEVENT
BEGIN:VEVENT
DTSTART;VALUE=DATE:20250704
DTEND;VALUE=DATE:20250705
DTSTAMP:20260425T132557
CREATED:20250619T204430Z
LAST-MODIFIED:20250619T204430Z
UID:10003094-1751587200-1751673599@www.faytechcc.edu
SUMMARY:FSU Application Fee Waiver
DESCRIPTION:Submit a completed application to FSU between Tuesday\, July 1 and Sunday\, July 6\, 2025\, without a fee!\nPreviously submitted or duplicate applications are not eligible.\nRegister your account and apply through the Bronco Portal to have your application fee waived.\nThe application website will be open 24 hours a day from July 1st to July 6th\, 2025.\nPlease see the QR codes on the flyer below.
URL:https://www.faytechcc.edu/event/fsu-application-fee-waiver/2025-07-04/
LOCATION:NC
ORGANIZER;CN="University Outreach":MAILTO:nelsonl@faytechcc.edu
END:VEVENT
BEGIN:VEVENT
DTSTART;VALUE=DATE:20250705
DTEND;VALUE=DATE:20250706
DTSTAMP:20260425T132557
CREATED:20250619T204430Z
LAST-MODIFIED:20250619T204430Z
UID:10003095-1751673600-1751759999@www.faytechcc.edu
SUMMARY:FSU Application Fee Waiver
DESCRIPTION:Submit a completed application to FSU between Tuesday\, July 1 and Sunday\, July 6\, 2025\, without a fee!\nPreviously submitted or duplicate applications are not eligible.\nRegister your account and apply through the Bronco Portal to have your application fee waived.\nThe application website will be open 24 hours a day from July 1st to July 6th\, 2025.\nPlease see the QR codes on the flyer below.
URL:https://www.faytechcc.edu/event/fsu-application-fee-waiver/2025-07-05/
LOCATION:NC
ORGANIZER;CN="University Outreach":MAILTO:nelsonl@faytechcc.edu
END:VEVENT
END:VCALENDAR