BEGIN:VCALENDAR
VERSION:2.0
PRODID:-//Fayetteville Technical Community College - ECPv6.15.9//NONSGML v1.0//EN
CALSCALE:GREGORIAN
METHOD:PUBLISH
X-ORIGINAL-URL:https://www.faytechcc.edu
X-WR-CALDESC:Events for Fayetteville Technical Community College
REFRESH-INTERVAL;VALUE=DURATION:PT1H
X-Robots-Tag:noindex
X-PUBLISHED-TTL:PT1H
BEGIN:VTIMEZONE
TZID:America/New_York
BEGIN:DAYLIGHT
TZOFFSETFROM:-0500
TZOFFSETTO:-0400
TZNAME:EDT
DTSTART:20250309T070000
END:DAYLIGHT
BEGIN:STANDARD
TZOFFSETFROM:-0400
TZOFFSETTO:-0500
TZNAME:EST
DTSTART:20251102T060000
END:STANDARD
BEGIN:DAYLIGHT
TZOFFSETFROM:-0500
TZOFFSETTO:-0400
TZNAME:EDT
DTSTART:20260308T070000
END:DAYLIGHT
BEGIN:STANDARD
TZOFFSETFROM:-0400
TZOFFSETTO:-0500
TZNAME:EST
DTSTART:20261101T060000
END:STANDARD
BEGIN:DAYLIGHT
TZOFFSETFROM:-0500
TZOFFSETTO:-0400
TZNAME:EDT
DTSTART:20270314T070000
END:DAYLIGHT
BEGIN:STANDARD
TZOFFSETFROM:-0400
TZOFFSETTO:-0500
TZNAME:EST
DTSTART:20271107T060000
END:STANDARD
END:VTIMEZONE
BEGIN:VEVENT
DTSTART;TZID=America/New_York:20260430T160000
DTEND;TZID=America/New_York:20260430T180000
DTSTAMP:20260421T081630
CREATED:20260303T144321Z
LAST-MODIFIED:20260303T144321Z
UID:10006687-1777564800-1777572000@www.faytechcc.edu
SUMMARY:FTCC Artworks: 2026 Juried Art Exhibition - Artists' Reception
DESCRIPTION:
URL:https://www.faytechcc.edu/event/ftcc-artworks-2026-juried-art-exhibition-artists-reception/
LOCATION:Paul H. Thompson Library\, 2221 Hull Rd\, Fayetteville\, NC\, 28303\, United States
ORGANIZER;CN="The Art Gallery @ The Library":MAILTO:morrillk@faytechcc.edu
END:VEVENT
BEGIN:VEVENT
DTSTART;TZID=America/New_York:20260430T170000
DTEND;TZID=America/New_York:20260430T180000
DTSTAMP:20260421T081630
CREATED:20260303T144410Z
LAST-MODIFIED:20260303T144410Z
UID:10007105-1777568400-1777572000@www.faytechcc.edu
SUMMARY:FTCC Artworks: 2026 Juried Art Exhibition - Award Ceremony
DESCRIPTION:
URL:https://www.faytechcc.edu/event/ftcc-artworks-2026-juried-art-exhibition-award-ceremony/
LOCATION:Paul H. Thompson Library\, 2221 Hull Rd\, Fayetteville\, NC\, 28303\, United States
ORGANIZER;CN="The Art Gallery @ The Library":MAILTO:morrillk@faytechcc.edu
END:VEVENT
BEGIN:VEVENT
DTSTART;TZID=America/New_York:20260508T090000
DTEND;TZID=America/New_York:20260508T160000
DTSTAMP:20260421T081630
CREATED:20260303T144547Z
LAST-MODIFIED:20260303T144547Z
UID:10007106-1778230800-1778256000@www.faytechcc.edu
SUMMARY:FTCC Artworks: 2026 Juried Art Exhibition - Artwork Pickup
DESCRIPTION:
URL:https://www.faytechcc.edu/event/ftcc-artworks-2026-juried-art-exhibition-artwork-pickup/
LOCATION:Paul H. Thompson Library\, 2221 Hull Rd\, Fayetteville\, NC\, 28303\, United States
ORGANIZER;CN="The Art Gallery @ The Library":MAILTO:morrillk@faytechcc.edu
END:VEVENT
END:VCALENDAR