BEGIN:VCALENDAR
VERSION:2.0
PRODID:-//Fayetteville Technical Community College - ECPv6.15.9//NONSGML v1.0//EN
CALSCALE:GREGORIAN
METHOD:PUBLISH
X-WR-CALNAME:Fayetteville Technical Community College
X-ORIGINAL-URL:https://www.faytechcc.edu
X-WR-CALDESC:Events for Fayetteville Technical Community College
REFRESH-INTERVAL;VALUE=DURATION:PT1H
X-Robots-Tag:noindex
X-PUBLISHED-TTL:PT1H
BEGIN:VTIMEZONE
TZID:America/New_York
BEGIN:DAYLIGHT
TZOFFSETFROM:-0500
TZOFFSETTO:-0400
TZNAME:EDT
DTSTART:20250309T070000
END:DAYLIGHT
BEGIN:STANDARD
TZOFFSETFROM:-0400
TZOFFSETTO:-0500
TZNAME:EST
DTSTART:20251102T060000
END:STANDARD
BEGIN:DAYLIGHT
TZOFFSETFROM:-0500
TZOFFSETTO:-0400
TZNAME:EDT
DTSTART:20260308T070000
END:DAYLIGHT
BEGIN:STANDARD
TZOFFSETFROM:-0400
TZOFFSETTO:-0500
TZNAME:EST
DTSTART:20261101T060000
END:STANDARD
BEGIN:DAYLIGHT
TZOFFSETFROM:-0500
TZOFFSETTO:-0400
TZNAME:EDT
DTSTART:20270314T070000
END:DAYLIGHT
BEGIN:STANDARD
TZOFFSETFROM:-0400
TZOFFSETTO:-0500
TZNAME:EST
DTSTART:20271107T060000
END:STANDARD
END:VTIMEZONE
BEGIN:VEVENT
DTSTART;TZID=America/New_York:20260114T120000
DTEND;TZID=America/New_York:20260114T140000
DTSTAMP:20260425T090115
CREATED:20251211T171638Z
LAST-MODIFIED:20251218T194756Z
UID:10004482-1768392000-1768399200@www.faytechcc.edu
SUMMARY:Creating Your Personal Vision Board
DESCRIPTION:Creating Your Personal Vision Board\n📅 Event Date: Event Date: Wednesday\, January 14\, 2026 \n⏰ Event Time: Event Time: 12 PM – 2 PM \n📍 Location: Location: Tony Rand Student Center – Multipurpose Room \nLearn the importance of setting vision goals and engage in creating your personal vision board. \n🍽️ Free Lunch Provided: FREE Lunch will be provided to all that attend. \nEvent Sponsored by the Y.E.S. Initiative in partnership with the Career Development Center and Student Activities. \n📝 Registration Encouraged: Registration strongly encouraged. \n\n\nRegister by scanning the QR code or by clicking the button below!\n\nRegister Now!
URL:https://www.faytechcc.edu/event/creating-your-personal-vision-board/
LOCATION:Tony Rand Center Multipurpose Room\, 2220 Hull Road\, Fayett\, NC\, 28303\, United States
CATEGORIES:Y.E.S. Initiative
ORGANIZER;CN="Y.E.S. Initiative":MAILTO:mcdonalr@faytechcc.edu
END:VEVENT
END:VCALENDAR