BEGIN:VCALENDAR
VERSION:2.0
PRODID:-//Fayetteville Technical Community College - ECPv6.15.9//NONSGML v1.0//EN
CALSCALE:GREGORIAN
METHOD:PUBLISH
X-ORIGINAL-URL:https://www.faytechcc.edu
X-WR-CALDESC:Events for Fayetteville Technical Community College
REFRESH-INTERVAL;VALUE=DURATION:PT1H
X-Robots-Tag:noindex
X-PUBLISHED-TTL:PT1H
BEGIN:VTIMEZONE
TZID:America/New_York
BEGIN:DAYLIGHT
TZOFFSETFROM:-0500
TZOFFSETTO:-0400
TZNAME:EDT
DTSTART:20250309T070000
END:DAYLIGHT
BEGIN:STANDARD
TZOFFSETFROM:-0400
TZOFFSETTO:-0500
TZNAME:EST
DTSTART:20251102T060000
END:STANDARD
BEGIN:DAYLIGHT
TZOFFSETFROM:-0500
TZOFFSETTO:-0400
TZNAME:EDT
DTSTART:20260308T070000
END:DAYLIGHT
BEGIN:STANDARD
TZOFFSETFROM:-0400
TZOFFSETTO:-0500
TZNAME:EST
DTSTART:20261101T060000
END:STANDARD
BEGIN:DAYLIGHT
TZOFFSETFROM:-0500
TZOFFSETTO:-0400
TZNAME:EDT
DTSTART:20270314T070000
END:DAYLIGHT
BEGIN:STANDARD
TZOFFSETFROM:-0400
TZOFFSETTO:-0500
TZNAME:EST
DTSTART:20271107T060000
END:STANDARD
END:VTIMEZONE
BEGIN:VEVENT
DTSTART;TZID=America/New_York:20260323T083000
DTEND;TZID=America/New_York:20260323T130000
DTSTAMP:20260425T104959
CREATED:20260116T153408Z
LAST-MODIFIED:20260216T160350Z
UID:10004572-1774254600-1774270800@www.faytechcc.edu
SUMMARY:🎓 Student Empowerment Conference
DESCRIPTION:Who:             Y.E.S. Initiative\, Student Activities\, Arts & Humanities Division\, Psychology Club & Innovation & Small Business Center \nWhat:           Student Empowerment Conference – with Guest Speaker Lenora Lassiter (Coach\, Speaker & Author) \nOpen to All FTCC Students!  \nRegistration opens February 17 at 10 a.m. – Scan QR code to register\n  \nWhen:          Monday\, March 23\, 8:30 a.m. to 1 p.m. – see schedule below: \n8:30 a.m. – Registration & Breakfast\n9-9:15 a.m. – Keynote Address\n9:20-11:20 a.m. – Breakout Sessions – Two Options\nOption #1:  9:20-11:20 a.m. – Brushstrokes & Brainwaves\nOption #2:  \n9:20-10:15 a.m. – Personality Assessment or Finance Strategies & \n10:25-11:20 a.m. – Personality Assessment or Finance Strategies\n11:30 a.m.-1 p.m. – Culinary Luncheon – available to first 60 FTCC students who register; students must attend the sessions to attend the luncheon.  \n  \nWhere:        Horace Sisk Gymnasium \nQuestions: Contact Richard McDonald\, yes@faytechcc.edu or (910) 486-3940
URL:https://www.faytechcc.edu/event/%f0%9f%8e%93-student-empowerment-conference/
LOCATION:Horace Sisk Gym\, 2114 Hull Road\, Fayetteville\, NC\, 28303\, United States
CATEGORIES:Student Activities,Y.E.S. Initiative
ORGANIZER;CN="Student Activities":MAILTO:plessh@faytechcc.edu
END:VEVENT
END:VCALENDAR