BEGIN:VCALENDAR
VERSION:2.0
PRODID:-//Fayetteville Technical Community College - ECPv6.15.9//NONSGML v1.0//EN
CALSCALE:GREGORIAN
METHOD:PUBLISH
X-WR-CALNAME:Fayetteville Technical Community College
X-ORIGINAL-URL:https://www.faytechcc.edu
X-WR-CALDESC:Events for Fayetteville Technical Community College
REFRESH-INTERVAL;VALUE=DURATION:PT1H
X-Robots-Tag:noindex
X-PUBLISHED-TTL:PT1H
BEGIN:VTIMEZONE
TZID:America/New_York
BEGIN:DAYLIGHT
TZOFFSETFROM:-0500
TZOFFSETTO:-0400
TZNAME:EDT
DTSTART:20230312T070000
END:DAYLIGHT
BEGIN:STANDARD
TZOFFSETFROM:-0400
TZOFFSETTO:-0500
TZNAME:EST
DTSTART:20231105T060000
END:STANDARD
BEGIN:DAYLIGHT
TZOFFSETFROM:-0500
TZOFFSETTO:-0400
TZNAME:EDT
DTSTART:20240310T070000
END:DAYLIGHT
BEGIN:STANDARD
TZOFFSETFROM:-0400
TZOFFSETTO:-0500
TZNAME:EST
DTSTART:20241103T060000
END:STANDARD
BEGIN:DAYLIGHT
TZOFFSETFROM:-0500
TZOFFSETTO:-0400
TZNAME:EDT
DTSTART:20250309T070000
END:DAYLIGHT
BEGIN:STANDARD
TZOFFSETFROM:-0400
TZOFFSETTO:-0500
TZNAME:EST
DTSTART:20251102T060000
END:STANDARD
BEGIN:DAYLIGHT
TZOFFSETFROM:-0500
TZOFFSETTO:-0400
TZNAME:EDT
DTSTART:20260308T070000
END:DAYLIGHT
BEGIN:STANDARD
TZOFFSETFROM:-0400
TZOFFSETTO:-0500
TZNAME:EST
DTSTART:20261101T060000
END:STANDARD
BEGIN:DAYLIGHT
TZOFFSETFROM:-0500
TZOFFSETTO:-0400
TZNAME:EDT
DTSTART:20270314T070000
END:DAYLIGHT
BEGIN:STANDARD
TZOFFSETFROM:-0400
TZOFFSETTO:-0500
TZNAME:EST
DTSTART:20271107T060000
END:STANDARD
END:VTIMEZONE
BEGIN:VEVENT
DTSTART;TZID=America/New_York:20240404T120000
DTEND;TZID=America/New_York:20240404T122000
DTSTAMP:20260421T184913
CREATED:20240201T204817Z
LAST-MODIFIED:20240201T204817Z
UID:10001457-1712232000-1712233200@www.faytechcc.edu
SUMMARY:Mindful Walks
DESCRIPTION:“Take a Walk on the Well Side” – a weekly walk around campus organized by Wellness Care Services. Walks will be each Thursday from noon to 12:20 pm\, starting at the Student Terrace by the Gazebo.
URL:https://www.faytechcc.edu/event/mindful-walks/2024-04-04/
LOCATION:FTCC Gazebo
CATEGORIES:Wellness Care Services
ORGANIZER;CN="FTCC Wellness Care Services":MAILTO:bells@faytechcc.edu
END:VEVENT
BEGIN:VEVENT
DTSTART;TZID=America/New_York:20240411T120000
DTEND;TZID=America/New_York:20240411T122000
DTSTAMP:20260421T184913
CREATED:20240201T204817Z
LAST-MODIFIED:20240201T204817Z
UID:10001458-1712836800-1712838000@www.faytechcc.edu
SUMMARY:Mindful Walks
DESCRIPTION:“Take a Walk on the Well Side” – a weekly walk around campus organized by Wellness Care Services. Walks will be each Thursday from noon to 12:20 pm\, starting at the Student Terrace by the Gazebo.
URL:https://www.faytechcc.edu/event/mindful-walks/2024-04-11/
LOCATION:FTCC Gazebo
CATEGORIES:Wellness Care Services
ORGANIZER;CN="FTCC Wellness Care Services":MAILTO:bells@faytechcc.edu
END:VEVENT
BEGIN:VEVENT
DTSTART;TZID=America/New_York:20240418T120000
DTEND;TZID=America/New_York:20240418T122000
DTSTAMP:20260421T184913
CREATED:20240201T204817Z
LAST-MODIFIED:20240201T204817Z
UID:10001459-1713441600-1713442800@www.faytechcc.edu
SUMMARY:Mindful Walks
DESCRIPTION:“Take a Walk on the Well Side” – a weekly walk around campus organized by Wellness Care Services. Walks will be each Thursday from noon to 12:20 pm\, starting at the Student Terrace by the Gazebo.
URL:https://www.faytechcc.edu/event/mindful-walks/2024-04-18/
LOCATION:FTCC Gazebo
CATEGORIES:Wellness Care Services
ORGANIZER;CN="FTCC Wellness Care Services":MAILTO:bells@faytechcc.edu
END:VEVENT
BEGIN:VEVENT
DTSTART;TZID=America/New_York:20240425T120000
DTEND;TZID=America/New_York:20240425T122000
DTSTAMP:20260421T184913
CREATED:20240201T204817Z
LAST-MODIFIED:20240201T204817Z
UID:10001460-1714046400-1714047600@www.faytechcc.edu
SUMMARY:Mindful Walks
DESCRIPTION:“Take a Walk on the Well Side” – a weekly walk around campus organized by Wellness Care Services. Walks will be each Thursday from noon to 12:20 pm\, starting at the Student Terrace by the Gazebo.
URL:https://www.faytechcc.edu/event/mindful-walks/2024-04-25/
LOCATION:FTCC Gazebo
CATEGORIES:Wellness Care Services
ORGANIZER;CN="FTCC Wellness Care Services":MAILTO:bells@faytechcc.edu
END:VEVENT
BEGIN:VEVENT
DTSTART;TZID=America/New_York:20240502T120000
DTEND;TZID=America/New_York:20240502T122000
DTSTAMP:20260421T184913
CREATED:20240201T204817Z
LAST-MODIFIED:20240201T204817Z
UID:10001461-1714651200-1714652400@www.faytechcc.edu
SUMMARY:Mindful Walks
DESCRIPTION:“Take a Walk on the Well Side” – a weekly walk around campus organized by Wellness Care Services. Walks will be each Thursday from noon to 12:20 pm\, starting at the Student Terrace by the Gazebo.
URL:https://www.faytechcc.edu/event/mindful-walks/2024-05-02/
LOCATION:FTCC Gazebo
CATEGORIES:Wellness Care Services
ORGANIZER;CN="FTCC Wellness Care Services":MAILTO:bells@faytechcc.edu
END:VEVENT
BEGIN:VEVENT
DTSTART;TZID=America/New_York:20240509T120000
DTEND;TZID=America/New_York:20240509T122000
DTSTAMP:20260421T184913
CREATED:20240201T204817Z
LAST-MODIFIED:20240201T204817Z
UID:10001462-1715256000-1715257200@www.faytechcc.edu
SUMMARY:Mindful Walks
DESCRIPTION:“Take a Walk on the Well Side” – a weekly walk around campus organized by Wellness Care Services. Walks will be each Thursday from noon to 12:20 pm\, starting at the Student Terrace by the Gazebo.
URL:https://www.faytechcc.edu/event/mindful-walks/2024-05-09/
LOCATION:FTCC Gazebo
CATEGORIES:Wellness Care Services
ORGANIZER;CN="FTCC Wellness Care Services":MAILTO:bells@faytechcc.edu
END:VEVENT
BEGIN:VEVENT
DTSTART;TZID=America/New_York:20240516T120000
DTEND;TZID=America/New_York:20240516T122000
DTSTAMP:20260421T184913
CREATED:20240201T204817Z
LAST-MODIFIED:20240201T204817Z
UID:10001463-1715860800-1715862000@www.faytechcc.edu
SUMMARY:Mindful Walks
DESCRIPTION:“Take a Walk on the Well Side” – a weekly walk around campus organized by Wellness Care Services. Walks will be each Thursday from noon to 12:20 pm\, starting at the Student Terrace by the Gazebo.
URL:https://www.faytechcc.edu/event/mindful-walks/2024-05-16/
LOCATION:FTCC Gazebo
CATEGORIES:Wellness Care Services
ORGANIZER;CN="FTCC Wellness Care Services":MAILTO:bells@faytechcc.edu
END:VEVENT
BEGIN:VEVENT
DTSTART;TZID=America/New_York:20240523T120000
DTEND;TZID=America/New_York:20240523T122000
DTSTAMP:20260421T184913
CREATED:20240201T204817Z
LAST-MODIFIED:20240201T204817Z
UID:10001464-1716465600-1716466800@www.faytechcc.edu
SUMMARY:Mindful Walks
DESCRIPTION:“Take a Walk on the Well Side” – a weekly walk around campus organized by Wellness Care Services. Walks will be each Thursday from noon to 12:20 pm\, starting at the Student Terrace by the Gazebo.
URL:https://www.faytechcc.edu/event/mindful-walks/2024-05-23/
LOCATION:FTCC Gazebo
CATEGORIES:Wellness Care Services
ORGANIZER;CN="FTCC Wellness Care Services":MAILTO:bells@faytechcc.edu
END:VEVENT
BEGIN:VEVENT
DTSTART;TZID=America/New_York:20240530T120000
DTEND;TZID=America/New_York:20240530T122000
DTSTAMP:20260421T184913
CREATED:20240201T204817Z
LAST-MODIFIED:20240201T204817Z
UID:10001465-1717070400-1717071600@www.faytechcc.edu
SUMMARY:Mindful Walks
DESCRIPTION:“Take a Walk on the Well Side” – a weekly walk around campus organized by Wellness Care Services. Walks will be each Thursday from noon to 12:20 pm\, starting at the Student Terrace by the Gazebo.
URL:https://www.faytechcc.edu/event/mindful-walks/2024-05-30/
LOCATION:FTCC Gazebo
CATEGORIES:Wellness Care Services
ORGANIZER;CN="FTCC Wellness Care Services":MAILTO:bells@faytechcc.edu
END:VEVENT
BEGIN:VEVENT
DTSTART;TZID=America/New_York:20260318T110000
DTEND;TZID=America/New_York:20260318T123000
DTSTAMP:20260421T184913
CREATED:20260219T185300Z
LAST-MODIFIED:20260219T185300Z
UID:10005416-1773831600-1773837000@www.faytechcc.edu
SUMMARY:Relax\, Focus\, & Retain Workshop
DESCRIPTION:Presented by the Student Learning Center in partnership with the Wellness Center and Parents for Higher Education. \nJoin us for a powerful workshop designed to help you navigate the semester with confidence and clarity. \nDiscover how to stay calm\, stay focused\, and stay on track throughout the semester. This session\, you will learn: \n\nEffective relaxation techniques\nPractical study strategies for class\, at work\, and at home\nValuable campus resources\n\nSnacks and fun activities will be provided. Registration is required as seating is limited. Please scan the QR code to register. \n \n📅 Date: March 18\, 2026\n⏰ Time: 11:00 AM – 12:30 PM\n📍 Location: Paul H. Thompson Library\, Room 117 \n 
URL:https://www.faytechcc.edu/event/relax-focus-retain-workshop-2/
LOCATION:Paul H. Thompson Library\, Room 117\, 2221 Hull Road\, Fayetteville\, NC\, 28303\, United States
CATEGORIES:Student Learning Center,Wellness Care Services
ORGANIZER;CN="FTCC Student Learning Center":MAILTO:harrisbr@faytechcc.edu
END:VEVENT
END:VCALENDAR