BEGIN:VCALENDAR
VERSION:2.0
PRODID:-//Fayetteville Technical Community College - ECPv6.15.9//NONSGML v1.0//EN
CALSCALE:GREGORIAN
METHOD:PUBLISH
X-ORIGINAL-URL:https://www.faytechcc.edu
X-WR-CALDESC:Events for Fayetteville Technical Community College
REFRESH-INTERVAL;VALUE=DURATION:PT1H
X-Robots-Tag:noindex
X-PUBLISHED-TTL:PT1H
BEGIN:VTIMEZONE
TZID:America/New_York
BEGIN:DAYLIGHT
TZOFFSETFROM:-0500
TZOFFSETTO:-0400
TZNAME:EDT
DTSTART:20230312T070000
END:DAYLIGHT
BEGIN:STANDARD
TZOFFSETFROM:-0400
TZOFFSETTO:-0500
TZNAME:EST
DTSTART:20231105T060000
END:STANDARD
BEGIN:DAYLIGHT
TZOFFSETFROM:-0500
TZOFFSETTO:-0400
TZNAME:EDT
DTSTART:20240310T070000
END:DAYLIGHT
BEGIN:STANDARD
TZOFFSETFROM:-0400
TZOFFSETTO:-0500
TZNAME:EST
DTSTART:20241103T060000
END:STANDARD
BEGIN:DAYLIGHT
TZOFFSETFROM:-0500
TZOFFSETTO:-0400
TZNAME:EDT
DTSTART:20250309T070000
END:DAYLIGHT
BEGIN:STANDARD
TZOFFSETFROM:-0400
TZOFFSETTO:-0500
TZNAME:EST
DTSTART:20251102T060000
END:STANDARD
END:VTIMEZONE
BEGIN:VEVENT
DTSTART;TZID=America/New_York:20240604T100000
DTEND;TZID=America/New_York:20240604T140000
DTSTAMP:20260423T075955
CREATED:20230912T123108Z
LAST-MODIFIED:20230912T123108Z
UID:10001240-1717495200-1717509600@www.faytechcc.edu
SUMMARY:Blood Drive-Spring Lake campus
DESCRIPTION:The Cape Fear Valley Mobile Blood Bus will be parked at the Spring Lake campus. \nStudents 17 or over are encouraged to donate. \nEat a healthy meal the night before!
URL:https://www.faytechcc.edu/event/blood-drive-spring-lake-campus/2024-06-04/
LOCATION:Spring Lake Campus\, 171 Laketree Blvd\, Spring Lake\, NC\, 28390\, United States
CATEGORIES:Student Activities,Students
END:VEVENT
END:VCALENDAR