BEGIN:VCALENDAR
VERSION:2.0
PRODID:-//Fayetteville Technical Community College - ECPv6.15.9//NONSGML v1.0//EN
CALSCALE:GREGORIAN
METHOD:PUBLISH
X-ORIGINAL-URL:https://www.faytechcc.edu
X-WR-CALDESC:Events for Fayetteville Technical Community College
REFRESH-INTERVAL;VALUE=DURATION:PT1H
X-Robots-Tag:noindex
X-PUBLISHED-TTL:PT1H
BEGIN:VTIMEZONE
TZID:America/New_York
BEGIN:DAYLIGHT
TZOFFSETFROM:-0500
TZOFFSETTO:-0400
TZNAME:EDT
DTSTART:20230312T070000
END:DAYLIGHT
BEGIN:STANDARD
TZOFFSETFROM:-0400
TZOFFSETTO:-0500
TZNAME:EST
DTSTART:20231105T060000
END:STANDARD
BEGIN:DAYLIGHT
TZOFFSETFROM:-0500
TZOFFSETTO:-0400
TZNAME:EDT
DTSTART:20240310T070000
END:DAYLIGHT
BEGIN:STANDARD
TZOFFSETFROM:-0400
TZOFFSETTO:-0500
TZNAME:EST
DTSTART:20241103T060000
END:STANDARD
BEGIN:DAYLIGHT
TZOFFSETFROM:-0500
TZOFFSETTO:-0400
TZNAME:EDT
DTSTART:20250309T070000
END:DAYLIGHT
BEGIN:STANDARD
TZOFFSETFROM:-0400
TZOFFSETTO:-0500
TZNAME:EST
DTSTART:20251102T060000
END:STANDARD
END:VTIMEZONE
BEGIN:VEVENT
DTSTART;TZID=America/New_York:20240924T110000
DTEND;TZID=America/New_York:20240924T140000
DTSTAMP:20260425T100021
CREATED:20240920T123622Z
LAST-MODIFIED:20240920T125851Z
UID:10002037-1727175600-1727186400@www.faytechcc.edu
SUMMARY:Voter Registration Drive
DESCRIPTION:Register to vote\, play trivia games and enjoy some snacks at the Voter Registration Drive on Tuesday\, Sept. 24\, in the lobby of the Tony Rand Student Center.
URL:https://www.faytechcc.edu/event/voter-registration-drive/
LOCATION:Tony Rand Student Center\, 2220 Hull Rd 28303\, Fayetteville\, NC\, 28303\, United States
CATEGORIES:Student Activities,Students
END:VEVENT
END:VCALENDAR