BEGIN:VCALENDAR
VERSION:2.0
PRODID:-//Fayetteville Technical Community College - ECPv6.15.9//NONSGML v1.0//EN
CALSCALE:GREGORIAN
METHOD:PUBLISH
X-ORIGINAL-URL:https://www.faytechcc.edu
X-WR-CALDESC:Events for Fayetteville Technical Community College
REFRESH-INTERVAL;VALUE=DURATION:PT1H
X-Robots-Tag:noindex
X-PUBLISHED-TTL:PT1H
BEGIN:VTIMEZONE
TZID:America/New_York
BEGIN:DAYLIGHT
TZOFFSETFROM:-0500
TZOFFSETTO:-0400
TZNAME:EDT
DTSTART:20250309T070000
END:DAYLIGHT
BEGIN:STANDARD
TZOFFSETFROM:-0400
TZOFFSETTO:-0500
TZNAME:EST
DTSTART:20251102T060000
END:STANDARD
BEGIN:DAYLIGHT
TZOFFSETFROM:-0500
TZOFFSETTO:-0400
TZNAME:EDT
DTSTART:20260308T070000
END:DAYLIGHT
BEGIN:STANDARD
TZOFFSETFROM:-0400
TZOFFSETTO:-0500
TZNAME:EST
DTSTART:20261101T060000
END:STANDARD
BEGIN:DAYLIGHT
TZOFFSETFROM:-0500
TZOFFSETTO:-0400
TZNAME:EDT
DTSTART:20270314T070000
END:DAYLIGHT
BEGIN:STANDARD
TZOFFSETFROM:-0400
TZOFFSETTO:-0500
TZNAME:EST
DTSTART:20271107T060000
END:STANDARD
END:VTIMEZONE
BEGIN:VEVENT
DTSTART;TZID=America/New_York:20260427T180000
DTEND;TZID=America/New_York:20260427T200000
DTSTAMP:20260421T213129
CREATED:20260415T195622Z
LAST-MODIFIED:20260415T195622Z
UID:10007176-1777312800-1777320000@www.faytechcc.edu
SUMMARY:Notary Chat with Secretary Elaine Marshall
DESCRIPTION:Secretary Marshall and Director Ozie Stallworth will host a free “Notary Chat” session open to notaries statewide\, both in person and virtually. As part of a 2026 statewide tour of community colleges and other venues\, this interactive session gives notaries the opportunity to engage directly with state officials\, ask questions\, and receive timely updates on notary law and practices. \nThis session is free and open to all North Carolina notaries. \n📅 Date: April 27\, 2026\n⏰ Time: 6:00 PM – 8:00 PM\n📍 Location: Tony Rand Student Center
URL:https://www.faytechcc.edu/event/notary-chat-with-secretary-elaine-marshall/
LOCATION:Tony Rand Student Center Lobby\, 2220 Hull Rd.\, Fayetteville\, NC\, 28303\, United States
CATEGORIES:Guest Speaker,Public Presentation
END:VEVENT
END:VCALENDAR