BEGIN:VCALENDAR
VERSION:2.0
PRODID:-//Fayetteville Technical Community College - ECPv6.15.9//NONSGML v1.0//EN
CALSCALE:GREGORIAN
METHOD:PUBLISH
X-ORIGINAL-URL:https://www.faytechcc.edu
X-WR-CALDESC:Events for Fayetteville Technical Community College
REFRESH-INTERVAL;VALUE=DURATION:PT1H
X-Robots-Tag:noindex
X-PUBLISHED-TTL:PT1H
BEGIN:VTIMEZONE
TZID:America/New_York
BEGIN:DAYLIGHT
TZOFFSETFROM:-0500
TZOFFSETTO:-0400
TZNAME:EDT
DTSTART:20240310T070000
END:DAYLIGHT
BEGIN:STANDARD
TZOFFSETFROM:-0400
TZOFFSETTO:-0500
TZNAME:EST
DTSTART:20241103T060000
END:STANDARD
BEGIN:DAYLIGHT
TZOFFSETFROM:-0500
TZOFFSETTO:-0400
TZNAME:EDT
DTSTART:20250309T070000
END:DAYLIGHT
BEGIN:STANDARD
TZOFFSETFROM:-0400
TZOFFSETTO:-0500
TZNAME:EST
DTSTART:20251102T060000
END:STANDARD
BEGIN:DAYLIGHT
TZOFFSETFROM:-0500
TZOFFSETTO:-0400
TZNAME:EDT
DTSTART:20260308T070000
END:DAYLIGHT
BEGIN:STANDARD
TZOFFSETFROM:-0400
TZOFFSETTO:-0500
TZNAME:EST
DTSTART:20261101T060000
END:STANDARD
END:VTIMEZONE
BEGIN:VEVENT
DTSTART;TZID=America/New_York:20251204T130000
DTEND;TZID=America/New_York:20251204T140000
DTSTAMP:20260422T181809
CREATED:20250814T112857Z
LAST-MODIFIED:20251003T184702Z
UID:10003541-1764853200-1764856800@www.faytechcc.edu
SUMMARY:Digital Media Game Development Club Meeting
DESCRIPTION:Club Meetings\n\n\nDate\nLocation\nTime\n\n\n\n\nAugust 28\nATC 231\n1 PM\n\n\nSeptember 11\nATC 231\n1 PM\n\n\nSeptember 25\nATC 231\n1 PM\n\n\nOctober 9\nATC 231\n1 PM\n\n\nOctober 23\nATC 231\n1 PM\n\n\nNovember 6\nATC 231\n1 PM\n\n\nNovember 20\nATC 231\n1 PM\n\n\nDecember 4\nATC 231\n1 PM\n\n\n\n  \n \n\nOther Events\n\n\nDate\nEvent\n\n\n\n\nOctober 4\nGame Con Raleigh\n\n\nOctober 18\nOak City Game Con – Wake Tech Community College\n\n\nNovember 15\nHoliday Bazaar
URL:https://www.faytechcc.edu/event/digital-media-game-development-club-meeting-8/
CATEGORIES:Gaming and Interactive Digital Media Club
END:VEVENT
END:VCALENDAR