BEGIN:VCALENDAR
VERSION:2.0
PRODID:-//Fayetteville Technical Community College - ECPv6.15.9//NONSGML v1.0//EN
CALSCALE:GREGORIAN
METHOD:PUBLISH
X-ORIGINAL-URL:https://www.faytechcc.edu
X-WR-CALDESC:Events for Fayetteville Technical Community College
REFRESH-INTERVAL;VALUE=DURATION:PT1H
X-Robots-Tag:noindex
X-PUBLISHED-TTL:PT1H
BEGIN:VTIMEZONE
TZID:America/New_York
BEGIN:DAYLIGHT
TZOFFSETFROM:-0500
TZOFFSETTO:-0400
TZNAME:EDT
DTSTART:20240310T070000
END:DAYLIGHT
BEGIN:STANDARD
TZOFFSETFROM:-0400
TZOFFSETTO:-0500
TZNAME:EST
DTSTART:20241103T060000
END:STANDARD
BEGIN:DAYLIGHT
TZOFFSETFROM:-0500
TZOFFSETTO:-0400
TZNAME:EDT
DTSTART:20250309T070000
END:DAYLIGHT
BEGIN:STANDARD
TZOFFSETFROM:-0400
TZOFFSETTO:-0500
TZNAME:EST
DTSTART:20251102T060000
END:STANDARD
BEGIN:DAYLIGHT
TZOFFSETFROM:-0500
TZOFFSETTO:-0400
TZNAME:EDT
DTSTART:20260308T070000
END:DAYLIGHT
BEGIN:STANDARD
TZOFFSETFROM:-0400
TZOFFSETTO:-0500
TZNAME:EST
DTSTART:20261101T060000
END:STANDARD
END:VTIMEZONE
BEGIN:VEVENT
DTSTART;TZID=America/New_York:20250814T080000
DTEND;TZID=America/New_York:20250814T170000
DTSTAMP:20260421T223410
CREATED:20250814T114049Z
LAST-MODIFIED:20250814T114049Z
UID:10003542-1755158400-1755190800@www.faytechcc.edu
SUMMARY:Digital Media Game Development Club Meeting
DESCRIPTION:
URL:https://www.faytechcc.edu/event/digital-media-game-development-club-meeting-9/
CATEGORIES:Gaming and Interactive Digital Media Club
END:VEVENT
BEGIN:VEVENT
DTSTART;TZID=America/New_York:20250508T130000
DTEND;TZID=America/New_York:20250508T150000
DTSTAMP:20260421T223410
CREATED:20250130T194939Z
LAST-MODIFIED:20250130T194939Z
UID:10002818-1746709200-1746716400@www.faytechcc.edu
SUMMARY:Gaming & Digital Media Club Meeting
DESCRIPTION:
URL:https://www.faytechcc.edu/event/gaming-digital-media-club-meeting-9/
LOCATION:Advance Technology Center Rm. 231\, 2300 Hull Road\, Fayetteville\, 28303\, United States
CATEGORIES:Gaming and Interactive Digital Media Club
END:VEVENT
BEGIN:VEVENT
DTSTART;TZID=America/New_York:20250424T130000
DTEND;TZID=America/New_York:20250424T150000
DTSTAMP:20260421T223410
CREATED:20250130T194927Z
LAST-MODIFIED:20250130T194927Z
UID:10002817-1745499600-1745506800@www.faytechcc.edu
SUMMARY:Gaming & Digital Media Club Meeting
DESCRIPTION:
URL:https://www.faytechcc.edu/event/gaming-digital-media-club-meeting-8/
LOCATION:Advance Technology Center Rm. 231\, 2300 Hull Road\, Fayetteville\, 28303\, United States
CATEGORIES:Gaming and Interactive Digital Media Club
END:VEVENT
BEGIN:VEVENT
DTSTART;TZID=America/New_York:20250410T130000
DTEND;TZID=America/New_York:20250410T150000
DTSTAMP:20260421T223410
CREATED:20250130T194909Z
LAST-MODIFIED:20250130T194909Z
UID:10002816-1744290000-1744297200@www.faytechcc.edu
SUMMARY:Gaming & Digital Media Club Meeting
DESCRIPTION:
URL:https://www.faytechcc.edu/event/gaming-digital-media-club-meeting-7/
LOCATION:Advance Technology Center Rm. 231\, 2300 Hull Road\, Fayetteville\, 28303\, United States
CATEGORIES:Gaming and Interactive Digital Media Club
END:VEVENT
BEGIN:VEVENT
DTSTART;TZID=America/New_York:20250327T130000
DTEND;TZID=America/New_York:20250327T150000
DTSTAMP:20260421T223410
CREATED:20250130T194851Z
LAST-MODIFIED:20250130T194851Z
UID:10002815-1743080400-1743087600@www.faytechcc.edu
SUMMARY:Gaming & Digital Media Club Meeting
DESCRIPTION:
URL:https://www.faytechcc.edu/event/gaming-digital-media-club-meeting-6/
LOCATION:Advance Technology Center Rm. 231\, 2300 Hull Road\, Fayetteville\, 28303\, United States
CATEGORIES:Gaming and Interactive Digital Media Club
END:VEVENT
BEGIN:VEVENT
DTSTART;TZID=America/New_York:20250313T130000
DTEND;TZID=America/New_York:20250313T150000
DTSTAMP:20260421T223410
CREATED:20250130T194838Z
LAST-MODIFIED:20250130T194838Z
UID:10002814-1741870800-1741878000@www.faytechcc.edu
SUMMARY:Gaming & Digital Media Club Meeting
DESCRIPTION:
URL:https://www.faytechcc.edu/event/gaming-digital-media-club-meeting-5/
LOCATION:Advance Technology Center Rm. 231\, 2300 Hull Road\, Fayetteville\, 28303\, United States
CATEGORIES:Gaming and Interactive Digital Media Club
END:VEVENT
BEGIN:VEVENT
DTSTART;TZID=America/New_York:20250116T130000
DTEND;TZID=America/New_York:20250116T150000
DTSTAMP:20260421T223410
CREATED:20250130T193439Z
LAST-MODIFIED:20250130T194539Z
UID:10002810-1737032400-1737039600@www.faytechcc.edu
SUMMARY:Gaming & Digital Media Club Meeting
DESCRIPTION:
URL:https://www.faytechcc.edu/event/gaming-digital-media-club-meeting/
LOCATION:Advance Technology Center Rm. 231\, 2300 Hull Road\, Fayetteville\, 28303\, United States
CATEGORIES:Gaming and Interactive Digital Media Club
END:VEVENT
END:VCALENDAR