BEGIN:VCALENDAR
VERSION:2.0
PRODID:-//Fayetteville Technical Community College - ECPv6.15.9//NONSGML v1.0//EN
CALSCALE:GREGORIAN
METHOD:PUBLISH
X-ORIGINAL-URL:https://www.faytechcc.edu
X-WR-CALDESC:Events for Fayetteville Technical Community College
REFRESH-INTERVAL;VALUE=DURATION:PT1H
X-Robots-Tag:noindex
X-PUBLISHED-TTL:PT1H
BEGIN:VTIMEZONE
TZID:America/New_York
BEGIN:DAYLIGHT
TZOFFSETFROM:-0500
TZOFFSETTO:-0400
TZNAME:EDT
DTSTART:20230312T070000
END:DAYLIGHT
BEGIN:STANDARD
TZOFFSETFROM:-0400
TZOFFSETTO:-0500
TZNAME:EST
DTSTART:20231105T060000
END:STANDARD
BEGIN:DAYLIGHT
TZOFFSETFROM:-0500
TZOFFSETTO:-0400
TZNAME:EDT
DTSTART:20240310T070000
END:DAYLIGHT
BEGIN:STANDARD
TZOFFSETFROM:-0400
TZOFFSETTO:-0500
TZNAME:EST
DTSTART:20241103T060000
END:STANDARD
BEGIN:DAYLIGHT
TZOFFSETFROM:-0500
TZOFFSETTO:-0400
TZNAME:EDT
DTSTART:20250309T070000
END:DAYLIGHT
BEGIN:STANDARD
TZOFFSETFROM:-0400
TZOFFSETTO:-0500
TZNAME:EST
DTSTART:20251102T060000
END:STANDARD
END:VTIMEZONE
BEGIN:VEVENT
DTSTART;TZID=America/New_York:20240509T120000
DTEND;TZID=America/New_York:20240509T130000
DTSTAMP:20260423T195403
CREATED:20240119T161515Z
LAST-MODIFIED:20240213T190855Z
UID:10001423-1715256000-1715259600@www.faytechcc.edu
SUMMARY:Creative Writing Club meeting
DESCRIPTION:The Creative Writing Club meets Thursdays at noon during the Spring semester in CUH 339.
URL:https://www.faytechcc.edu/event/creative-writing-club-meeting/2024-05-09/
LOCATION:Cumberland Hall\, 2215 Hull Rd\, Fayetteville\, NC\, 28303\, United States
CATEGORIES:Clubs,Student Activities
ORGANIZER;CN="FTCC Creative Commons Creative Writing Club":MAILTO:wilsonsh@faytechcc.edu
END:VEVENT
BEGIN:VEVENT
DTSTART;TZID=America/New_York:20240507T120000
DTEND;TZID=America/New_York:20240507T130000
DTSTAMP:20260423T195404
CREATED:20240123T180001Z
LAST-MODIFIED:20240213T174110Z
UID:10001560-1715083200-1715086800@www.faytechcc.edu
SUMMARY:Seekers Fellowship club meeting
DESCRIPTION:The Seekers Fellowship club meets from noon to 1 pm on Tuesdays in ATC 116.
URL:https://www.faytechcc.edu/event/seekers-fellowship-club-meeting-2/2024-05-07/
LOCATION:ATC 116\, 2300 Hull Road\, Fayetteville\, NC\, 28303\, United States
CATEGORIES:Clubs,Student Activities
ORGANIZER;CN="FTCC Seekers Fellowship Club":MAILTO:abrahamn@faytechcc.edu
END:VEVENT
BEGIN:VEVENT
DTSTART;TZID=America/New_York:20240502T120000
DTEND;TZID=America/New_York:20240502T130000
DTSTAMP:20260423T195404
CREATED:20240119T161515Z
LAST-MODIFIED:20240213T190855Z
UID:10001422-1714651200-1714654800@www.faytechcc.edu
SUMMARY:Creative Writing Club meeting
DESCRIPTION:The Creative Writing Club meets Thursdays at noon during the Spring semester in CUH 339.
URL:https://www.faytechcc.edu/event/creative-writing-club-meeting/2024-05-02/
LOCATION:Cumberland Hall\, 2215 Hull Rd\, Fayetteville\, NC\, 28303\, United States
CATEGORIES:Clubs,Student Activities
ORGANIZER;CN="FTCC Creative Commons Creative Writing Club":MAILTO:wilsonsh@faytechcc.edu
END:VEVENT
BEGIN:VEVENT
DTSTART;TZID=America/New_York:20240430T120000
DTEND;TZID=America/New_York:20240430T130000
DTSTAMP:20260423T195404
CREATED:20240123T180001Z
LAST-MODIFIED:20240213T174110Z
UID:10001559-1714478400-1714482000@www.faytechcc.edu
SUMMARY:Seekers Fellowship club meeting
DESCRIPTION:The Seekers Fellowship club meets from noon to 1 pm on Tuesdays in ATC 116.
URL:https://www.faytechcc.edu/event/seekers-fellowship-club-meeting-2/2024-04-30/
LOCATION:ATC 116\, 2300 Hull Road\, Fayetteville\, NC\, 28303\, United States
CATEGORIES:Clubs,Student Activities
ORGANIZER;CN="FTCC Seekers Fellowship Club":MAILTO:abrahamn@faytechcc.edu
END:VEVENT
BEGIN:VEVENT
DTSTART;TZID=America/New_York:20240425T120000
DTEND;TZID=America/New_York:20240425T130000
DTSTAMP:20260423T195404
CREATED:20240119T161515Z
LAST-MODIFIED:20240213T190855Z
UID:10001421-1714046400-1714050000@www.faytechcc.edu
SUMMARY:Creative Writing Club meeting
DESCRIPTION:The Creative Writing Club meets Thursdays at noon during the Spring semester in CUH 339.
URL:https://www.faytechcc.edu/event/creative-writing-club-meeting/2024-04-25/
LOCATION:Cumberland Hall\, 2215 Hull Rd\, Fayetteville\, NC\, 28303\, United States
CATEGORIES:Clubs,Student Activities
ORGANIZER;CN="FTCC Creative Commons Creative Writing Club":MAILTO:wilsonsh@faytechcc.edu
END:VEVENT
BEGIN:VEVENT
DTSTART;TZID=America/New_York:20240423T120000
DTEND;TZID=America/New_York:20240423T130000
DTSTAMP:20260423T195404
CREATED:20240123T180001Z
LAST-MODIFIED:20240213T174110Z
UID:10001558-1713873600-1713877200@www.faytechcc.edu
SUMMARY:Seekers Fellowship club meeting
DESCRIPTION:The Seekers Fellowship club meets from noon to 1 pm on Tuesdays in ATC 116.
URL:https://www.faytechcc.edu/event/seekers-fellowship-club-meeting-2/2024-04-23/
LOCATION:ATC 116\, 2300 Hull Road\, Fayetteville\, NC\, 28303\, United States
CATEGORIES:Clubs,Student Activities
ORGANIZER;CN="FTCC Seekers Fellowship Club":MAILTO:abrahamn@faytechcc.edu
END:VEVENT
BEGIN:VEVENT
DTSTART;TZID=America/New_York:20240418T120000
DTEND;TZID=America/New_York:20240418T130000
DTSTAMP:20260423T195404
CREATED:20240119T161515Z
LAST-MODIFIED:20240213T190855Z
UID:10001420-1713441600-1713445200@www.faytechcc.edu
SUMMARY:Creative Writing Club meeting
DESCRIPTION:The Creative Writing Club meets Thursdays at noon during the Spring semester in CUH 339.
URL:https://www.faytechcc.edu/event/creative-writing-club-meeting/2024-04-18/
LOCATION:Cumberland Hall\, 2215 Hull Rd\, Fayetteville\, NC\, 28303\, United States
CATEGORIES:Clubs,Student Activities
ORGANIZER;CN="FTCC Creative Commons Creative Writing Club":MAILTO:wilsonsh@faytechcc.edu
END:VEVENT
BEGIN:VEVENT
DTSTART;TZID=America/New_York:20240416T120000
DTEND;TZID=America/New_York:20240416T130000
DTSTAMP:20260423T195404
CREATED:20240123T180001Z
LAST-MODIFIED:20240213T174110Z
UID:10001557-1713268800-1713272400@www.faytechcc.edu
SUMMARY:Seekers Fellowship club meeting
DESCRIPTION:The Seekers Fellowship club meets from noon to 1 pm on Tuesdays in ATC 116.
URL:https://www.faytechcc.edu/event/seekers-fellowship-club-meeting-2/2024-04-16/
LOCATION:ATC 116\, 2300 Hull Road\, Fayetteville\, NC\, 28303\, United States
CATEGORIES:Clubs,Student Activities
ORGANIZER;CN="FTCC Seekers Fellowship Club":MAILTO:abrahamn@faytechcc.edu
END:VEVENT
BEGIN:VEVENT
DTSTART;TZID=America/New_York:20240412T120000
DTEND;TZID=America/New_York:20240412T120000
DTSTAMP:20260423T195404
CREATED:20240409T155822Z
LAST-MODIFIED:20240409T155823Z
UID:10001685-1712923200-1712923200@www.faytechcc.edu
SUMMARY:Design Club meeting & Comic workshop
DESCRIPTION:The FTCC Design Club will meet at noon on Friday\, April 12\, in Room 112 of the Harry F. Shaw Virtual College Center (VCC). Come and create a dynamic comic book cover in Adobe Illustrator! See poster below for more details.
URL:https://www.faytechcc.edu/event/design-club-meeting-comic-workshop/
LOCATION:Harry F. Shaw Virtual College Center\, 2225 Hull Road\, Fayetteville\, NC\, 28303\, United States
CATEGORIES:Clubs,Students
ORGANIZER;CN="FTCC Design Club":MAILTO:smiths@faytechcc.edu
END:VEVENT
BEGIN:VEVENT
DTSTART;TZID=America/New_York:20240411T120000
DTEND;TZID=America/New_York:20240411T130000
DTSTAMP:20260423T195404
CREATED:20260328T142633Z
LAST-MODIFIED:20260328T142633Z
UID:10007142-1712836800-1712840400@www.faytechcc.edu
SUMMARY:Creative Writing Club meeting
DESCRIPTION:The Creative Writing Club meets Thursdays at noon during the Spring semester in CUH 339.
URL:https://www.faytechcc.edu/event/creative-writing-club-meeting-372/
LOCATION:Cumberland Hall\, 2215 Hull Rd\, Fayetteville\, NC\, 28303\, United States
CATEGORIES:Clubs,Student Activities
ORGANIZER;CN="FTCC Creative Commons Creative Writing Club":MAILTO:wilsonsh@faytechcc.edu
END:VEVENT
BEGIN:VEVENT
DTSTART;TZID=America/New_York:20240411T120000
DTEND;TZID=America/New_York:20240411T130000
DTSTAMP:20260423T195404
CREATED:20250820T142530Z
LAST-MODIFIED:20250820T142530Z
UID:10003606-1712836800-1712840400@www.faytechcc.edu
SUMMARY:Creative Writing Club meeting
DESCRIPTION:The Creative Writing Club meets Thursdays at noon during the Spring semester in CUH 339.
URL:https://www.faytechcc.edu/event/creative-writing-club-meeting-148/
LOCATION:Cumberland Hall\, 2215 Hull Rd\, Fayetteville\, NC\, 28303\, United States
CATEGORIES:Clubs,Student Activities
ORGANIZER;CN="FTCC Creative Commons Creative Writing Club":MAILTO:wilsonsh@faytechcc.edu
END:VEVENT
BEGIN:VEVENT
DTSTART;TZID=America/New_York:20240411T120000
DTEND;TZID=America/New_York:20240411T130000
DTSTAMP:20260423T195404
CREATED:20250726T142033Z
LAST-MODIFIED:20250726T142033Z
UID:10003509-1712836800-1712840400@www.faytechcc.edu
SUMMARY:Creative Writing Club meeting
DESCRIPTION:The Creative Writing Club meets Thursdays at noon during the Spring semester in CUH 339.
URL:https://www.faytechcc.edu/event/creative-writing-club-meeting-123/
LOCATION:Cumberland Hall\, 2215 Hull Rd\, Fayetteville\, NC\, 28303\, United States
CATEGORIES:Clubs,Student Activities
ORGANIZER;CN="FTCC Creative Commons Creative Writing Club":MAILTO:wilsonsh@faytechcc.edu
END:VEVENT
BEGIN:VEVENT
DTSTART;TZID=America/New_York:20240411T120000
DTEND;TZID=America/New_York:20240411T130000
DTSTAMP:20260423T195404
CREATED:20250717T141309Z
LAST-MODIFIED:20250717T141309Z
UID:10003486-1712836800-1712840400@www.faytechcc.edu
SUMMARY:Creative Writing Club meeting
DESCRIPTION:The Creative Writing Club meets Thursdays at noon during the Spring semester in CUH 339.
URL:https://www.faytechcc.edu/event/creative-writing-club-meeting-114/
LOCATION:Cumberland Hall\, 2215 Hull Rd\, Fayetteville\, NC\, 28303\, United States
CATEGORIES:Clubs,Student Activities
ORGANIZER;CN="FTCC Creative Commons Creative Writing Club":MAILTO:wilsonsh@faytechcc.edu
END:VEVENT
BEGIN:VEVENT
DTSTART;TZID=America/New_York:20240411T120000
DTEND;TZID=America/New_York:20240411T130000
DTSTAMP:20260423T195404
CREATED:20240119T161515Z
LAST-MODIFIED:20240213T190855Z
UID:10001419-1712836800-1712840400@www.faytechcc.edu
SUMMARY:Creative Writing Club meeting
DESCRIPTION:The Creative Writing Club meets Thursdays at noon during the Spring semester in CUH 339.
URL:https://www.faytechcc.edu/event/creative-writing-club-meeting/2024-04-11/
LOCATION:Cumberland Hall\, 2215 Hull Rd\, Fayetteville\, NC\, 28303\, United States
CATEGORIES:Clubs,Student Activities
ORGANIZER;CN="FTCC Creative Commons Creative Writing Club":MAILTO:wilsonsh@faytechcc.edu
END:VEVENT
BEGIN:VEVENT
DTSTART;TZID=America/New_York:20240409T120000
DTEND;TZID=America/New_York:20240409T130000
DTSTAMP:20260423T195404
CREATED:20240123T180001Z
LAST-MODIFIED:20240213T174110Z
UID:10001556-1712664000-1712667600@www.faytechcc.edu
SUMMARY:Seekers Fellowship club meeting
DESCRIPTION:The Seekers Fellowship club meets from noon to 1 pm on Tuesdays in ATC 116.
URL:https://www.faytechcc.edu/event/seekers-fellowship-club-meeting-2/2024-04-09/
LOCATION:ATC 116\, 2300 Hull Road\, Fayetteville\, NC\, 28303\, United States
CATEGORIES:Clubs,Student Activities
ORGANIZER;CN="FTCC Seekers Fellowship Club":MAILTO:abrahamn@faytechcc.edu
END:VEVENT
BEGIN:VEVENT
DTSTART;TZID=America/New_York:20240328T120000
DTEND;TZID=America/New_York:20240328T130000
DTSTAMP:20260423T195404
CREATED:20240119T161515Z
LAST-MODIFIED:20240213T190855Z
UID:10001418-1711627200-1711630800@www.faytechcc.edu
SUMMARY:Creative Writing Club meeting
DESCRIPTION:The Creative Writing Club meets Thursdays at noon during the Spring semester in CUH 339.
URL:https://www.faytechcc.edu/event/creative-writing-club-meeting/2024-03-28/
LOCATION:Cumberland Hall\, 2215 Hull Rd\, Fayetteville\, NC\, 28303\, United States
CATEGORIES:Clubs,Student Activities
ORGANIZER;CN="FTCC Creative Commons Creative Writing Club":MAILTO:wilsonsh@faytechcc.edu
END:VEVENT
END:VCALENDAR