BEGIN:VCALENDAR
VERSION:2.0
PRODID:-//Fayetteville Technical Community College - ECPv6.15.9//NONSGML v1.0//EN
CALSCALE:GREGORIAN
METHOD:PUBLISH
X-WR-CALNAME:Fayetteville Technical Community College
X-ORIGINAL-URL:https://www.faytechcc.edu
X-WR-CALDESC:Events for Fayetteville Technical Community College
REFRESH-INTERVAL;VALUE=DURATION:PT1H
X-Robots-Tag:noindex
X-PUBLISHED-TTL:PT1H
BEGIN:VTIMEZONE
TZID:America/New_York
BEGIN:DAYLIGHT
TZOFFSETFROM:-0500
TZOFFSETTO:-0400
TZNAME:EDT
DTSTART:20230312T070000
END:DAYLIGHT
BEGIN:STANDARD
TZOFFSETFROM:-0400
TZOFFSETTO:-0500
TZNAME:EST
DTSTART:20231105T060000
END:STANDARD
BEGIN:DAYLIGHT
TZOFFSETFROM:-0500
TZOFFSETTO:-0400
TZNAME:EDT
DTSTART:20240310T070000
END:DAYLIGHT
BEGIN:STANDARD
TZOFFSETFROM:-0400
TZOFFSETTO:-0500
TZNAME:EST
DTSTART:20241103T060000
END:STANDARD
BEGIN:DAYLIGHT
TZOFFSETFROM:-0500
TZOFFSETTO:-0400
TZNAME:EDT
DTSTART:20250309T070000
END:DAYLIGHT
BEGIN:STANDARD
TZOFFSETFROM:-0400
TZOFFSETTO:-0500
TZNAME:EST
DTSTART:20251102T060000
END:STANDARD
BEGIN:DAYLIGHT
TZOFFSETFROM:-0500
TZOFFSETTO:-0400
TZNAME:EDT
DTSTART:20260308T070000
END:DAYLIGHT
BEGIN:STANDARD
TZOFFSETFROM:-0400
TZOFFSETTO:-0500
TZNAME:EST
DTSTART:20261101T060000
END:STANDARD
BEGIN:DAYLIGHT
TZOFFSETFROM:-0500
TZOFFSETTO:-0400
TZNAME:EDT
DTSTART:20270314T070000
END:DAYLIGHT
BEGIN:STANDARD
TZOFFSETFROM:-0400
TZOFFSETTO:-0500
TZNAME:EST
DTSTART:20271107T060000
END:STANDARD
END:VTIMEZONE
BEGIN:VEVENT
DTSTART;TZID=America/New_York:20240918T120000
DTEND;TZID=America/New_York:20240918T130000
DTSTAMP:20260425T080411
CREATED:20240903T173315Z
LAST-MODIFIED:20240903T173315Z
UID:10001977-1726660800-1726664400@www.faytechcc.edu
SUMMARY:Warrior Wednesday
DESCRIPTION:Warrior Wednesday is a twice-monthly event hosted by FTCC’s Military and Veterans Programs\, featuring presentations by local experts on topics of interest to the veteran community. For today’s topic\, please see the flyer below. Presentations are held from noon to 1pm in Room 222 of the General Classroom Building (GCB).
URL:https://www.faytechcc.edu/event/warrior-wednesday-2/2024-09-18/
LOCATION:General Classroom Building – Room 222\, 2817 Fort Bragg Road\, Fayetteville
CATEGORIES:Community Events
ORGANIZER;CN="FTCC Military/Veterans Programs":MAILTO:vso@faytechcc.edu
END:VEVENT
BEGIN:VEVENT
DTSTART;TZID=America/New_York:20241002T120000
DTEND;TZID=America/New_York:20241002T130000
DTSTAMP:20260425T080411
CREATED:20240903T173315Z
LAST-MODIFIED:20240903T173315Z
UID:10001978-1727870400-1727874000@www.faytechcc.edu
SUMMARY:Warrior Wednesday
DESCRIPTION:Warrior Wednesday is a twice-monthly event hosted by FTCC’s Military and Veterans Programs\, featuring presentations by local experts on topics of interest to the veteran community. For today’s topic\, please see the flyer below. Presentations are held from noon to 1pm in Room 222 of the General Classroom Building (GCB).
URL:https://www.faytechcc.edu/event/warrior-wednesday-2/2024-10-02/
LOCATION:General Classroom Building – Room 222\, 2817 Fort Bragg Road\, Fayetteville
CATEGORIES:Community Events
ORGANIZER;CN="FTCC Military/Veterans Programs":MAILTO:vso@faytechcc.edu
END:VEVENT
BEGIN:VEVENT
DTSTART;TZID=America/New_York:20241023T120000
DTEND;TZID=America/New_York:20241023T130000
DTSTAMP:20260425T080411
CREATED:20240903T173315Z
LAST-MODIFIED:20240903T173315Z
UID:10001979-1729684800-1729688400@www.faytechcc.edu
SUMMARY:Warrior Wednesday
DESCRIPTION:Warrior Wednesday is a twice-monthly event hosted by FTCC’s Military and Veterans Programs\, featuring presentations by local experts on topics of interest to the veteran community. For today’s topic\, please see the flyer below. Presentations are held from noon to 1pm in Room 222 of the General Classroom Building (GCB).
URL:https://www.faytechcc.edu/event/warrior-wednesday-2/2024-10-23/
LOCATION:General Classroom Building – Room 222\, 2817 Fort Bragg Road\, Fayetteville
CATEGORIES:Community Events
ORGANIZER;CN="FTCC Military/Veterans Programs":MAILTO:vso@faytechcc.edu
END:VEVENT
BEGIN:VEVENT
DTSTART;TZID=America/New_York:20241106T120000
DTEND;TZID=America/New_York:20241106T130000
DTSTAMP:20260425T080411
CREATED:20240903T173315Z
LAST-MODIFIED:20240903T173315Z
UID:10001980-1730894400-1730898000@www.faytechcc.edu
SUMMARY:Warrior Wednesday
DESCRIPTION:Warrior Wednesday is a twice-monthly event hosted by FTCC’s Military and Veterans Programs\, featuring presentations by local experts on topics of interest to the veteran community. For today’s topic\, please see the flyer below. Presentations are held from noon to 1pm in Room 222 of the General Classroom Building (GCB).
URL:https://www.faytechcc.edu/event/warrior-wednesday-2/2024-11-06/
LOCATION:General Classroom Building – Room 222\, 2817 Fort Bragg Road\, Fayetteville
CATEGORIES:Community Events
ORGANIZER;CN="FTCC Military/Veterans Programs":MAILTO:vso@faytechcc.edu
END:VEVENT
BEGIN:VEVENT
DTSTART;TZID=America/New_York:20241120T120000
DTEND;TZID=America/New_York:20241120T130000
DTSTAMP:20260425T080411
CREATED:20240903T173315Z
LAST-MODIFIED:20240903T173315Z
UID:10001981-1732104000-1732107600@www.faytechcc.edu
SUMMARY:Warrior Wednesday
DESCRIPTION:Warrior Wednesday is a twice-monthly event hosted by FTCC’s Military and Veterans Programs\, featuring presentations by local experts on topics of interest to the veteran community. For today’s topic\, please see the flyer below. Presentations are held from noon to 1pm in Room 222 of the General Classroom Building (GCB).
URL:https://www.faytechcc.edu/event/warrior-wednesday-2/2024-11-20/
LOCATION:General Classroom Building – Room 222\, 2817 Fort Bragg Road\, Fayetteville
CATEGORIES:Community Events
ORGANIZER;CN="FTCC Military/Veterans Programs":MAILTO:vso@faytechcc.edu
END:VEVENT
BEGIN:VEVENT
DTSTART;TZID=America/New_York:20241204T120000
DTEND;TZID=America/New_York:20241204T130000
DTSTAMP:20260425T080411
CREATED:20240903T173315Z
LAST-MODIFIED:20240903T173315Z
UID:10001982-1733313600-1733317200@www.faytechcc.edu
SUMMARY:Warrior Wednesday
DESCRIPTION:Warrior Wednesday is a twice-monthly event hosted by FTCC’s Military and Veterans Programs\, featuring presentations by local experts on topics of interest to the veteran community. For today’s topic\, please see the flyer below. Presentations are held from noon to 1pm in Room 222 of the General Classroom Building (GCB).
URL:https://www.faytechcc.edu/event/warrior-wednesday-2/2024-12-04/
LOCATION:General Classroom Building – Room 222\, 2817 Fort Bragg Road\, Fayetteville
CATEGORIES:Community Events
ORGANIZER;CN="FTCC Military/Veterans Programs":MAILTO:vso@faytechcc.edu
END:VEVENT
BEGIN:VEVENT
DTSTART;TZID=America/New_York:20260326T160000
DTEND;TZID=America/New_York:20260326T190000
DTSTAMP:20260425T080411
CREATED:20260116T154159Z
LAST-MODIFIED:20260116T154159Z
UID:10004573-1774540800-1774551600@www.faytechcc.edu
SUMMARY:🧩 Softball Autism Awareness Day
DESCRIPTION:📍 Location: J.P. Riddle Stadium\n📅 Date: Thursday\, March 26\, 2026\n⏰ Time: 4:00 PM\n💬 Join us at the stadium for a special game dedicated to raising awareness and support for the autism community.
URL:https://www.faytechcc.edu/event/%f0%9f%a7%a9-softball-autism-awareness-day/
LOCATION:JP Riddle Stadium
CATEGORIES:Community Events,Sports Event,Student Activities
ORGANIZER;CN="Student Activities":MAILTO:plessh@faytechcc.edu
END:VEVENT
BEGIN:VEVENT
DTSTART;TZID=America/New_York:20260418T120000
DTEND;TZID=America/New_York:20260418T160000
DTSTAMP:20260425T080411
CREATED:20260116T160727Z
LAST-MODIFIED:20260116T160727Z
UID:10004578-1776513600-1776528000@www.faytechcc.edu
SUMMARY:⚾Baseball Military Appreciation Day
DESCRIPTION:Join us as we honor our military community during the Trojan baseball game. \n📍 Location: J.P. Riddle Stadium\n📅 Date: Saturday\, April 18\, 2026\n⏰ Time: 12:00 PM – 4:00 PM
URL:https://www.faytechcc.edu/event/%e2%9a%bebaseball-military-appreciation-day/
LOCATION:JP Riddle Stadium
CATEGORIES:Community Events,Sports Event,Student Activities
ORGANIZER;CN="Student Activities":MAILTO:plessh@faytechcc.edu
END:VEVENT
END:VCALENDAR