BEGIN:VCALENDAR
VERSION:2.0
PRODID:-//Fayetteville Technical Community College - ECPv6.15.9//NONSGML v1.0//EN
CALSCALE:GREGORIAN
METHOD:PUBLISH
X-WR-CALNAME:Fayetteville Technical Community College
X-ORIGINAL-URL:https://www.faytechcc.edu
X-WR-CALDESC:Events for Fayetteville Technical Community College
REFRESH-INTERVAL;VALUE=DURATION:PT1H
X-Robots-Tag:noindex
X-PUBLISHED-TTL:PT1H
BEGIN:VTIMEZONE
TZID:America/New_York
BEGIN:DAYLIGHT
TZOFFSETFROM:-0500
TZOFFSETTO:-0400
TZNAME:EDT
DTSTART:20240310T070000
END:DAYLIGHT
BEGIN:STANDARD
TZOFFSETFROM:-0400
TZOFFSETTO:-0500
TZNAME:EST
DTSTART:20241103T060000
END:STANDARD
BEGIN:DAYLIGHT
TZOFFSETFROM:-0500
TZOFFSETTO:-0400
TZNAME:EDT
DTSTART:20250309T070000
END:DAYLIGHT
BEGIN:STANDARD
TZOFFSETFROM:-0400
TZOFFSETTO:-0500
TZNAME:EST
DTSTART:20251102T060000
END:STANDARD
BEGIN:DAYLIGHT
TZOFFSETFROM:-0500
TZOFFSETTO:-0400
TZNAME:EDT
DTSTART:20260308T070000
END:DAYLIGHT
BEGIN:STANDARD
TZOFFSETFROM:-0400
TZOFFSETTO:-0500
TZNAME:EST
DTSTART:20261101T060000
END:STANDARD
END:VTIMEZONE
BEGIN:VEVENT
DTSTART;TZID=America/New_York:20250515T100000
DTEND;TZID=America/New_York:20250515T140000
DTSTAMP:20260421T184811
CREATED:20250506T152417Z
LAST-MODIFIED:20250506T152642Z
UID:10003006-1747303200-1747317600@www.faytechcc.edu
SUMMARY:Military and Spouses Career Fair
DESCRIPTION:Click to view larger image
URL:https://www.faytechcc.edu/event/military-and-spouses-career-fair/
LOCATION:Family Readiness Center Pope AAF\, 236 Interception Rd.\, Fort Bragg\, 28310\, United States
CATEGORIES:Career Development Center
END:VEVENT
BEGIN:VEVENT
DTSTART;TZID=America/New_York:20250516T083000
DTEND;TZID=America/New_York:20250516T160000
DTSTAMP:20260421T184811
CREATED:20250506T153034Z
LAST-MODIFIED:20250506T153034Z
UID:10003007-1747384200-1747411200@www.faytechcc.edu
SUMMARY:Raleigh Water Job Fair
DESCRIPTION:
URL:https://www.faytechcc.edu/event/raleigh-water-job-fair/
LOCATION:Raleigh Water Field Operation\, 3324 lake woodard dr\, Raleigh\, 27604\, United States
CATEGORIES:Career Development Center
END:VEVENT
BEGIN:VEVENT
DTSTART;TZID=America/New_York:20250517T100000
DTEND;TZID=America/New_York:20250517T140000
DTSTAMP:20260421T184811
CREATED:20250506T153128Z
LAST-MODIFIED:20250506T153128Z
UID:10003008-1747476000-1747490400@www.faytechcc.edu
SUMMARY:Raleigh Water Job Fair
DESCRIPTION:
URL:https://www.faytechcc.edu/event/raleigh-water-job-fair-2/
LOCATION:Raleigh Water Field Operation\, 3324 lake woodard dr\, Raleigh\, 27604\, United States
CATEGORIES:Career Development Center
END:VEVENT
BEGIN:VEVENT
DTSTART;TZID=America/New_York:20250517T120000
DTEND;TZID=America/New_York:20250517T130000
DTSTAMP:20260421T184811
CREATED:20250506T163929Z
LAST-MODIFIED:20250506T173051Z
UID:10003012-1747483200-1747486800@www.faytechcc.edu
SUMMARY:Explore Career Opportunities in Raleigh-Virtual Session
DESCRIPTION:Register for the Event!\n \nApply for Jobs Today! 
URL:https://www.faytechcc.edu/event/113575/
CATEGORIES:Career Development Center
END:VEVENT
END:VCALENDAR