BEGIN:VCALENDAR
VERSION:2.0
PRODID:-//Fayetteville Technical Community College - ECPv6.15.9//NONSGML v1.0//EN
CALSCALE:GREGORIAN
METHOD:PUBLISH
X-WR-CALNAME:Fayetteville Technical Community College
X-ORIGINAL-URL:https://www.faytechcc.edu
X-WR-CALDESC:Events for Fayetteville Technical Community College
REFRESH-INTERVAL;VALUE=DURATION:PT1H
X-Robots-Tag:noindex
X-PUBLISHED-TTL:PT1H
BEGIN:VTIMEZONE
TZID:America/New_York
BEGIN:DAYLIGHT
TZOFFSETFROM:-0500
TZOFFSETTO:-0400
TZNAME:EDT
DTSTART:20230312T070000
END:DAYLIGHT
BEGIN:STANDARD
TZOFFSETFROM:-0400
TZOFFSETTO:-0500
TZNAME:EST
DTSTART:20231105T060000
END:STANDARD
BEGIN:DAYLIGHT
TZOFFSETFROM:-0500
TZOFFSETTO:-0400
TZNAME:EDT
DTSTART:20240310T070000
END:DAYLIGHT
BEGIN:STANDARD
TZOFFSETFROM:-0400
TZOFFSETTO:-0500
TZNAME:EST
DTSTART:20241103T060000
END:STANDARD
BEGIN:DAYLIGHT
TZOFFSETFROM:-0500
TZOFFSETTO:-0400
TZNAME:EDT
DTSTART:20250309T070000
END:DAYLIGHT
BEGIN:STANDARD
TZOFFSETFROM:-0400
TZOFFSETTO:-0500
TZNAME:EST
DTSTART:20251102T060000
END:STANDARD
END:VTIMEZONE
BEGIN:VEVENT
DTSTART;TZID=America/New_York:20240924T100000
DTEND;TZID=America/New_York:20240924T130000
DTSTAMP:20260422T055002
CREATED:20240624T135959Z
LAST-MODIFIED:20240919T145704Z
UID:10001785-1727172000-1727182800@www.faytechcc.edu
SUMMARY:Employer Tuesday
DESCRIPTION:
URL:https://www.faytechcc.edu/event/employer-day-2/
CATEGORIES:Career Development Center
END:VEVENT
BEGIN:VEVENT
DTSTART;TZID=America/New_York:20240926T100000
DTEND;TZID=America/New_York:20240926T140000
DTSTAMP:20260422T055002
CREATED:20240923T152229Z
LAST-MODIFIED:20240923T152453Z
UID:10002051-1727344800-1727359200@www.faytechcc.edu
SUMMARY:Skookum Fort Liberty Job Fair
DESCRIPTION:
URL:https://www.faytechcc.edu/event/skookum-fort-liberty-job-fair/
CATEGORIES:Career Development Center
END:VEVENT
BEGIN:VEVENT
DTSTART;TZID=America/New_York:20240927T120000
DTEND;TZID=America/New_York:20240927T120000
DTSTAMP:20260422T055002
CREATED:20240913T131820Z
LAST-MODIFIED:20240919T182649Z
UID:10002025-1727438400-1727438400@www.faytechcc.edu
SUMMARY:Navigating USA Jobs & Introduction to Federal Resume Writing
DESCRIPTION:Click image to view in a new window.
URL:https://www.faytechcc.edu/event/navigating-usa-jobs-introduction-to-federal-resume-writing-3/
CATEGORIES:Career Development Center
END:VEVENT
END:VCALENDAR