BEGIN:VCALENDAR
VERSION:2.0
PRODID:-//Fayetteville Technical Community College - ECPv6.15.9//NONSGML v1.0//EN
CALSCALE:GREGORIAN
METHOD:PUBLISH
X-ORIGINAL-URL:https://www.faytechcc.edu
X-WR-CALDESC:Events for Fayetteville Technical Community College
REFRESH-INTERVAL;VALUE=DURATION:PT1H
X-Robots-Tag:noindex
X-PUBLISHED-TTL:PT1H
BEGIN:VTIMEZONE
TZID:America/New_York
BEGIN:DAYLIGHT
TZOFFSETFROM:-0500
TZOFFSETTO:-0400
TZNAME:EDT
DTSTART:20230312T070000
END:DAYLIGHT
BEGIN:STANDARD
TZOFFSETFROM:-0400
TZOFFSETTO:-0500
TZNAME:EST
DTSTART:20231105T060000
END:STANDARD
BEGIN:DAYLIGHT
TZOFFSETFROM:-0500
TZOFFSETTO:-0400
TZNAME:EDT
DTSTART:20240310T070000
END:DAYLIGHT
BEGIN:STANDARD
TZOFFSETFROM:-0400
TZOFFSETTO:-0500
TZNAME:EST
DTSTART:20241103T060000
END:STANDARD
BEGIN:DAYLIGHT
TZOFFSETFROM:-0500
TZOFFSETTO:-0400
TZNAME:EDT
DTSTART:20250309T070000
END:DAYLIGHT
BEGIN:STANDARD
TZOFFSETFROM:-0400
TZOFFSETTO:-0500
TZNAME:EST
DTSTART:20251102T060000
END:STANDARD
END:VTIMEZONE
BEGIN:VEVENT
DTSTART;TZID=America/New_York:20240826T090000
DTEND;TZID=America/New_York:20240826T130000
DTSTAMP:20260423T051457
CREATED:20240814T170517Z
LAST-MODIFIED:20240814T170517Z
UID:10001833-1724662800-1724677200@www.faytechcc.edu
SUMMARY:Resume Workshop at Ft. Liberty
DESCRIPTION:FTCC’s office at Fort Liberty and the FTCC Career Development Center are hosting a Resume Refresh Pop-Up Workshop from 9am-1pm on Monday\, Aug. 26\, at the Liberty Training & Education Center at 4520 Knox St.\, Bldg. 1-3571\, Wing F\, Fort Liberty. \nRefresh your resume. Learn about proper interview attire and undergo interview prep. And learn about employment resources. The workshop is free.
URL:https://www.faytechcc.edu/event/resume-workshop-at-ft-liberty/
LOCATION:Liberty Training & Education Center\, 4520 Knox St.\, Fort Liberty\, NC\, 28307\, United States
CATEGORIES:All American Veterans Center,Career Development Center
END:VEVENT
BEGIN:VEVENT
DTSTART;TZID=America/New_York:20240827T100000
DTEND;TZID=America/New_York:20240827T130000
DTSTAMP:20260423T051457
CREATED:20240624T135908Z
LAST-MODIFIED:20240822T194523Z
UID:10001784-1724752800-1724763600@www.faytechcc.edu
SUMMARY:Employer Tuesday
DESCRIPTION:It’s Employer Tuesday\, presented by the Career Development Center. Come meet representatives of numerous employers in the lobby of the Tony Rand Student Center between 10am and 1pm on Tuesday\, Aug. 27.
URL:https://www.faytechcc.edu/event/employer-day/
LOCATION:NC
CATEGORIES:Career Development Center
END:VEVENT
END:VCALENDAR