BEGIN:VCALENDAR
VERSION:2.0
PRODID:-//Fayetteville Technical Community College - ECPv6.15.9//NONSGML v1.0//EN
CALSCALE:GREGORIAN
METHOD:PUBLISH
X-ORIGINAL-URL:https://www.faytechcc.edu
X-WR-CALDESC:Events for Fayetteville Technical Community College
REFRESH-INTERVAL;VALUE=DURATION:PT1H
X-Robots-Tag:noindex
X-PUBLISHED-TTL:PT1H
BEGIN:VTIMEZONE
TZID:America/New_York
BEGIN:DAYLIGHT
TZOFFSETFROM:-0500
TZOFFSETTO:-0400
TZNAME:EDT
DTSTART:20240310T070000
END:DAYLIGHT
BEGIN:STANDARD
TZOFFSETFROM:-0400
TZOFFSETTO:-0500
TZNAME:EST
DTSTART:20241103T060000
END:STANDARD
BEGIN:DAYLIGHT
TZOFFSETFROM:-0500
TZOFFSETTO:-0400
TZNAME:EDT
DTSTART:20250309T070000
END:DAYLIGHT
BEGIN:STANDARD
TZOFFSETFROM:-0400
TZOFFSETTO:-0500
TZNAME:EST
DTSTART:20251102T060000
END:STANDARD
BEGIN:DAYLIGHT
TZOFFSETFROM:-0500
TZOFFSETTO:-0400
TZNAME:EDT
DTSTART:20260308T070000
END:DAYLIGHT
BEGIN:STANDARD
TZOFFSETFROM:-0400
TZOFFSETTO:-0500
TZNAME:EST
DTSTART:20261101T060000
END:STANDARD
END:VTIMEZONE
BEGIN:VEVENT
DTSTART;TZID=America/New_York:20250903T090000
DTEND;TZID=America/New_York:20250903T120000
DTSTAMP:20260423T184914
CREATED:20250828T151730Z
LAST-MODIFIED:20250828T160258Z
UID:10003644-1756890000-1756900800@www.faytechcc.edu
SUMMARY:Cape Fear Valley Health Early Childhood Teachers Hiring Event
DESCRIPTION:Click on the image to view PDF version.
URL:https://www.faytechcc.edu/event/cape-fear-valley-health-early-childhood-teachers-hiring-event/2025-09-03/1/
LOCATION:Cape Fear Valley Medical Center\, 1638 Owen Dr\, Fayetteville\, NC\, 28304\, United States
CATEGORIES:Career Development Center
END:VEVENT
BEGIN:VEVENT
DTSTART;TZID=America/New_York:20250903T130000
DTEND;TZID=America/New_York:20250903T140000
DTSTAMP:20260423T184915
CREATED:20250827T171312Z
LAST-MODIFIED:20250827T183519Z
UID:10003634-1756904400-1756908000@www.faytechcc.edu
SUMMARY:Networking-Building Connections
DESCRIPTION:Click on the image to view PDF version.
URL:https://www.faytechcc.edu/event/networking-building-connections/
LOCATION:Tony Rand Student Center Rm 124\, 2220 Hull Rd\, Fayetteville\, NC\, 28303\, United States
CATEGORIES:Career Development Center
END:VEVENT
BEGIN:VEVENT
DTSTART;TZID=America/New_York:20250903T160000
DTEND;TZID=America/New_York:20250903T190000
DTSTAMP:20260423T184915
CREATED:20250828T151730Z
LAST-MODIFIED:20250828T160258Z
UID:10003642-1756915200-1756926000@www.faytechcc.edu
SUMMARY:Cape Fear Valley Health Early Childhood Teachers Hiring Event
DESCRIPTION:Click on the image to view PDF version.
URL:https://www.faytechcc.edu/event/cape-fear-valley-health-early-childhood-teachers-hiring-event/2025-09-03/2/
LOCATION:Cape Fear Valley Medical Center\, 1638 Owen Dr\, Fayetteville\, NC\, 28304\, United States
CATEGORIES:Career Development Center
END:VEVENT
END:VCALENDAR