BEGIN:VCALENDAR
VERSION:2.0
PRODID:-//Fayetteville Technical Community College - ECPv6.15.9//NONSGML v1.0//EN
CALSCALE:GREGORIAN
METHOD:PUBLISH
X-WR-CALNAME:Fayetteville Technical Community College
X-ORIGINAL-URL:https://www.faytechcc.edu
X-WR-CALDESC:Events for Fayetteville Technical Community College
REFRESH-INTERVAL;VALUE=DURATION:PT1H
X-Robots-Tag:noindex
X-PUBLISHED-TTL:PT1H
BEGIN:VTIMEZONE
TZID:America/New_York
BEGIN:DAYLIGHT
TZOFFSETFROM:-0500
TZOFFSETTO:-0400
TZNAME:EDT
DTSTART:20240310T070000
END:DAYLIGHT
BEGIN:STANDARD
TZOFFSETFROM:-0400
TZOFFSETTO:-0500
TZNAME:EST
DTSTART:20241103T060000
END:STANDARD
BEGIN:DAYLIGHT
TZOFFSETFROM:-0500
TZOFFSETTO:-0400
TZNAME:EDT
DTSTART:20250309T070000
END:DAYLIGHT
BEGIN:STANDARD
TZOFFSETFROM:-0400
TZOFFSETTO:-0500
TZNAME:EST
DTSTART:20251102T060000
END:STANDARD
BEGIN:DAYLIGHT
TZOFFSETFROM:-0500
TZOFFSETTO:-0400
TZNAME:EDT
DTSTART:20260308T070000
END:DAYLIGHT
BEGIN:STANDARD
TZOFFSETFROM:-0400
TZOFFSETTO:-0500
TZNAME:EST
DTSTART:20261101T060000
END:STANDARD
END:VTIMEZONE
BEGIN:VEVENT
DTSTART;TZID=America/New_York:20250122T090000
DTEND;TZID=America/New_York:20250122T170000
DTSTAMP:20260422T204743
CREATED:20250110T153858Z
LAST-MODIFIED:20250110T155211Z
UID:10002360-1737536400-1737565200@www.faytechcc.edu
SUMMARY:Veterans Virtual Hiring Events
DESCRIPTION:Event 1:\nEntry Time: 9:15 AM \nStart Time: 9:30 AM \n \nEvent 2:\nEntry Time: 10:45 AM \nStart Time: 11:00 AM \n \nEvent 3:\nEntry Time: 12:45 PM \nStart Time: 1:00 PM
URL:https://www.faytechcc.edu/event/veterans-virtual-hiring-events/
LOCATION:NC
CATEGORIES:Career Development Center
END:VEVENT
BEGIN:VEVENT
DTSTART;TZID=America/New_York:20250122T120000
DTEND;TZID=America/New_York:20250122T130000
DTSTAMP:20260422T204743
CREATED:20250113T175442Z
LAST-MODIFIED:20250113T175442Z
UID:10002361-1737547200-1737550800@www.faytechcc.edu
SUMMARY:Intentionality In The Workplace
DESCRIPTION:
URL:https://www.faytechcc.edu/event/intentionality-in-the-workplace/
LOCATION:Tony Rand Student Center – Room 12\, 2220 Hull Rd.\, Fayetteville\, NC\, 28303\, United States
CATEGORIES:Career Development Center
END:VEVENT
END:VCALENDAR