BEGIN:VCALENDAR
VERSION:2.0
PRODID:-//Fayetteville Technical Community College - ECPv6.15.9//NONSGML v1.0//EN
CALSCALE:GREGORIAN
METHOD:PUBLISH
X-WR-CALNAME:Fayetteville Technical Community College
X-ORIGINAL-URL:https://www.faytechcc.edu
X-WR-CALDESC:Events for Fayetteville Technical Community College
REFRESH-INTERVAL;VALUE=DURATION:PT1H
X-Robots-Tag:noindex
X-PUBLISHED-TTL:PT1H
BEGIN:VTIMEZONE
TZID:America/New_York
BEGIN:DAYLIGHT
TZOFFSETFROM:-0500
TZOFFSETTO:-0400
TZNAME:EDT
DTSTART:20230312T070000
END:DAYLIGHT
BEGIN:STANDARD
TZOFFSETFROM:-0400
TZOFFSETTO:-0500
TZNAME:EST
DTSTART:20231105T060000
END:STANDARD
BEGIN:DAYLIGHT
TZOFFSETFROM:-0500
TZOFFSETTO:-0400
TZNAME:EDT
DTSTART:20240310T070000
END:DAYLIGHT
BEGIN:STANDARD
TZOFFSETFROM:-0400
TZOFFSETTO:-0500
TZNAME:EST
DTSTART:20241103T060000
END:STANDARD
BEGIN:DAYLIGHT
TZOFFSETFROM:-0500
TZOFFSETTO:-0400
TZNAME:EDT
DTSTART:20250309T070000
END:DAYLIGHT
BEGIN:STANDARD
TZOFFSETFROM:-0400
TZOFFSETTO:-0500
TZNAME:EST
DTSTART:20251102T060000
END:STANDARD
END:VTIMEZONE
BEGIN:VEVENT
DTSTART;TZID=America/New_York:20240930T090000
DTEND;TZID=America/New_York:20240930T130000
DTSTAMP:20260421T195724
CREATED:20240911T131435Z
LAST-MODIFIED:20240911T131628Z
UID:10002014-1727686800-1727701200@www.faytechcc.edu
SUMMARY:Resume Refresh Pop-Up Workshop
DESCRIPTION:
URL:https://www.faytechcc.edu/event/resume-refresh-pop-up-workshop/
LOCATION:Liberty Training & Education Center\, 4520 Knox St.\, Fort Liberty\, NC\, 28307\, United States
CATEGORIES:Career Development Center
END:VEVENT
BEGIN:VEVENT
DTSTART;TZID=America/New_York:20240930T120000
DTEND;TZID=America/New_York:20240930T120000
DTSTAMP:20260421T195724
CREATED:20240913T131818Z
LAST-MODIFIED:20240926T203732Z
UID:10002024-1727697600-1727697600@www.faytechcc.edu
SUMMARY:Navigating USA Jobs & Introduction to Federal Resume Writing
DESCRIPTION:Click image to view in a new window. \n 
URL:https://www.faytechcc.edu/event/navigating-usa-jobs-introduction-to-federal-resume-writing-2/
CATEGORIES:Career Development Center
END:VEVENT
END:VCALENDAR