BEGIN:VCALENDAR
VERSION:2.0
PRODID:-//Fayetteville Technical Community College - ECPv6.15.9//NONSGML v1.0//EN
CALSCALE:GREGORIAN
METHOD:PUBLISH
X-WR-CALNAME:Fayetteville Technical Community College
X-ORIGINAL-URL:https://www.faytechcc.edu
X-WR-CALDESC:Events for Fayetteville Technical Community College
REFRESH-INTERVAL;VALUE=DURATION:PT1H
X-Robots-Tag:noindex
X-PUBLISHED-TTL:PT1H
BEGIN:VTIMEZONE
TZID:America/New_York
BEGIN:DAYLIGHT
TZOFFSETFROM:-0500
TZOFFSETTO:-0400
TZNAME:EDT
DTSTART:20230312T070000
END:DAYLIGHT
BEGIN:STANDARD
TZOFFSETFROM:-0400
TZOFFSETTO:-0500
TZNAME:EST
DTSTART:20231105T060000
END:STANDARD
BEGIN:DAYLIGHT
TZOFFSETFROM:-0500
TZOFFSETTO:-0400
TZNAME:EDT
DTSTART:20240310T070000
END:DAYLIGHT
BEGIN:STANDARD
TZOFFSETFROM:-0400
TZOFFSETTO:-0500
TZNAME:EST
DTSTART:20241103T060000
END:STANDARD
BEGIN:DAYLIGHT
TZOFFSETFROM:-0500
TZOFFSETTO:-0400
TZNAME:EDT
DTSTART:20250309T070000
END:DAYLIGHT
BEGIN:STANDARD
TZOFFSETFROM:-0400
TZOFFSETTO:-0500
TZNAME:EST
DTSTART:20251102T060000
END:STANDARD
END:VTIMEZONE
BEGIN:VEVENT
DTSTART;TZID=America/New_York:20241105T120000
DTEND;TZID=America/New_York:20241105T140000
DTSTAMP:20260421T125006
CREATED:20241105T153239Z
LAST-MODIFIED:20241105T164849Z
UID:10002177-1730808000-1730815200@www.faytechcc.edu
SUMMARY:Open Lab for Résumé Assistance
DESCRIPTION:
URL:https://www.faytechcc.edu/event/102658/
LOCATION:Tony Rand Student Center Rm 124\, 2220 Hull Rd\, Fayetteville\, NC\, 28303\, United States
CATEGORIES:Career Development Center
END:VEVENT
BEGIN:VEVENT
DTSTART;TZID=America/New_York:20241106T103000
DTEND;TZID=America/New_York:20241106T123000
DTSTAMP:20260421T125006
CREATED:20240814T131107Z
LAST-MODIFIED:20240826T193432Z
UID:10001829-1730889000-1730896200@www.faytechcc.edu
SUMMARY:Career Development Center Pop Up Event
DESCRIPTION:FTCC’s Career Development Center will be holding a Pop Up event from 10:30am-12:30pm on Wednesday\, Nov. 6\, in the Advanced Technology Center. Stop by for job search assistance\, career assessments\, your College Central Network\, a resume review\, employability skill-building and more!
URL:https://www.faytechcc.edu/event/pop-up-8/
LOCATION:Advanced Technology Center\, 2300 Hull Road\, Fayetteville\, NC\, 28303\, United States
CATEGORIES:Career Development Center,Students
ORGANIZER;CN="Career Development Center":MAILTO:lesanet@faytechcc.edu
END:VEVENT
BEGIN:VEVENT
DTSTART;TZID=America/New_York:20241107T100000
DTEND;TZID=America/New_York:20241107T130000
DTSTAMP:20260421T125006
CREATED:20240624T145715Z
LAST-MODIFIED:20241017T172457Z
UID:10001790-1730973600-1730984400@www.faytechcc.edu
SUMMARY:Career Fair
DESCRIPTION:
URL:https://www.faytechcc.edu/event/career-fair-5/
LOCATION:Tony Rand Student Center Lobby\, 2220 Hull Rd.\, Fayetteville\, NC\, 28303\, United States
CATEGORIES:Career Development Center
END:VEVENT
BEGIN:VEVENT
DTSTART;TZID=America/New_York:20241108T100000
DTEND;TZID=America/New_York:20241108T120000
DTSTAMP:20260421T125006
CREATED:20241105T153500Z
LAST-MODIFIED:20241105T164853Z
UID:10002178-1731060000-1731067200@www.faytechcc.edu
SUMMARY:Open Lab for Résumé Assistance
DESCRIPTION:
URL:https://www.faytechcc.edu/event/open-lab/
LOCATION:Tony Rand Student Center Rm 124\, 2220 Hull Rd\, Fayetteville\, NC\, 28303\, United States
CATEGORIES:Career Development Center
END:VEVENT
BEGIN:VEVENT
DTSTART;TZID=America/New_York:20241112T120000
DTEND;TZID=America/New_York:20241112T140000
DTSTAMP:20260421T125006
CREATED:20241105T153854Z
LAST-MODIFIED:20241105T164904Z
UID:10002179-1731412800-1731420000@www.faytechcc.edu
SUMMARY:Open Lab for Résumé Assistance
DESCRIPTION:
URL:https://www.faytechcc.edu/event/open-lab-2/
LOCATION:Tony Rand Student Center Rm 124\, 2220 Hull Rd\, Fayetteville\, NC\, 28303\, United States
CATEGORIES:Career Development Center
END:VEVENT
BEGIN:VEVENT
DTSTART;TZID=America/New_York:20241113T103000
DTEND;TZID=America/New_York:20241113T123000
DTSTAMP:20260421T125006
CREATED:20240814T131129Z
LAST-MODIFIED:20240826T193622Z
UID:10001830-1731493800-1731501000@www.faytechcc.edu
SUMMARY:Career Development Center Pop Up Event
DESCRIPTION:FTCC’s Career Development Center will be holding a Pop Up event from 10:30am-12:30pm on Wednesday\, Nov. 13\, in the Cosmetology Services Education Center. Stop by for job search assistance\, career assessments\, your College Central Network\, a resume review\, employability skill-building and more!
URL:https://www.faytechcc.edu/event/pop-up-9/
LOCATION:Cosmetology Services Education Building\, 2717 Fort Bragg Road\, Fayetteville\, NC\, 28303\, United States
CATEGORIES:Career Development Center,Students
ORGANIZER;CN="Career Development Center":MAILTO:lesanet@faytechcc.edu
END:VEVENT
BEGIN:VEVENT
DTSTART;TZID=America/New_York:20241115T100000
DTEND;TZID=America/New_York:20241115T120000
DTSTAMP:20260421T125006
CREATED:20241105T153914Z
LAST-MODIFIED:20241105T164909Z
UID:10002180-1731664800-1731672000@www.faytechcc.edu
SUMMARY:Open Lab for Résumé Assistance
DESCRIPTION:
URL:https://www.faytechcc.edu/event/open-lab-3/
LOCATION:Tony Rand Student Center Rm 124\, 2220 Hull Rd\, Fayetteville\, NC\, 28303\, United States
CATEGORIES:Career Development Center
END:VEVENT
BEGIN:VEVENT
DTSTART;TZID=America/New_York:20241119T100000
DTEND;TZID=America/New_York:20241119T130000
DTSTAMP:20260421T125006
CREATED:20241108T160416Z
LAST-MODIFIED:20241108T160837Z
UID:10002257-1732010400-1732021200@www.faytechcc.edu
SUMMARY:Employer Day
DESCRIPTION:
URL:https://www.faytechcc.edu/event/employer-day-5/
LOCATION:Tony Rand Student Center Lobby\, 2220 Hull Rd.\, Fayetteville\, NC\, 28303\, United States
CATEGORIES:Career Development Center
END:VEVENT
BEGIN:VEVENT
DTSTART;TZID=America/New_York:20241119T120000
DTEND;TZID=America/New_York:20241119T140000
DTSTAMP:20260421T125006
CREATED:20241105T153925Z
LAST-MODIFIED:20241105T164911Z
UID:10002181-1732017600-1732024800@www.faytechcc.edu
SUMMARY:Open Lab for Résumé Assistance
DESCRIPTION:
URL:https://www.faytechcc.edu/event/open-lab-4/
LOCATION:Tony Rand Student Center Rm 124\, 2220 Hull Rd\, Fayetteville\, NC\, 28303\, United States
CATEGORIES:Career Development Center
END:VEVENT
BEGIN:VEVENT
DTSTART;TZID=America/New_York:20241120T120000
DTEND;TZID=America/New_York:20241120T130000
DTSTAMP:20260421T125006
CREATED:20241108T152057Z
LAST-MODIFIED:20241108T152119Z
UID:10002256-1732104000-1732107600@www.faytechcc.edu
SUMMARY:LinkedIn Workshop
DESCRIPTION:
URL:https://www.faytechcc.edu/event/103100/
LOCATION:Tony Rand Student Center Rm 124\, 2220 Hull Rd\, Fayetteville\, NC\, 28303\, United States
CATEGORIES:Career Development Center
END:VEVENT
BEGIN:VEVENT
DTSTART;TZID=America/New_York:20241122T100000
DTEND;TZID=America/New_York:20241122T120000
DTSTAMP:20260421T125006
CREATED:20241105T153945Z
LAST-MODIFIED:20241105T164916Z
UID:10002182-1732269600-1732276800@www.faytechcc.edu
SUMMARY:Open Lab for Résumé Assistance
DESCRIPTION:
URL:https://www.faytechcc.edu/event/open-lab-5/
LOCATION:Tony Rand Student Center Rm 124\, 2220 Hull Rd\, Fayetteville\, NC\, 28303\, United States
CATEGORIES:Career Development Center
END:VEVENT
BEGIN:VEVENT
DTSTART;TZID=America/New_York:20241125T090000
DTEND;TZID=America/New_York:20241125T130000
DTSTAMP:20260421T125006
CREATED:20241118T142550Z
LAST-MODIFIED:20241118T143154Z
UID:10002269-1732525200-1732539600@www.faytechcc.edu
SUMMARY:Resume Refresh Pop Up Workshop
DESCRIPTION:
URL:https://www.faytechcc.edu/event/resume-refresh-pop-up-workshop-2/
LOCATION:Liberty Training & Education Center\, 4520 Knox St.\, Fort Liberty\, NC\, 28307\, United States
CATEGORIES:Career Development Center
END:VEVENT
BEGIN:VEVENT
DTSTART;TZID=America/New_York:20241126T120000
DTEND;TZID=America/New_York:20241126T140000
DTSTAMP:20260421T125006
CREATED:20241105T153955Z
LAST-MODIFIED:20241121T160946Z
UID:10002183-1732622400-1732629600@www.faytechcc.edu
SUMMARY:Open Lab for Résumé Assistance
DESCRIPTION:
URL:https://www.faytechcc.edu/event/open-lab-6/
LOCATION:Tony Rand Student Center Rm 124\, 2220 Hull Rd\, Fayetteville\, NC\, 28303\, United States
CATEGORIES:Career Development Center
END:VEVENT
END:VCALENDAR