BEGIN:VCALENDAR
VERSION:2.0
PRODID:-//Fayetteville Technical Community College - ECPv6.15.9//NONSGML v1.0//EN
CALSCALE:GREGORIAN
METHOD:PUBLISH
X-ORIGINAL-URL:https://www.faytechcc.edu
X-WR-CALDESC:Events for Fayetteville Technical Community College
REFRESH-INTERVAL;VALUE=DURATION:PT1H
X-Robots-Tag:noindex
X-PUBLISHED-TTL:PT1H
BEGIN:VTIMEZONE
TZID:America/New_York
BEGIN:DAYLIGHT
TZOFFSETFROM:-0500
TZOFFSETTO:-0400
TZNAME:EDT
DTSTART:20230312T070000
END:DAYLIGHT
BEGIN:STANDARD
TZOFFSETFROM:-0400
TZOFFSETTO:-0500
TZNAME:EST
DTSTART:20231105T060000
END:STANDARD
BEGIN:DAYLIGHT
TZOFFSETFROM:-0500
TZOFFSETTO:-0400
TZNAME:EDT
DTSTART:20240310T070000
END:DAYLIGHT
BEGIN:STANDARD
TZOFFSETFROM:-0400
TZOFFSETTO:-0500
TZNAME:EST
DTSTART:20241103T060000
END:STANDARD
BEGIN:DAYLIGHT
TZOFFSETFROM:-0500
TZOFFSETTO:-0400
TZNAME:EDT
DTSTART:20250309T070000
END:DAYLIGHT
BEGIN:STANDARD
TZOFFSETFROM:-0400
TZOFFSETTO:-0500
TZNAME:EST
DTSTART:20251102T060000
END:STANDARD
END:VTIMEZONE
BEGIN:VEVENT
DTSTART;TZID=America/New_York:20240710T110000
DTEND;TZID=America/New_York:20240710T130000
DTSTAMP:20260423T051818
CREATED:20240703T133628Z
LAST-MODIFIED:20240703T135003Z
UID:10001794-1720609200-1720616400@www.faytechcc.edu
SUMMARY:Seymour Johnson Job Fair
DESCRIPTION:Click on the flyer to view PDF version.
URL:https://www.faytechcc.edu/event/seymour-johnson-job-fair/
LOCATION:NC
CATEGORIES:Career Development Center
END:VEVENT
BEGIN:VEVENT
DTSTART;TZID=America/New_York:20240716T090000
DTEND;TZID=America/New_York:20240716T100000
DTSTAMP:20260423T051818
CREATED:20240703T154150Z
LAST-MODIFIED:20240703T154614Z
UID:10001798-1721120400-1721124000@www.faytechcc.edu
SUMMARY:Basic Law Enforcement Training Informational Workshop
DESCRIPTION:Click on the flyer to view larger image.
URL:https://www.faytechcc.edu/event/blet-information-workshop-3/
LOCATION:NC
CATEGORIES:Career Development Center
END:VEVENT
BEGIN:VEVENT
DTSTART;TZID=America/New_York:20240717T100000
DTEND;TZID=America/New_York:20240717T160000
DTSTAMP:20260423T051818
CREATED:20240703T133851Z
LAST-MODIFIED:20240703T135021Z
UID:10001795-1721210400-1721232000@www.faytechcc.edu
SUMMARY:Job Fair
DESCRIPTION:Click on the flyer to view PDF version.
URL:https://www.faytechcc.edu/event/job-fair/
LOCATION:NC
CATEGORIES:Career Development Center
END:VEVENT
BEGIN:VEVENT
DTSTART;TZID=America/New_York:20240717T133000
DTEND;TZID=America/New_York:20240717T143000
DTSTAMP:20260423T051818
CREATED:20240703T153914Z
LAST-MODIFIED:20240703T154618Z
UID:10001796-1721223000-1721226600@www.faytechcc.edu
SUMMARY:Basic Law Enforcement Training Informational Workshop
DESCRIPTION:Click on the flyer to view larger image.
URL:https://www.faytechcc.edu/event/blet-information-workshop/
LOCATION:NC
CATEGORIES:Career Development Center
END:VEVENT
BEGIN:VEVENT
DTSTART;TZID=America/New_York:20240717T173000
DTEND;TZID=America/New_York:20240717T183000
DTSTAMP:20260423T051818
CREATED:20240703T154108Z
LAST-MODIFIED:20240703T154622Z
UID:10001797-1721237400-1721241000@www.faytechcc.edu
SUMMARY:Basic Law Enforcement Training Informational Workshop
DESCRIPTION:Click on the flyer to view larger image.
URL:https://www.faytechcc.edu/event/blet-information-workshop-2/
LOCATION:NC
CATEGORIES:Career Development Center
END:VEVENT
BEGIN:VEVENT
DTSTART;TZID=America/New_York:20240718T130000
DTEND;TZID=America/New_York:20240718T170000
DTSTAMP:20260423T051818
CREATED:20240604T150341Z
LAST-MODIFIED:20240604T150341Z
UID:10001781-1721307600-1721322000@www.faytechcc.edu
SUMMARY:US Dept. of Homeland Security Roundtable
DESCRIPTION:For more information about our program please click the button: \nHomeland Security Careers
URL:https://www.faytechcc.edu/event/us-dept-of-homeland-security-roundtable/
LOCATION:NC
CATEGORIES:Career Development Center
END:VEVENT
BEGIN:VEVENT
DTSTART;TZID=America/New_York:20240719T100000
DTEND;TZID=America/New_York:20240719T150000
DTSTAMP:20260423T051818
CREATED:20240710T143206Z
LAST-MODIFIED:20240710T143206Z
UID:10001799-1721383200-1721401200@www.faytechcc.edu
SUMMARY:Greater Fayetteville Chamber Career & Resource Expo 2024
DESCRIPTION:
URL:https://www.faytechcc.edu/event/greater-fayetteville-chamber-career-resource-expo-2024/
LOCATION:NC
CATEGORIES:Career Development Center
END:VEVENT
BEGIN:VEVENT
DTSTART;TZID=America/New_York:20240725T100000
DTEND;TZID=America/New_York:20240725T140000
DTSTAMP:20260423T051818
CREATED:20240717T123938Z
LAST-MODIFIED:20240717T124113Z
UID:10001805-1721901600-1721916000@www.faytechcc.edu
SUMMARY:Cape Fear Valley Health Hiring Event
DESCRIPTION:
URL:https://www.faytechcc.edu/event/cape-fear-valley-health-hiring-event/
LOCATION:Tony Rand Student Center Commons Area
CATEGORIES:Career Development Center
END:VEVENT
BEGIN:VEVENT
DTSTART;TZID=America/New_York:20240727T100000
DTEND;TZID=America/New_York:20240727T140000
DTSTAMP:20260423T051818
CREATED:20240722T125354Z
LAST-MODIFIED:20240722T125354Z
UID:10001815-1722074400-1722088800@www.faytechcc.edu
SUMMARY:Quest Diagnostic Hiring Event
DESCRIPTION:
URL:https://www.faytechcc.edu/event/quest-diagnostic-hiring-event/
LOCATION:NC
CATEGORIES:Career Development Center
END:VEVENT
END:VCALENDAR