BEGIN:VCALENDAR
VERSION:2.0
PRODID:-//Fayetteville Technical Community College - ECPv6.15.9//NONSGML v1.0//EN
CALSCALE:GREGORIAN
METHOD:PUBLISH
X-WR-CALNAME:Fayetteville Technical Community College
X-ORIGINAL-URL:https://www.faytechcc.edu
X-WR-CALDESC:Events for Fayetteville Technical Community College
REFRESH-INTERVAL;VALUE=DURATION:PT1H
X-Robots-Tag:noindex
X-PUBLISHED-TTL:PT1H
BEGIN:VTIMEZONE
TZID:America/New_York
BEGIN:DAYLIGHT
TZOFFSETFROM:-0500
TZOFFSETTO:-0400
TZNAME:EDT
DTSTART:20250309T070000
END:DAYLIGHT
BEGIN:STANDARD
TZOFFSETFROM:-0400
TZOFFSETTO:-0500
TZNAME:EST
DTSTART:20251102T060000
END:STANDARD
BEGIN:DAYLIGHT
TZOFFSETFROM:-0500
TZOFFSETTO:-0400
TZNAME:EDT
DTSTART:20260308T070000
END:DAYLIGHT
BEGIN:STANDARD
TZOFFSETFROM:-0400
TZOFFSETTO:-0500
TZNAME:EST
DTSTART:20261101T060000
END:STANDARD
BEGIN:DAYLIGHT
TZOFFSETFROM:-0500
TZOFFSETTO:-0400
TZNAME:EDT
DTSTART:20270314T070000
END:DAYLIGHT
BEGIN:STANDARD
TZOFFSETFROM:-0400
TZOFFSETTO:-0500
TZNAME:EST
DTSTART:20271107T060000
END:STANDARD
END:VTIMEZONE
BEGIN:VEVENT
DTSTART;TZID=America/New_York:20260430T070000
DTEND;TZID=America/New_York:20260430T180000
DTSTAMP:20260425T100116
CREATED:20260116T163001Z
LAST-MODIFIED:20260116T163347Z
UID:10004585-1777532400-1777572000@www.faytechcc.edu
SUMMARY:Graduation Fair
DESCRIPTION:This is your one-stop shop for graduation! During this event\, you can: \n\nPick up your cap & gown.\nComplete your graduation survey.\nLearn about financial aid responsibilities after graduation.\nPurchase your graduation ring.\nVisit the FTCC Bookstore on-site to buy Trojan swag.\n\n📍 Location: Tony Rand Student Center Multipurpose Room\n📅 Date: Thursday\, April 30\, 2026\n⏰ Time: 7:00 AM – 6:00 PM
URL:https://www.faytechcc.edu/event/125511/
LOCATION:Tony Rand Student Center Multipurpose Room
CATEGORIES:Bookstore,Graduation,Student Activities
ORGANIZER;CN="Student Activities":MAILTO:plessh@faytechcc.edu
END:VEVENT
END:VCALENDAR