BEGIN:VCALENDAR
VERSION:2.0
PRODID:-//Fayetteville Technical Community College - ECPv6.15.9//NONSGML v1.0//EN
CALSCALE:GREGORIAN
METHOD:PUBLISH
X-ORIGINAL-URL:https://www.faytechcc.edu
X-WR-CALDESC:Events for Fayetteville Technical Community College
REFRESH-INTERVAL;VALUE=DURATION:PT1H
X-Robots-Tag:noindex
X-PUBLISHED-TTL:PT1H
BEGIN:VTIMEZONE
TZID:America/New_York
BEGIN:DAYLIGHT
TZOFFSETFROM:-0500
TZOFFSETTO:-0400
TZNAME:EDT
DTSTART:20250309T070000
END:DAYLIGHT
BEGIN:STANDARD
TZOFFSETFROM:-0400
TZOFFSETTO:-0500
TZNAME:EST
DTSTART:20251102T060000
END:STANDARD
BEGIN:DAYLIGHT
TZOFFSETFROM:-0500
TZOFFSETTO:-0400
TZNAME:EDT
DTSTART:20260308T070000
END:DAYLIGHT
BEGIN:STANDARD
TZOFFSETFROM:-0400
TZOFFSETTO:-0500
TZNAME:EST
DTSTART:20261101T060000
END:STANDARD
BEGIN:DAYLIGHT
TZOFFSETFROM:-0500
TZOFFSETTO:-0400
TZNAME:EDT
DTSTART:20270314T070000
END:DAYLIGHT
BEGIN:STANDARD
TZOFFSETFROM:-0400
TZOFFSETTO:-0500
TZNAME:EST
DTSTART:20271107T060000
END:STANDARD
END:VTIMEZONE
BEGIN:VEVENT
DTSTART;TZID=America/New_York:20260412T130000
DTEND;TZID=America/New_York:20260412T180000
DTSTAMP:20260425T081057
CREATED:20260127T204111Z
LAST-MODIFIED:20260127T204111Z
UID:10004787-1775998800-1776016800@www.faytechcc.edu
SUMMARY:Baseball (Away)
DESCRIPTION:Baseball is traveling to Pitt for game three of their series at noon. 
URL:https://www.faytechcc.edu/event/baseball-away-56/
CATEGORIES:Athletics
END:VEVENT
BEGIN:VEVENT
DTSTART;TZID=America/New_York:20260412T130000
DTEND;TZID=America/New_York:20260412T190000
DTSTAMP:20260425T081057
CREATED:20260127T204159Z
LAST-MODIFIED:20260127T204159Z
UID:10004788-1775998800-1776020400@www.faytechcc.edu
SUMMARY:Softball (Away)
DESCRIPTION:Softball is traveling to Southwest Virginia for a doubleheader starting at 1PM. 
URL:https://www.faytechcc.edu/event/softball-away-29/
CATEGORIES:Athletics
END:VEVENT
BEGIN:VEVENT
DTSTART;TZID=America/New_York:20260415T180000
DTEND;TZID=America/New_York:20260415T210000
DTSTAMP:20260425T081057
CREATED:20260127T204251Z
LAST-MODIFIED:20260413T123049Z
UID:10004789-1776276000-1776286800@www.faytechcc.edu
SUMMARY:Baseball (Home)- Segra Stadium
DESCRIPTION:Baseball is hosting Robeson for a single game at 6PM. The game will be played at Segra Stadium: 460 Hay Street. Admission for all is $11.50- tickets can be purchased here in advance.
URL:https://www.faytechcc.edu/event/baseball-home-56/
CATEGORIES:Athletics
END:VEVENT
BEGIN:VEVENT
DTSTART;TZID=America/New_York:20260418T120000
DTEND;TZID=America/New_York:20260418T180000
DTSTAMP:20260425T081057
CREATED:20260127T204350Z
LAST-MODIFIED:20260413T151641Z
UID:10004790-1776513600-1776535200@www.faytechcc.edu
SUMMARY:Baseball (Home)- Military Appreciation Day
DESCRIPTION:Baseball is hosting Brunswick for a doubleheader starting at noon on Military Appreciation Day. All home games are $10 admission and played at JP Riddle Stadium: 2823 Legion Rd. \nShowtime: 11:00 AM \n\nColor guard – FSU AF-ROTC\nNational Anthem Vocalist – 82nd ABN Chorus member\nOpening Pitch – CSM Scott\, Garrison Command Sergeant Major and FTCC Parent\n\nFree lunch for the first 100 students!
URL:https://www.faytechcc.edu/event/baseball-home-military-appreciation-day/
CATEGORIES:Athletics
END:VEVENT
BEGIN:VEVENT
DTSTART;TZID=America/New_York:20260418T140000
DTEND;TZID=America/New_York:20260418T180000
DTSTAMP:20260425T081057
CREATED:20260127T204439Z
LAST-MODIFIED:20260127T204439Z
UID:10004791-1776520800-1776535200@www.faytechcc.edu
SUMMARY:Softball (Away)
DESCRIPTION:Softball is traveling to Catawba Valley for a doubleheader at 2PM. 
URL:https://www.faytechcc.edu/event/softball-away-30/
CATEGORIES:Athletics
END:VEVENT
END:VCALENDAR