BEGIN:VCALENDAR
VERSION:2.0
PRODID:-//Fayetteville Technical Community College - ECPv6.15.9//NONSGML v1.0//EN
CALSCALE:GREGORIAN
METHOD:PUBLISH
X-ORIGINAL-URL:https://www.faytechcc.edu
X-WR-CALDESC:Events for Fayetteville Technical Community College
REFRESH-INTERVAL;VALUE=DURATION:PT1H
X-Robots-Tag:noindex
X-PUBLISHED-TTL:PT1H
BEGIN:VTIMEZONE
TZID:America/New_York
BEGIN:DAYLIGHT
TZOFFSETFROM:-0500
TZOFFSETTO:-0400
TZNAME:EDT
DTSTART:20250309T070000
END:DAYLIGHT
BEGIN:STANDARD
TZOFFSETFROM:-0400
TZOFFSETTO:-0500
TZNAME:EST
DTSTART:20251102T060000
END:STANDARD
BEGIN:DAYLIGHT
TZOFFSETFROM:-0500
TZOFFSETTO:-0400
TZNAME:EDT
DTSTART:20260308T070000
END:DAYLIGHT
BEGIN:STANDARD
TZOFFSETFROM:-0400
TZOFFSETTO:-0500
TZNAME:EST
DTSTART:20261101T060000
END:STANDARD
BEGIN:DAYLIGHT
TZOFFSETFROM:-0500
TZOFFSETTO:-0400
TZNAME:EDT
DTSTART:20270314T070000
END:DAYLIGHT
BEGIN:STANDARD
TZOFFSETFROM:-0400
TZOFFSETTO:-0500
TZNAME:EST
DTSTART:20271107T060000
END:STANDARD
END:VTIMEZONE
BEGIN:VEVENT
DTSTART;TZID=America/New_York:20260322T130000
DTEND;TZID=America/New_York:20260322T160000
DTSTAMP:20260425T064755
CREATED:20260127T202830Z
LAST-MODIFIED:20260127T202830Z
UID:10004773-1774184400-1774195200@www.faytechcc.edu
SUMMARY:Baseball (Home)
DESCRIPTION:Baseball is hosting Southeastern-Whiteville for game three of their series starting at 1PM. All home games are $10 admission and played at JP Riddle Stadium: 2823 Legion Rd.
URL:https://www.faytechcc.edu/event/baseball-home-52/
CATEGORIES:Athletics
END:VEVENT
BEGIN:VEVENT
DTSTART;TZID=America/New_York:20260325T153000
DTEND;TZID=America/New_York:20260325T183000
DTSTAMP:20260425T064755
CREATED:20260127T203001Z
LAST-MODIFIED:20260127T203001Z
UID:10004774-1774452600-1774463400@www.faytechcc.edu
SUMMARY:Baseball (Away)
DESCRIPTION:Baseball is traveling to Robeson for a single conference game at 3:30PM.
URL:https://www.faytechcc.edu/event/baseball-away-51/
CATEGORIES:Athletics
END:VEVENT
BEGIN:VEVENT
DTSTART;TZID=America/New_York:20260326T130000
DTEND;TZID=America/New_York:20260326T170000
DTSTAMP:20260425T064755
CREATED:20260127T203115Z
LAST-MODIFIED:20260318T185407Z
UID:10004775-1774530000-1774544400@www.faytechcc.edu
SUMMARY:Softball (Home)
DESCRIPTION:Softball is hosting Brunswick for a doubleheader starting at 1PM.  All home games are $10 admission and played at JP Riddle Complex: 2823 Legion Rd.
URL:https://www.faytechcc.edu/event/softball-home-autism-awareness-game/
CATEGORIES:Athletics
END:VEVENT
BEGIN:VEVENT
DTSTART;TZID=America/New_York:20260327T120000
DTEND;TZID=America/New_York:20260327T180000
DTSTAMP:20260425T064755
CREATED:20260127T203202Z
LAST-MODIFIED:20260327T121450Z
UID:10004776-1774612800-1774634400@www.faytechcc.edu
SUMMARY:Baseball (Away)
DESCRIPTION:Baseball is traveling to Lenoir for a doubleheader starting at noon. 
URL:https://www.faytechcc.edu/event/baseball-away-52/
CATEGORIES:Athletics
END:VEVENT
BEGIN:VEVENT
DTSTART;TZID=America/New_York:20260327T130000
DTEND;TZID=America/New_York:20260327T170000
DTSTAMP:20260425T064755
CREATED:20260318T185314Z
LAST-MODIFIED:20260318T185314Z
UID:10007116-1774616400-1774630800@www.faytechcc.edu
SUMMARY:Softball (Home)
DESCRIPTION:Softball is hosting USC-Union for a doubleheader starting at 1PM. All home games are $10 admission (free with FTCC ID or children 12 & under) and are played at JP Riddle Complex: 2823 Legion Rd.
URL:https://www.faytechcc.edu/event/softball-home-25/
CATEGORIES:Athletics
END:VEVENT
BEGIN:VEVENT
DTSTART;TZID=America/New_York:20260328T130000
DTEND;TZID=America/New_York:20260328T160000
DTSTAMP:20260425T064755
CREATED:20260127T203339Z
LAST-MODIFIED:20260327T121523Z
UID:10004778-1774702800-1774713600@www.faytechcc.edu
SUMMARY:Baseball (Away)
DESCRIPTION:Baseball is traveling back to Lenoir for game three of their series at 2PM.
URL:https://www.faytechcc.edu/event/baseball-away-53/
CATEGORIES:Athletics
END:VEVENT
END:VCALENDAR