BEGIN:VCALENDAR
VERSION:2.0
PRODID:-//Fayetteville Technical Community College - ECPv6.15.9//NONSGML v1.0//EN
CALSCALE:GREGORIAN
METHOD:PUBLISH
X-ORIGINAL-URL:https://www.faytechcc.edu
X-WR-CALDESC:Events for Fayetteville Technical Community College
REFRESH-INTERVAL;VALUE=DURATION:PT1H
X-Robots-Tag:noindex
X-PUBLISHED-TTL:PT1H
BEGIN:VTIMEZONE
TZID:America/New_York
BEGIN:DAYLIGHT
TZOFFSETFROM:-0500
TZOFFSETTO:-0400
TZNAME:EDT
DTSTART:20250309T070000
END:DAYLIGHT
BEGIN:STANDARD
TZOFFSETFROM:-0400
TZOFFSETTO:-0500
TZNAME:EST
DTSTART:20251102T060000
END:STANDARD
BEGIN:DAYLIGHT
TZOFFSETFROM:-0500
TZOFFSETTO:-0400
TZNAME:EDT
DTSTART:20260308T070000
END:DAYLIGHT
BEGIN:STANDARD
TZOFFSETFROM:-0400
TZOFFSETTO:-0500
TZNAME:EST
DTSTART:20261101T060000
END:STANDARD
BEGIN:DAYLIGHT
TZOFFSETFROM:-0500
TZOFFSETTO:-0400
TZNAME:EDT
DTSTART:20270314T070000
END:DAYLIGHT
BEGIN:STANDARD
TZOFFSETFROM:-0400
TZOFFSETTO:-0500
TZNAME:EST
DTSTART:20271107T060000
END:STANDARD
END:VTIMEZONE
BEGIN:VEVENT
DTSTART;TZID=America/New_York:20260215T130000
DTEND;TZID=America/New_York:20260215T150000
DTSTAMP:20260425T064755
CREATED:20250911T141233Z
LAST-MODIFIED:20250911T141233Z
UID:10003762-1771160400-1771167600@www.faytechcc.edu
SUMMARY:Men's Basketball (Home)
DESCRIPTION:Men’s Basketball is hosting Southwest Virginia in a conference game at 1PM. All home games are played at Reid Ross Classical School: 3200 Ramsey Street. Admission is $10 or free with FTCC ID.
URL:https://www.faytechcc.edu/event/mens-basketball-home-25/
CATEGORIES:Athletics
END:VEVENT
BEGIN:VEVENT
DTSTART;TZID=America/New_York:20260217T153000
DTEND;TZID=America/New_York:20260217T183000
DTSTAMP:20260425T064755
CREATED:20260127T200741Z
LAST-MODIFIED:20260127T200741Z
UID:10004752-1771342200-1771353000@www.faytechcc.edu
SUMMARY:Baseball (Home)
DESCRIPTION:Baseball is hosting Rockingham for a 3:30PM single game. All home games are $10 admission and played at JP Riddle Stadium: 2823 Legion Rd.
URL:https://www.faytechcc.edu/event/baseball-home-49/
CATEGORIES:Athletics
END:VEVENT
BEGIN:VEVENT
DTSTART;TZID=America/New_York:20260217T170000
DTEND;TZID=America/New_York:20260217T190000
DTSTAMP:20260425T064755
CREATED:20250910T143611Z
LAST-MODIFIED:20260212T212330Z
UID:10003733-1771347600-1771354800@www.faytechcc.edu
SUMMARY:Women's Basketball (Home)- Play4Kay
DESCRIPTION:Women’s Basketball is hosting Guilford Tech in a Pink Out game at 5pm. All home games are played at Reid Ross Classical School: 3200 Ramsey Street. Admission is $10\, free with FTCC ID.
URL:https://www.faytechcc.edu/event/womens-basketball-home-28/
CATEGORIES:Athletics
END:VEVENT
BEGIN:VEVENT
DTSTART;TZID=America/New_York:20260217T190000
DTEND;TZID=America/New_York:20260217T210000
DTSTAMP:20260425T064755
CREATED:20260211T204022Z
LAST-MODIFIED:20260213T135019Z
UID:10004983-1771354800-1771362000@www.faytechcc.edu
SUMMARY:Men's Basketball (Home)- Play4Kay
DESCRIPTION:Men’s Basketball will be hosting Cleveland for a conference game at 7PM. All home games are $10 admission and played at Reid Ross Classical School: 3200 Ramsey Street.
URL:https://www.faytechcc.edu/event/mens-basketball-home-28/
CATEGORIES:Athletics
END:VEVENT
BEGIN:VEVENT
DTSTART;TZID=America/New_York:20260220T150000
DTEND;TZID=America/New_York:20260220T180000
DTSTAMP:20260425T064755
CREATED:20260127T201145Z
LAST-MODIFIED:20260218T170152Z
UID:10004756-1771599600-1771610400@www.faytechcc.edu
SUMMARY:Baseball (Away)
DESCRIPTION:Baseball is traveling to Virginia Beach to play a single game against Bryant & Stratton at 3PM. 
URL:https://www.faytechcc.edu/event/baseball-away-12/
CATEGORIES:Athletics
END:VEVENT
BEGIN:VEVENT
DTSTART;TZID=America/New_York:20260220T170000
DTEND;TZID=America/New_York:20260220T210000
DTSTAMP:20260425T064755
CREATED:20260127T201049Z
LAST-MODIFIED:20260217T155421Z
UID:10004755-1771606800-1771621200@www.faytechcc.edu
SUMMARY:Softball (Home)
DESCRIPTION:Softball is hosting Caldwell for a doubleheader at 5PM. All home games are $10 admission and played at JP Riddle Complex: 2823 Legion Rd.
URL:https://www.faytechcc.edu/event/softball-home-17/
CATEGORIES:Athletics
END:VEVENT
BEGIN:VEVENT
DTSTART;TZID=America/New_York:20260220T180000
DTEND;TZID=America/New_York:20260220T200000
DTSTAMP:20260425T064755
CREATED:20250910T143658Z
LAST-MODIFIED:20250910T143658Z
UID:10003734-1771610400-1771617600@www.faytechcc.edu
SUMMARY:Women's Basketball (Home)
DESCRIPTION:Women’s Basketball is hosting Wake Tech for Sophomore Night at 6pm. All home games are played at Reid Ross Classical School: 3200 Ramsey Street. Admission is $10\, free with FTCC ID.
URL:https://www.faytechcc.edu/event/womens-basketball-home-29/
CATEGORIES:Athletics
END:VEVENT
BEGIN:VEVENT
DTSTART;TZID=America/New_York:20260220T190000
DTEND;TZID=America/New_York:20260220T210000
DTSTAMP:20260425T064755
CREATED:20250911T140729Z
LAST-MODIFIED:20260127T195958Z
UID:10003756-1771614000-1771621200@www.faytechcc.edu
SUMMARY:Men's Basketball (Away)
DESCRIPTION:Men’s Basketball is traveling to Davidson-Davie for a conference game at 7PM.
URL:https://www.faytechcc.edu/event/mens-basketball-away-13/
CATEGORIES:Athletics
END:VEVENT
BEGIN:VEVENT
DTSTART;TZID=America/New_York:20260221T130000
DTEND;TZID=America/New_York:20260221T190000
DTSTAMP:20260425T064755
CREATED:20260127T200837Z
LAST-MODIFIED:20260127T200837Z
UID:10004753-1771678800-1771700400@www.faytechcc.edu
SUMMARY:Baseball (Away)
DESCRIPTION:Baseball is traveling to Virginia Beach to play a conference series against Bryant & Stratton. The doubleheader will start at 1PM. 
URL:https://www.faytechcc.edu/event/baseball-away-11/
CATEGORIES:Athletics
END:VEVENT
END:VCALENDAR