BEGIN:VCALENDAR
VERSION:2.0
PRODID:-//Fayetteville Technical Community College - ECPv6.15.9//NONSGML v1.0//EN
CALSCALE:GREGORIAN
METHOD:PUBLISH
X-ORIGINAL-URL:https://www.faytechcc.edu
X-WR-CALDESC:Events for Fayetteville Technical Community College
REFRESH-INTERVAL;VALUE=DURATION:PT1H
X-Robots-Tag:noindex
X-PUBLISHED-TTL:PT1H
BEGIN:VTIMEZONE
TZID:America/New_York
BEGIN:DAYLIGHT
TZOFFSETFROM:-0500
TZOFFSETTO:-0400
TZNAME:EDT
DTSTART:20250309T070000
END:DAYLIGHT
BEGIN:STANDARD
TZOFFSETFROM:-0400
TZOFFSETTO:-0500
TZNAME:EST
DTSTART:20251102T060000
END:STANDARD
BEGIN:DAYLIGHT
TZOFFSETFROM:-0500
TZOFFSETTO:-0400
TZNAME:EDT
DTSTART:20260308T070000
END:DAYLIGHT
BEGIN:STANDARD
TZOFFSETFROM:-0400
TZOFFSETTO:-0500
TZNAME:EST
DTSTART:20261101T060000
END:STANDARD
BEGIN:DAYLIGHT
TZOFFSETFROM:-0500
TZOFFSETTO:-0400
TZNAME:EDT
DTSTART:20270314T070000
END:DAYLIGHT
BEGIN:STANDARD
TZOFFSETFROM:-0400
TZOFFSETTO:-0500
TZNAME:EST
DTSTART:20271107T060000
END:STANDARD
END:VTIMEZONE
BEGIN:VEVENT
DTSTART;TZID=America/New_York:20260208T120000
DTEND;TZID=America/New_York:20260208T150000
DTSTAMP:20260425T081054
CREATED:20260127T200302Z
LAST-MODIFIED:20260127T200302Z
UID:10004748-1770552000-1770562800@www.faytechcc.edu
SUMMARY:Baseball (Home)
DESCRIPTION:Baseball is hosting Paul D. Camp for game three of their series starting at noon. All home games are $10 admission and played at JP Riddle Stadium: 2823 Legion Road.
URL:https://www.faytechcc.edu/event/baseball-home-10/
CATEGORIES:Athletics
END:VEVENT
BEGIN:VEVENT
DTSTART;TZID=America/New_York:20260208T150000
DTEND;TZID=America/New_York:20260208T170000
DTSTAMP:20260425T081054
CREATED:20250911T141007Z
LAST-MODIFIED:20250911T141007Z
UID:10003759-1770562800-1770570000@www.faytechcc.edu
SUMMARY:Men's Basketball (Home)
DESCRIPTION:Men’s Basketball is hosting Catawba Valley in a conference game at 3PM. All home games are played at Reid Ross Classical School: 3200 Ramsey Street. Admission is $10 or free with FTCC ID.
URL:https://www.faytechcc.edu/event/mens-basketball-home-24/
CATEGORIES:Athletics
END:VEVENT
BEGIN:VEVENT
DTSTART;TZID=America/New_York:20260209T130000
DTEND;TZID=America/New_York:20260209T190000
DTSTAMP:20260425T081054
CREATED:20260127T200130Z
LAST-MODIFIED:20260205T151104Z
UID:10004746-1770642000-1770663600@www.faytechcc.edu
SUMMARY:Baseball (Home)
DESCRIPTION:Baseball is hosting Paul D. Camp for a doubleheader starting at 1PM. All home games are $10 admission and played at JP Riddle Stadium: 2823 Legion Road.
URL:https://www.faytechcc.edu/event/baseball-home-7/
CATEGORIES:Athletics
END:VEVENT
BEGIN:VEVENT
DTSTART;TZID=America/New_York:20260211T160000
DTEND;TZID=America/New_York:20260211T190000
DTSTAMP:20260425T081054
CREATED:20260127T200447Z
LAST-MODIFIED:20260211T164127Z
UID:10004749-1770825600-1770836400@www.faytechcc.edu
SUMMARY:Cancelled: Baseball (Home)
DESCRIPTION:The game has been cancelled due to the rain. \nBaseball is hosting Florence-Darlington for a single game at 4PM. All home games are $10 admission and played at JP Riddle Stadium: 2823 Legion Rd. 
URL:https://www.faytechcc.edu/event/baseball-home-11/
CATEGORIES:Athletics
END:VEVENT
BEGIN:VEVENT
DTSTART;TZID=America/New_York:20260211T173000
DTEND;TZID=America/New_York:20260211T193000
DTSTAMP:20260425T081054
CREATED:20250910T143407Z
LAST-MODIFIED:20260205T165710Z
UID:10003731-1770831000-1770838200@www.faytechcc.edu
SUMMARY:Women's Basketball (Home)
DESCRIPTION:Women’s Basketball is hosting Cleveland for a conference game at 5:30pm. All home games are played at Reid Ross Classical School: 3200 Ramsey Street. Admission is $10\, free with FTCC ID.
URL:https://www.faytechcc.edu/event/womens-basketball-home-27/
CATEGORIES:Athletics
END:VEVENT
BEGIN:VEVENT
DTSTART;TZID=America/New_York:20260211T190000
DTEND;TZID=America/New_York:20260211T210000
DTSTAMP:20260425T081054
CREATED:20250911T141058Z
LAST-MODIFIED:20250911T141058Z
UID:10003760-1770836400-1770843600@www.faytechcc.edu
SUMMARY:Men's Basketball (Away)
DESCRIPTION:Men’s Basketball is traveling to Guilford Tech for a conference game at 7PM.
URL:https://www.faytechcc.edu/event/mens-basketball-away-15/
CATEGORIES:Athletics
END:VEVENT
BEGIN:VEVENT
DTSTART;TZID=America/New_York:20260213T130000
DTEND;TZID=America/New_York:20260213T170000
DTSTAMP:20260425T081054
CREATED:20260211T191553Z
LAST-MODIFIED:20260211T191553Z
UID:10004982-1770987600-1771002000@www.faytechcc.edu
SUMMARY:Softball (Home)
DESCRIPTION:Softball is hosting Surry CC for a doubleheader starting at 1PM. All home games are $10 admission and played at JP Riddle Complex: 2823 Legion Rd.
URL:https://www.faytechcc.edu/event/softball-home-26/
CATEGORIES:Athletics
END:VEVENT
BEGIN:VEVENT
DTSTART;TZID=America/New_York:20260213T140000
DTEND;TZID=America/New_York:20260213T160000
DTSTAMP:20260425T081054
CREATED:20260127T200647Z
LAST-MODIFIED:20260210T171952Z
UID:10004751-1770991200-1770998400@www.faytechcc.edu
SUMMARY:Baseball (Home)
DESCRIPTION:Baseball is hosting Lenoir for a conference game at 2PM. All home games are $10 admission and played at JP Riddle Stadium: 2823 Legion Rd.
URL:https://www.faytechcc.edu/event/baseball-home-48/
CATEGORIES:Athletics
END:VEVENT
BEGIN:VEVENT
DTSTART;TZID=America/New_York:20260213T170000
DTEND;TZID=America/New_York:20260213T190000
DTSTAMP:20260425T081054
CREATED:20250910T143504Z
LAST-MODIFIED:20250911T180455Z
UID:10003732-1771002000-1771009200@www.faytechcc.edu
SUMMARY:Women's Basketball (Away)
DESCRIPTION:Women’s Basketball is traveling to Cape Fear for a conference game at 5pm.
URL:https://www.faytechcc.edu/event/womens-basketball-away-18/
CATEGORIES:Athletics
END:VEVENT
BEGIN:VEVENT
DTSTART;TZID=America/New_York:20260214T130000
DTEND;TZID=America/New_York:20260214T180000
DTSTAMP:20260425T081054
CREATED:20260127T200551Z
LAST-MODIFIED:20260214T133201Z
UID:10004750-1771074000-1771092000@www.faytechcc.edu
SUMMARY:Baseball (Home)
DESCRIPTION:Baseball is hosting Lenoir for their first conference series. They will play a doubleheader starting at 1PM. All home games are $10 admission and played at JP Riddle Stadium: 2823 Legion Rd.
URL:https://www.faytechcc.edu/event/baseball-home-47/
CATEGORIES:Athletics
END:VEVENT
BEGIN:VEVENT
DTSTART;TZID=America/New_York:20260214T150000
DTEND;TZID=America/New_York:20260214T170000
DTSTAMP:20260425T081054
CREATED:20250911T141142Z
LAST-MODIFIED:20250911T141142Z
UID:10003761-1771081200-1771088400@www.faytechcc.edu
SUMMARY:Men's Basketball (Away)
DESCRIPTION:Men’s Basketball is traveling to Pitt CC for a conference game at 3PM.
URL:https://www.faytechcc.edu/event/mens-basketball-away-16/
CATEGORIES:Athletics
END:VEVENT
END:VCALENDAR