BEGIN:VCALENDAR
VERSION:2.0
PRODID:-//Fayetteville Technical Community College - ECPv6.15.9//NONSGML v1.0//EN
CALSCALE:GREGORIAN
METHOD:PUBLISH
X-WR-CALNAME:Fayetteville Technical Community College
X-ORIGINAL-URL:https://www.faytechcc.edu
X-WR-CALDESC:Events for Fayetteville Technical Community College
REFRESH-INTERVAL;VALUE=DURATION:PT1H
X-Robots-Tag:noindex
X-PUBLISHED-TTL:PT1H
BEGIN:VTIMEZONE
TZID:America/New_York
BEGIN:DAYLIGHT
TZOFFSETFROM:-0500
TZOFFSETTO:-0400
TZNAME:EDT
DTSTART:20250309T070000
END:DAYLIGHT
BEGIN:STANDARD
TZOFFSETFROM:-0400
TZOFFSETTO:-0500
TZNAME:EST
DTSTART:20251102T060000
END:STANDARD
BEGIN:DAYLIGHT
TZOFFSETFROM:-0500
TZOFFSETTO:-0400
TZNAME:EDT
DTSTART:20260308T070000
END:DAYLIGHT
BEGIN:STANDARD
TZOFFSETFROM:-0400
TZOFFSETTO:-0500
TZNAME:EST
DTSTART:20261101T060000
END:STANDARD
BEGIN:DAYLIGHT
TZOFFSETFROM:-0500
TZOFFSETTO:-0400
TZNAME:EDT
DTSTART:20270314T070000
END:DAYLIGHT
BEGIN:STANDARD
TZOFFSETFROM:-0400
TZOFFSETTO:-0500
TZNAME:EST
DTSTART:20271107T060000
END:STANDARD
END:VTIMEZONE
BEGIN:VEVENT
DTSTART;TZID=America/New_York:20260228T130000
DTEND;TZID=America/New_York:20260228T190000
DTSTAMP:20260422T071803
CREATED:20260127T201401Z
LAST-MODIFIED:20260127T201401Z
UID:10004758-1772283600-1772305200@www.faytechcc.edu
SUMMARY:Baseball (Home)- FTCC Food Truck
DESCRIPTION:Baseball will host Pitt for a conference series starting at 1PM. The FTCC Culinary Food Truck will be out at JP Riddle in between games to grab lunch! All home games are $10 admission and played at JP Riddle Stadium: 2823 Legion Rd.
URL:https://www.faytechcc.edu/event/baseball-home-ftcc-food-truck/
CATEGORIES:Athletics
END:VEVENT
BEGIN:VEVENT
DTSTART;TZID=America/New_York:20260301T120000
DTEND;TZID=America/New_York:20260301T150000
DTSTAMP:20260422T071803
CREATED:20260127T201555Z
LAST-MODIFIED:20260127T201555Z
UID:10004759-1772366400-1772377200@www.faytechcc.edu
SUMMARY:Baseball (Home)
DESCRIPTION:Baseball is hosting Pitt for the third game of their series at noon. All home games are $10 admission and played at JP Riddle Stadium: 2823 Legion Rd.
URL:https://www.faytechcc.edu/event/baseball-home-51/
CATEGORIES:Athletics
END:VEVENT
BEGIN:VEVENT
DTSTART;TZID=America/New_York:20260304T130000
DTEND;TZID=America/New_York:20260304T170000
DTSTAMP:20260422T071803
CREATED:20260127T201643Z
LAST-MODIFIED:20260127T201643Z
UID:10004760-1772629200-1772643600@www.faytechcc.edu
SUMMARY:Softball (Away)
DESCRIPTION:Softball is traveling to Pitt CC for a 1PM doubleheader. 
URL:https://www.faytechcc.edu/event/softball-away-24/
CATEGORIES:Athletics
END:VEVENT
BEGIN:VEVENT
DTSTART;TZID=America/New_York:20260304T180000
DTEND;TZID=America/New_York:20260304T210000
DTSTAMP:20260422T071803
CREATED:20260127T201729Z
LAST-MODIFIED:20260127T201729Z
UID:10004761-1772647200-1772658000@www.faytechcc.edu
SUMMARY:Baseball (Away)
DESCRIPTION:Baseball is traveling to Catawba Valley for a single game at 6PM.
URL:https://www.faytechcc.edu/event/baseball-away-13/
CATEGORIES:Athletics
END:VEVENT
BEGIN:VEVENT
DTSTART;TZID=America/New_York:20260305T140000
DTEND;TZID=America/New_York:20260305T160000
DTSTAMP:20260422T071803
CREATED:20260303T183631Z
LAST-MODIFIED:20260303T183631Z
UID:10007108-1772719200-1772726400@www.faytechcc.edu
SUMMARY:Women's Basketball (Region 10 Tournament)
DESCRIPTION:Women’s Basketball will play #5 Cape Fear as the #4 seed in the Region 10 tournament in Hickory\, NC hosted by Catawba Valley at 2PM.
URL:https://www.faytechcc.edu/event/womens-basketball-region-10-tournament/
CATEGORIES:Athletics
END:VEVENT
BEGIN:VEVENT
DTSTART;TZID=America/New_York:20260305T143000
DTEND;TZID=America/New_York:20260305T170000
DTSTAMP:20260422T071803
CREATED:20260303T183522Z
LAST-MODIFIED:20260303T183522Z
UID:10007107-1772721000-1772730000@www.faytechcc.edu
SUMMARY:Men's Basketball (Region 10 Tournament)
DESCRIPTION:Men’s Basketball will play #5 Central Carolina as the #4 seed in the Region 10 Conference Tournament hosted by Wake Tech in Raleigh\, NC at 2:30PM.
URL:https://www.faytechcc.edu/event/mens-basketball-region-10-tournament/
CATEGORIES:Athletics
END:VEVENT
BEGIN:VEVENT
DTSTART;TZID=America/New_York:20260307T120000
DTEND;TZID=America/New_York:20260307T180000
DTSTAMP:20260422T071803
CREATED:20260127T201816Z
LAST-MODIFIED:20260127T201816Z
UID:10004762-1772884800-1772906400@www.faytechcc.edu
SUMMARY:Baseball (Away)
DESCRIPTION:Baseball is traveling to Brunswick for a doubleheader starting at noon. 
URL:https://www.faytechcc.edu/event/baseball-away-14/
CATEGORIES:Athletics
END:VEVENT
BEGIN:VEVENT
DTSTART;TZID=America/New_York:20260308T130000
DTEND;TZID=America/New_York:20260308T160000
DTSTAMP:20260422T071803
CREATED:20260127T202009Z
LAST-MODIFIED:20260127T202009Z
UID:10004763-1772974800-1772985600@www.faytechcc.edu
SUMMARY:Baseball (Away)
DESCRIPTION:Baseball is traveling to Brunswick for game three of their series starting at 1PM.
URL:https://www.faytechcc.edu/event/baseball-away-46/
CATEGORIES:Athletics
END:VEVENT
BEGIN:VEVENT
DTSTART;TZID=America/New_York:20260311T140000
DTEND;TZID=America/New_York:20260311T180000
DTSTAMP:20260422T071803
CREATED:20260127T202104Z
LAST-MODIFIED:20260127T202104Z
UID:10004764-1773237600-1773252000@www.faytechcc.edu
SUMMARY:Softball (Home)
DESCRIPTION:Softball is hosting a doubleheader against Richard Bland starting at 2PM. All home games are $10 admission and played at JP Riddle Complex: 2823 Legion Rd.
URL:https://www.faytechcc.edu/event/softball-home-19/
CATEGORIES:Athletics
END:VEVENT
BEGIN:VEVENT
DTSTART;TZID=America/New_York:20260311T150000
DTEND;TZID=America/New_York:20260311T180000
DTSTAMP:20260422T071803
CREATED:20260127T202146Z
LAST-MODIFIED:20260127T202146Z
UID:10004765-1773241200-1773252000@www.faytechcc.edu
SUMMARY:Baseball (Away)
DESCRIPTION:Baseball is traveling to Florence-Darlington for a single game at 3PM.
URL:https://www.faytechcc.edu/event/baseball-away-47/
CATEGORIES:Athletics
END:VEVENT
BEGIN:VEVENT
DTSTART;TZID=America/New_York:20260313T130000
DTEND;TZID=America/New_York:20260313T170000
DTSTAMP:20260422T071803
CREATED:20260127T202245Z
LAST-MODIFIED:20260127T202245Z
UID:10004766-1773406800-1773421200@www.faytechcc.edu
SUMMARY:Softball (Home)
DESCRIPTION:Softball is hosting Bryant & Stratton for a doubleheader starting at 1PM. All home games are $10 admission and played at JP Riddle Complex: 2823 Legion Rd.
URL:https://www.faytechcc.edu/event/softball-home-20/
CATEGORIES:Athletics
END:VEVENT
BEGIN:VEVENT
DTSTART;TZID=America/New_York:20260314T140000
DTEND;TZID=America/New_York:20260314T200000
DTSTAMP:20260422T071803
CREATED:20260127T202339Z
LAST-MODIFIED:20260127T202339Z
UID:10004767-1773496800-1773518400@www.faytechcc.edu
SUMMARY:Baseball (Away)
DESCRIPTION:Baseball is traveling to Richard Bland to play a doubleheader starting at 2PM. 
URL:https://www.faytechcc.edu/event/baseball-away-48/
CATEGORIES:Athletics
END:VEVENT
BEGIN:VEVENT
DTSTART;TZID=America/New_York:20260315T130000
DTEND;TZID=America/New_York:20260315T160000
DTSTAMP:20260422T071803
CREATED:20260127T202422Z
LAST-MODIFIED:20260127T202422Z
UID:10004768-1773579600-1773590400@www.faytechcc.edu
SUMMARY:Baseball (Away)
DESCRIPTION:Baseball is playing game three of their series with Richard Bland with a single game starting at 1PM.
URL:https://www.faytechcc.edu/event/baseball-away-49/
CATEGORIES:Athletics
END:VEVENT
BEGIN:VEVENT
DTSTART;TZID=America/New_York:20260317T130000
DTEND;TZID=America/New_York:20260317T170000
DTSTAMP:20260422T071803
CREATED:20260127T202554Z
LAST-MODIFIED:20260312T175232Z
UID:10004770-1773752400-1773766800@www.faytechcc.edu
SUMMARY:Softball (Home)
DESCRIPTION:Softball is hosting Genesee for a doubleheader starting at 1PM. All home games are $10 admission and played at JP Riddle Complex: 2823 Legion Rd.
URL:https://www.faytechcc.edu/event/softball-home-21/
CATEGORIES:Athletics
END:VEVENT
BEGIN:VEVENT
DTSTART;TZID=America/New_York:20260318T140000
DTEND;TZID=America/New_York:20260318T170000
DTSTAMP:20260422T071803
CREATED:20260127T202459Z
LAST-MODIFIED:20260317T130546Z
UID:10004769-1773842400-1773853200@www.faytechcc.edu
SUMMARY:Baseball (Away)
DESCRIPTION:Baseball is traveling to Rockingham for a single game at 2PM. 
URL:https://www.faytechcc.edu/event/baseball-away-50/
CATEGORIES:Athletics
END:VEVENT
BEGIN:VEVENT
DTSTART;TZID=America/New_York:20260321T120000
DTEND;TZID=America/New_York:20260321T180000
DTSTAMP:20260422T071803
CREATED:20260127T202654Z
LAST-MODIFIED:20260313T130050Z
UID:10004771-1774094400-1774116000@www.faytechcc.edu
SUMMARY:Baseball (Home)
DESCRIPTION:Baseball is hosting Southeastern-Whiteville for a doubleheader starting at noon.  All home games are $10 admission and played at JP Riddle Stadium: 2823 Legion Rd.
URL:https://www.faytechcc.edu/event/baseball-home-youth-day/
CATEGORIES:Athletics
END:VEVENT
BEGIN:VEVENT
DTSTART;TZID=America/New_York:20260321T130000
DTEND;TZID=America/New_York:20260321T170000
DTSTAMP:20260422T071803
CREATED:20260127T202740Z
LAST-MODIFIED:20260127T202740Z
UID:10004772-1774098000-1774112400@www.faytechcc.edu
SUMMARY:Softball (Away)
DESCRIPTION:Softball is traveling to Richard Bland for a doubleheader starting at 1PM. 
URL:https://www.faytechcc.edu/event/softball-away-25/
CATEGORIES:Athletics
END:VEVENT
BEGIN:VEVENT
DTSTART;TZID=America/New_York:20260322T130000
DTEND;TZID=America/New_York:20260322T160000
DTSTAMP:20260422T071803
CREATED:20260127T202830Z
LAST-MODIFIED:20260127T202830Z
UID:10004773-1774184400-1774195200@www.faytechcc.edu
SUMMARY:Baseball (Home)
DESCRIPTION:Baseball is hosting Southeastern-Whiteville for game three of their series starting at 1PM. All home games are $10 admission and played at JP Riddle Stadium: 2823 Legion Rd.
URL:https://www.faytechcc.edu/event/baseball-home-52/
CATEGORIES:Athletics
END:VEVENT
BEGIN:VEVENT
DTSTART;TZID=America/New_York:20260325T153000
DTEND;TZID=America/New_York:20260325T183000
DTSTAMP:20260422T071803
CREATED:20260127T203001Z
LAST-MODIFIED:20260127T203001Z
UID:10004774-1774452600-1774463400@www.faytechcc.edu
SUMMARY:Baseball (Away)
DESCRIPTION:Baseball is traveling to Robeson for a single conference game at 3:30PM.
URL:https://www.faytechcc.edu/event/baseball-away-51/
CATEGORIES:Athletics
END:VEVENT
BEGIN:VEVENT
DTSTART;TZID=America/New_York:20260326T130000
DTEND;TZID=America/New_York:20260326T170000
DTSTAMP:20260422T071803
CREATED:20260127T203115Z
LAST-MODIFIED:20260318T185407Z
UID:10004775-1774530000-1774544400@www.faytechcc.edu
SUMMARY:Softball (Home)
DESCRIPTION:Softball is hosting Brunswick for a doubleheader starting at 1PM.  All home games are $10 admission and played at JP Riddle Complex: 2823 Legion Rd.
URL:https://www.faytechcc.edu/event/softball-home-autism-awareness-game/
CATEGORIES:Athletics
END:VEVENT
BEGIN:VEVENT
DTSTART;TZID=America/New_York:20260327T120000
DTEND;TZID=America/New_York:20260327T180000
DTSTAMP:20260422T071803
CREATED:20260127T203202Z
LAST-MODIFIED:20260327T121450Z
UID:10004776-1774612800-1774634400@www.faytechcc.edu
SUMMARY:Baseball (Away)
DESCRIPTION:Baseball is traveling to Lenoir for a doubleheader starting at noon. 
URL:https://www.faytechcc.edu/event/baseball-away-52/
CATEGORIES:Athletics
END:VEVENT
BEGIN:VEVENT
DTSTART;TZID=America/New_York:20260327T130000
DTEND;TZID=America/New_York:20260327T170000
DTSTAMP:20260422T071803
CREATED:20260318T185314Z
LAST-MODIFIED:20260318T185314Z
UID:10007116-1774616400-1774630800@www.faytechcc.edu
SUMMARY:Softball (Home)
DESCRIPTION:Softball is hosting USC-Union for a doubleheader starting at 1PM. All home games are $10 admission (free with FTCC ID or children 12 & under) and are played at JP Riddle Complex: 2823 Legion Rd.
URL:https://www.faytechcc.edu/event/softball-home-25/
CATEGORIES:Athletics
END:VEVENT
BEGIN:VEVENT
DTSTART;TZID=America/New_York:20260328T130000
DTEND;TZID=America/New_York:20260328T160000
DTSTAMP:20260422T071803
CREATED:20260127T203339Z
LAST-MODIFIED:20260327T121523Z
UID:10004778-1774702800-1774713600@www.faytechcc.edu
SUMMARY:Baseball (Away)
DESCRIPTION:Baseball is traveling back to Lenoir for game three of their series at 2PM.
URL:https://www.faytechcc.edu/event/baseball-away-53/
CATEGORIES:Athletics
END:VEVENT
BEGIN:VEVENT
DTSTART;TZID=America/New_York:20260329T120000
DTEND;TZID=America/New_York:20260329T180000
DTSTAMP:20260422T071803
CREATED:20260127T203251Z
LAST-MODIFIED:20260127T203251Z
UID:10004777-1774785600-1774807200@www.faytechcc.edu
SUMMARY:Softball (Home)
DESCRIPTION:Softball is hosting Cleveland for a doubleheader starting at noon. All home games are $10 admission and played at JP Riddle Complex: 2823 Legion Rd.
URL:https://www.faytechcc.edu/event/softball-home-22/
CATEGORIES:Athletics
END:VEVENT
BEGIN:VEVENT
DTSTART;TZID=America/New_York:20260401T153000
DTEND;TZID=America/New_York:20260401T183000
DTSTAMP:20260422T071803
CREATED:20260127T203424Z
LAST-MODIFIED:20260127T203424Z
UID:10004779-1775057400-1775068200@www.faytechcc.edu
SUMMARY:Baseball (Home)
DESCRIPTION:Baseball is hosting Robeson for a single game at 3:30PM. All home games are $10 admission and played at JP Riddle Stadium: 2823 Legion Rd.
URL:https://www.faytechcc.edu/event/baseball-home-53/
CATEGORIES:Athletics
END:VEVENT
BEGIN:VEVENT
DTSTART;TZID=America/New_York:20260401T160000
DTEND;TZID=America/New_York:20260401T200000
DTSTAMP:20260422T071803
CREATED:20260127T203516Z
LAST-MODIFIED:20260127T203516Z
UID:10004780-1775059200-1775073600@www.faytechcc.edu
SUMMARY:Softball (Away)
DESCRIPTION:Softball is traveling to Louisburg for a doubleheader starting at 4PM.
URL:https://www.faytechcc.edu/event/softball-away-26/
CATEGORIES:Athletics
END:VEVENT
BEGIN:VEVENT
DTSTART;TZID=America/New_York:20260403T130000
DTEND;TZID=America/New_York:20260403T190000
DTSTAMP:20260422T071803
CREATED:20260127T203608Z
LAST-MODIFIED:20260127T203608Z
UID:10004781-1775221200-1775242800@www.faytechcc.edu
SUMMARY:Baseball (Home)
DESCRIPTION:Baseball is hosting Bryant & Stratton for a doubleheader starting at 1PM. All home games are $10 admission and played at JP Riddle Stadium: 2823 Legion Rd.
URL:https://www.faytechcc.edu/event/baseball-home-54/
CATEGORIES:Athletics
END:VEVENT
BEGIN:VEVENT
DTSTART;TZID=America/New_York:20260404T130000
DTEND;TZID=America/New_York:20260404T160000
DTSTAMP:20260422T071803
CREATED:20260127T203657Z
LAST-MODIFIED:20260127T203657Z
UID:10004782-1775307600-1775318400@www.faytechcc.edu
SUMMARY:Baseball (Home)
DESCRIPTION:Baseball is hosting Bryant & Stratton for game three of their series at 1PM. All home games are $10 admission and played at JP Riddle Stadium: 2823 Legion Rd.
URL:https://www.faytechcc.edu/event/baseball-home-55/
CATEGORIES:Athletics
END:VEVENT
BEGIN:VEVENT
DTSTART;TZID=America/New_York:20260407T150000
DTEND;TZID=America/New_York:20260407T180000
DTSTAMP:20260422T071803
CREATED:20260127T203742Z
LAST-MODIFIED:20260127T203742Z
UID:10004783-1775574000-1775584800@www.faytechcc.edu
SUMMARY:Softball (Away)
DESCRIPTION:Softball is traveling to Brunswick for a doubleheader starting at 3PM. 
URL:https://www.faytechcc.edu/event/softball-away-27/
CATEGORIES:Athletics
END:VEVENT
BEGIN:VEVENT
DTSTART;TZID=America/New_York:20260408T180000
DTEND;TZID=America/New_York:20260408T210000
DTSTAMP:20260422T071803
CREATED:20260127T203832Z
LAST-MODIFIED:20260127T203832Z
UID:10004784-1775671200-1775682000@www.faytechcc.edu
SUMMARY:Baseball (Away)
DESCRIPTION:Baseball is traveling to Robeson for a single game at 6PM. 
URL:https://www.faytechcc.edu/event/baseball-away-54/
CATEGORIES:Athletics
END:VEVENT
END:VCALENDAR