BEGIN:VCALENDAR
VERSION:2.0
PRODID:-//Fayetteville Technical Community College - ECPv6.15.9//NONSGML v1.0//EN
CALSCALE:GREGORIAN
METHOD:PUBLISH
X-WR-CALNAME:Fayetteville Technical Community College
X-ORIGINAL-URL:https://www.faytechcc.edu
X-WR-CALDESC:Events for Fayetteville Technical Community College
REFRESH-INTERVAL;VALUE=DURATION:PT1H
X-Robots-Tag:noindex
X-PUBLISHED-TTL:PT1H
BEGIN:VTIMEZONE
TZID:America/New_York
BEGIN:DAYLIGHT
TZOFFSETFROM:-0500
TZOFFSETTO:-0400
TZNAME:EDT
DTSTART:20250309T070000
END:DAYLIGHT
BEGIN:STANDARD
TZOFFSETFROM:-0400
TZOFFSETTO:-0500
TZNAME:EST
DTSTART:20251102T060000
END:STANDARD
BEGIN:DAYLIGHT
TZOFFSETFROM:-0500
TZOFFSETTO:-0400
TZNAME:EDT
DTSTART:20260308T070000
END:DAYLIGHT
BEGIN:STANDARD
TZOFFSETFROM:-0400
TZOFFSETTO:-0500
TZNAME:EST
DTSTART:20261101T060000
END:STANDARD
BEGIN:DAYLIGHT
TZOFFSETFROM:-0500
TZOFFSETTO:-0400
TZNAME:EDT
DTSTART:20270314T070000
END:DAYLIGHT
BEGIN:STANDARD
TZOFFSETFROM:-0400
TZOFFSETTO:-0500
TZNAME:EST
DTSTART:20271107T060000
END:STANDARD
END:VTIMEZONE
BEGIN:VEVENT
DTSTART;TZID=America/New_York:20260226T120000
DTEND;TZID=America/New_York:20260226T160000
DTSTAMP:20260425T081948
CREATED:20260105T183539Z
LAST-MODIFIED:20260105T183539Z
UID:10004524-1772107200-1772121600@www.faytechcc.edu
SUMMARY:Softball (Away)
DESCRIPTION:Softball is traveling to North Myrtle Beach to play a doubleheader against Frederick Community College starting at noon.
URL:https://www.faytechcc.edu/event/softball-away-23/
CATEGORIES:Athletics
END:VEVENT
BEGIN:VEVENT
DTSTART;TZID=America/New_York:20260226T150000
DTEND;TZID=America/New_York:20260226T180000
DTSTAMP:20260425T081948
CREATED:20260127T151142Z
LAST-MODIFIED:20260127T151142Z
UID:10004742-1772118000-1772128800@www.faytechcc.edu
SUMMARY:Baseball (Away)
DESCRIPTION:Baseball is traveling to Myrtle Beach\, SC to play a game against Danville Area CC at Ripken Field with a 3PM start time. 
URL:https://www.faytechcc.edu/event/baseball-away-8/
CATEGORIES:Athletics
END:VEVENT
BEGIN:VEVENT
DTSTART;TZID=America/New_York:20260226T163000
DTEND;TZID=America/New_York:20260226T183000
DTSTAMP:20260425T081948
CREATED:20250910T143754Z
LAST-MODIFIED:20250910T143754Z
UID:10003735-1772123400-1772130600@www.faytechcc.edu
SUMMARY:Women's Basketball (Away)
DESCRIPTION:Women’s Basketball is traveling to Louisburg College for their last game of the regular season at 4:30pm. 
URL:https://www.faytechcc.edu/event/womens-basketball-away-19/
CATEGORIES:Athletics
END:VEVENT
BEGIN:VEVENT
DTSTART;TZID=America/New_York:20260226T183000
DTEND;TZID=America/New_York:20260226T203000
DTSTAMP:20260425T081948
CREATED:20250911T141600Z
LAST-MODIFIED:20250911T141600Z
UID:10003766-1772130600-1772137800@www.faytechcc.edu
SUMMARY:Men's Basketball (Away)
DESCRIPTION:Men’s Basketball is traveling to Louisburg College for their last game of the regular season at 6:30PM.
URL:https://www.faytechcc.edu/event/mens-basketball-away-18/
CATEGORIES:Athletics
END:VEVENT
END:VCALENDAR