BEGIN:VCALENDAR
VERSION:2.0
PRODID:-//Fayetteville Technical Community College - ECPv6.15.9//NONSGML v1.0//EN
CALSCALE:GREGORIAN
METHOD:PUBLISH
X-WR-CALNAME:Fayetteville Technical Community College
X-ORIGINAL-URL:https://www.faytechcc.edu
X-WR-CALDESC:Events for Fayetteville Technical Community College
REFRESH-INTERVAL;VALUE=DURATION:PT1H
X-Robots-Tag:noindex
X-PUBLISHED-TTL:PT1H
BEGIN:VTIMEZONE
TZID:America/New_York
BEGIN:DAYLIGHT
TZOFFSETFROM:-0500
TZOFFSETTO:-0400
TZNAME:EDT
DTSTART:20250309T070000
END:DAYLIGHT
BEGIN:STANDARD
TZOFFSETFROM:-0400
TZOFFSETTO:-0500
TZNAME:EST
DTSTART:20251102T060000
END:STANDARD
BEGIN:DAYLIGHT
TZOFFSETFROM:-0500
TZOFFSETTO:-0400
TZNAME:EDT
DTSTART:20260308T070000
END:DAYLIGHT
BEGIN:STANDARD
TZOFFSETFROM:-0400
TZOFFSETTO:-0500
TZNAME:EST
DTSTART:20261101T060000
END:STANDARD
BEGIN:DAYLIGHT
TZOFFSETFROM:-0500
TZOFFSETTO:-0400
TZNAME:EDT
DTSTART:20270314T070000
END:DAYLIGHT
BEGIN:STANDARD
TZOFFSETFROM:-0400
TZOFFSETTO:-0500
TZNAME:EST
DTSTART:20271107T060000
END:STANDARD
END:VTIMEZONE
BEGIN:VEVENT
DTSTART;TZID=America/New_York:20260211T160000
DTEND;TZID=America/New_York:20260211T190000
DTSTAMP:20260425T030739
CREATED:20260127T200447Z
LAST-MODIFIED:20260211T164127Z
UID:10004749-1770825600-1770836400@www.faytechcc.edu
SUMMARY:Cancelled: Baseball (Home)
DESCRIPTION:The game has been cancelled due to the rain. \nBaseball is hosting Florence-Darlington for a single game at 4PM. All home games are $10 admission and played at JP Riddle Stadium: 2823 Legion Rd. 
URL:https://www.faytechcc.edu/event/baseball-home-11/
CATEGORIES:Athletics
END:VEVENT
BEGIN:VEVENT
DTSTART;TZID=America/New_York:20260211T173000
DTEND;TZID=America/New_York:20260211T193000
DTSTAMP:20260425T030739
CREATED:20250910T143407Z
LAST-MODIFIED:20260205T165710Z
UID:10003731-1770831000-1770838200@www.faytechcc.edu
SUMMARY:Women's Basketball (Home)
DESCRIPTION:Women’s Basketball is hosting Cleveland for a conference game at 5:30pm. All home games are played at Reid Ross Classical School: 3200 Ramsey Street. Admission is $10\, free with FTCC ID.
URL:https://www.faytechcc.edu/event/womens-basketball-home-27/
CATEGORIES:Athletics
END:VEVENT
BEGIN:VEVENT
DTSTART;TZID=America/New_York:20260211T190000
DTEND;TZID=America/New_York:20260211T210000
DTSTAMP:20260425T030739
CREATED:20250911T141058Z
LAST-MODIFIED:20250911T141058Z
UID:10003760-1770836400-1770843600@www.faytechcc.edu
SUMMARY:Men's Basketball (Away)
DESCRIPTION:Men’s Basketball is traveling to Guilford Tech for a conference game at 7PM.
URL:https://www.faytechcc.edu/event/mens-basketball-away-15/
CATEGORIES:Athletics
END:VEVENT
END:VCALENDAR